Workbook

Sheet USM_siatka9_SN
K2: Załącznik nr 3 do uchwały nr 5/478 Senatu PBŚ z dnia 23 lutego 2023 r.
C3: ='nie dot 1'!C3 -> PLAN STUDIÓW NR IX | AB3: Konsultacje
A4: WYDZIAŁ ZARZĄDZANIA | AB4: =SUM(AB15:AB89) -> 165 | AC4: A+B+C
AD5: razem | AE5: brakuje:
C6: PROFIL KSZTAŁCENIA: | G6: PROFIL OGÓLNOAKADEMICKI | AB6: =SUM(AB128:AB136) -> 165 | AC6: D1 | AD6: =$AB$4+AB6 -> 330 | AE6: =Informacje_SN!$K$7-USM_siatka9_SN!AD6 -> -55
C7: POZIOM STUDIÓW: | G7: STUDIA DRUGIEGO STOPNIA 2-LETNIE | AB7: =SUM(AB177:AB183) -> 140 | AC7: D2 | AD7: =$AB$4+AB7 -> 305 | AE7: =Informacje_SN!$K$7-USM_siatka9_SN!AD7 -> -30
C8: FORMA STUDIÓW: | G8: STUDIA NIESTACJONARNE | AB8: =SUM(AB224:AB230) -> 170 | AC8: D3 | AD8: =$AB$4+AB8 -> 335 | AE8: =Informacje_SN!$K$7-USM_siatka9_SN!AD8 -> -60
C9: KIERUNEK: | G9: ZARZĄDZANIE | AB9: =SUM(AB271:AB277) -> 110 | AC9: D4 | AD9: =$AB$4+AB9 -> 275 | AE9: =Informacje_SN!$K$7-USM_siatka9_SN!AD9 -> 0
C10: SPECJALNOŚĆ: | G10: ='nie dot 1'!G10 -> ZARZĄDZANIE W GOSPODARCE CYFROWEJ
G11: ='nie dot 1'!G11 -> ZARZĄDZANIE LOGISTYKĄ
G12: ='nie dot 1'!G12 -> NOWOCZESNY MARKETING | S12: …………………..
G13: ='nie dot 1'!G13 -> RACHUNKOWOŚĆ DLA MENEDŻERÓW | S13: pieczątka uczelni
A16: Pozycja planu | B16: NAZWA PRZEDMIOTU | C16: Liczba | F16: GODZINY | K16: ROZKŁAD ZAJĘĆ W SEMESTRZE
F17: Razem | G17: w tym | K17: sem. I | O17: sem. II | S17: sem. III | W17: sem. IV
C18: egzami-nów | D18: zali-czeń | E18: pkt. ECTS | G18: W | H18: Ć | I18: L | J18: P / S | K18: Liczba godzin w semestrze
K19: W | L19: Ć | M19: L | N19: P | O19: W | P19: Ć | Q19: L | R19: P | S19: W | T19: Ć | U19: L | V19: P | W19: W | X19: Ć | Y19: L | Z19: P
N20: S | R20: S | V20: S | Z20: S
A21: A. | B21: PRZEDMIOTY PODSTAWOWE
A22: 1. | B22: Język obcy1 | D22: 1 | E22: 2 | F22: =SUM(G22:J22) -> 20 | G22: =(K22+O22+S22+W22) -> 0 | H22: =(L22+P22+T22+X22) -> 0 | I22: =(M22+Q22+U22+Y22) -> 20 | J22: =(N22+R22+V22+Z22) -> 0 | Q22: 20 | AB22: 0
A23: 2. | B23: Kultura i elementy sztuki współczesnej | D23: 2 | E23: 2 | F23: =SUM(G23:J23) -> 20 | G23: =(K23+O23+S23+W23) -> 0 | H23: =(L23+P23+T23+X23) -> 20 | I23: =(M23+Q23+U23+Y23) -> 0 | J23: =(N23+R23+V23+Z23) -> 0 | T23: 20 | AB23: 5
A24: 3. | B24: Koncepcje zarządzania | C24: 1 | D24: 1 | E24: 5 | F24: =SUM(G24:J24) -> 25 | G24: =(K24+O24+S24+W24) -> 15 | H24: =(L24+P24+T24+X24) -> 10 | I24: =(M24+Q24+U24+Y24) -> 0 | J24: =(N24+R24+V24+Z24) -> 0 | O24: 15 | P24: 10 | AB24: 20
A25: 4. | B25: Makroekonomia | C25: 1 | D25: 1 | E25: 6 | F25: =SUM(G25:J25) -> 25 | G25: =(K25+O25+S25+W25) -> 15 | H25: =(L25+P25+T25+X25) -> 10 | I25: =(M25+Q25+U25+Y25) -> 0 | J25: =(N25+R25+V25+Z25) -> 0 | K25: 15 | L25: 10 | AB25: 25
A26: 5. | B26: Prawo cywilne | C26: 1 | D26: 1 | E26: 4 | F26: =SUM(G26:J26) -> 20 | G26: =(K26+O26+S26+W26) -> 10 | H26: =(L26+P26+T26+X26) -> 10 | I26: =(M26+Q26+U26+Y26) -> 0 | J26: =(N26+R26+V26+Z26) -> 0 | K26: 10 | L26: 10 | AB26: 0
A27: 6. | B27: Etyka w zarządzaniu | D27: 2 | E27: 3 | F27: =SUM(G27:J27) -> 20 | G27: =(K27+O27+S27+W27) -> 10 | H27: =(L27+P27+T27+X27) -> 10 | I27: =(M27+Q27+U27+Y27) -> 0 | J27: =(N27+R27+V27+Z27) -> 0 | O27: 10 | P27: 10 | AB27: 10
A28: 7. | B28: Statystyka matematyczna | D28: 2 | E28: 3 | F28: =SUM(G28:J28) -> 15 | G28: =(K28+O28+S28+W28) -> 5 | H28: =(L28+P28+T28+X28) -> 10 | I28: =(M28+Q28+U28+Y28) -> 0 | J28: =(N28+R28+V28+Z28) -> 0 | O28: 5 | P28: 10 | AB28: 0
A29: 8. | B29: Rynek finansowy | C29: 1 | D29: 1 | E29: 5 | F29: =SUM(G29:J29) -> 25 | G29: =(K29+O29+S29+W29) -> 15 | H29: =(L29+P29+T29+X29) -> 10 | I29: =(M29+Q29+U29+Y29) -> 0 | J29: =(N29+R29+V29+Z29) -> 0 | S29: 15 | T29: 10 | AB29: 20
B31: RAZEM | C31: =SUM(C22:C30) -> 4 | D31: =SUM(D22:D30) -> 11 | E31: =SUM(E22:E30) -> 30 | F31: =SUM(F22:F30) -> 170 | G31: =SUM(G22:G30) -> 70 | H31: =SUM(H22:H30) -> 80 | I31: =SUM(I22:I30) -> 20 | J31: =SUM(J22:J30) -> 0 | ... Z31: =SUM(Z22:Z30) -> 0
K32: =SUM(K31:N31) -> 45 | O32: =SUM(O31:R31) -> 80 | S32: =SUM(S31:V31) -> 45 | W32: =SUM(W31:Z31) -> 0 | AA32: =SUM(K32:Z32)=F31 -> TRUE
A33: PODSUMOWANIE ARKUSZA 1 | C33: egzami-nów | D33: zali-czeń | E33: pkt. ECTS | F33: Razem | G33: W | H33: Ć | I33: L | J33: P / S | K33: sem. I | O33: sem. II | S33: sem. III | W33: sem. IV
K34: W | L34: Ć | M34: L | N34: P | O34: W | P34: Ć | Q34: L | R34: P | S34: W | T34: Ć | U34: L | V34: P | W34: W | X34: Ć | Y34: L | Z34: P
N35: S | R35: S | V35: S | Z35: S
C36: =C31 -> 4 | D36: =D31 -> 11 | E36: =E31 -> 30 | F36: =F31 -> 170 | G36: =G31 -> 70 | H36: =H31 -> 80 | I36: =I31 -> 20 | J36: =J31 -> 0 | ... Z36: =Z31 -> 0
K37: =SUM(K36:N36) -> 45 | O37: =SUM(O36:R36) -> 80 | S37: =SUM(S36:V36) -> 45 | W37: =SUM(W36:Z36) -> 0 | AA37: =SUM(K37:Z37)=F36 -> TRUE
C38: Liczba: | F38: egzaminów | K38: =SUM(IF(COUNTA(K22:N22)>0,$C22,0),IF(COUNTA(K23:N23)>0,$C23,0),IF(COUNTA(K24:N24)>0,$C24,0),IF(COUNTA(K25:N25)>0,$C25,0),IF(COUNTA(K26:N26)>0,$C26,0),IF(COUNTA(K27:N27)>0,$C27,0),IF(COUNTA(K28:N28)>0,$C28,0),IF(COUNTA(K29:N29)>0,$C29,0),IF(COUNTA(K30:N30)>0,$C30,0)) -> 2 | O38: =SUM(IF(COUNTA(O22:R22)>0,$C22,0),IF(COUNTA(O23:R23)>0,$C23,0),IF(COUNTA(O24:R24)>0,$C24,0),IF(COUNTA(O25:R25)>0,$C25,0),IF(COUNTA(O26:R26)>0,$C26,0),IF(COUNTA(O27:R27)>0,$C27,0),IF(COUNTA(O28:R28)>0,$C28,0),IF(COUNTA(O29:R29)>0,$C29,0),IF(COUNTA(O30:R30)>0,$C30,0)) -> 1 | S38: =SUM(IF(COUNTA(S22:V22)>0,$C22,0),IF(COUNTA(S23:V23)>0,$C23,0),IF(COUNTA(S24:V24)>0,$C24,0),IF(COUNTA(S25:V25)>0,$C25,0),IF(COUNTA(S26:V26)>0,$C26,0),IF(COUNTA(S27:V27)>0,$C27,0),IF(COUNTA(S28:V28)>0,$C28,0),IF(COUNTA(S29:V29)>0,$C29,0),IF(COUNTA(S30:V30)>0,$C30,0)) -> 1 | W38: =SUM(IF(COUNTA(W22:Z22)>0,$C22,0),IF(COUNTA(W23:Z23)>0,$C23,0),IF(COUNTA(W24:Z24)>0,$C24,0),IF(COUNTA(W25:Z25)>0,$C25,0),IF(COUNTA(W26:Z26)>0,$C26,0),IF(COUNTA(W27:Z27)>0,$C27,0),IF(COUNTA(W28:Z28)>0,$C28,0),IF(COUNTA(W29:Z29)>0,$C29,0),IF(COUNTA(W30:Z30)>0,$C30,0)) -> 0 | AA38: =SUM(K38:Z38) -> 4 | AB38: =C36=AA38 -> TRUE
F39: zaliczeń | K39: =SUM(IF(COUNTA(K22:N22)>0,$D22,0),IF(COUNTA(K23:N23)>0,$D23,0),IF(COUNTA(K24:N24)>0,$D24,0),IF(COUNTA(K25:N25)>0,$D25,0),IF(COUNTA(K26:N26)>0,$D26,0),IF(COUNTA(K27:N27)>0,$D27,0),IF(COUNTA(K28:N28)>0,$D28,0),IF(COUNTA(K29:N29)>0,$D29,0),IF(COUNTA(K30:N30)>0,$D30,0)) -> 2 | O39: =SUM(IF(COUNTA(O22:R22)>0,$D22,0),IF(COUNTA(O23:R23)>0,$D23,0),IF(COUNTA(O24:R24)>0,$D24,0),IF(COUNTA(O25:R25)>0,$D25,0),IF(COUNTA(O26:R26)>0,$D26,0),IF(COUNTA(O27:R27)>0,$D27,0),IF(COUNTA(O28:R28)>0,$D28,0),IF(COUNTA(O29:R29)>0,$D29,0),IF(COUNTA(O30:R30)>0,$D30,0)) -> 6 | S39: =SUM(IF(COUNTA(S22:V22)>0,$D22,0),IF(COUNTA(S23:V23)>0,$D23,0),IF(COUNTA(S24:V24)>0,$D24,0),IF(COUNTA(S25:V25)>0,$D25,0),IF(COUNTA(S26:V26)>0,$D26,0),IF(COUNTA(S27:V27)>0,$D27,0),IF(COUNTA(S28:V28)>0,$D28,0),IF(COUNTA(S29:V29)>0,$D29,0),IF(COUNTA(S30:V30)>0,$D30,0)) -> 3 | W39: =SUM(IF(COUNTA(W22:Z22)>0,$D22,0),IF(COUNTA(W23:Z23)>0,$D23,0),IF(COUNTA(W24:Z24)>0,$D24,0),IF(COUNTA(W25:Z25)>0,$D25,0),IF(COUNTA(W26:Z26)>0,$D26,0),IF(COUNTA(W27:Z27)>0,$D27,0),IF(COUNTA(W28:Z28)>0,$D28,0),IF(COUNTA(W29:Z29)>0,$D29,0),IF(COUNTA(W30:Z30)>0,$D30,0)) -> 0 | AA39: =SUM(K39:Z39) -> 11 | AB39: =AA39=D36 -> TRUE
F40: pkt. ECTS | K40: =SUM(IF(COUNTA(K22:N22)>0,$E22,0),IF(COUNTA(K23:N23)>0,$E23,0),IF(COUNTA(K24:N24)>0,$E24,0),IF(COUNTA(K25:N25)>0,$E25,0),IF(COUNTA(K26:N26)>0,$E26,0),IF(COUNTA(K27:N27)>0,$E27,0),IF(COUNTA(K28:N28)>0,$E28,0),IF(COUNTA(K29:N29)>0,$E29,0),IF(COUNTA(K30:N30)>0,$E30,0)) -> 10 | O40: =SUM(IF(COUNTA(O22:R22)>0,$E22,0),IF(COUNTA(O23:R23)>0,$E23,0),IF(COUNTA(O24:R24)>0,$E24,0),IF(COUNTA(O25:R25)>0,$E25,0),IF(COUNTA(O26:R26)>0,$E26,0),IF(COUNTA(O27:R27)>0,$E27,0),IF(COUNTA(O28:R28)>0,$E28,0),IF(COUNTA(O29:R29)>0,$E29,0),IF(COUNTA(O30:R30)>0,$E30,0)) -> 13 | S40: =SUM(IF(COUNTA(S22:V22)>0,$E22,0),IF(COUNTA(S23:V23)>0,$E23,0),IF(COUNTA(S24:V24)>0,$E24,0),IF(COUNTA(S25:V25)>0,$E25,0),IF(COUNTA(S26:V26)>0,$E26,0),IF(COUNTA(S27:V27)>0,$E27,0),IF(COUNTA(S28:V28)>0,$E28,0),IF(COUNTA(S29:V29)>0,$E29,0),IF(COUNTA(S30:V30)>0,$E30,0)) -> 7 | W40: =SUM(IF(COUNTA(W22:Z22)>0,$E22,0),IF(COUNTA(W23:Z23)>0,$E23,0),IF(COUNTA(W24:Z24)>0,$E24,0),IF(COUNTA(W25:Z25)>0,$E25,0),IF(COUNTA(W26:Z26)>0,$E26,0),IF(COUNTA(W27:Z27)>0,$E27,0),IF(COUNTA(W28:Z28)>0,$E28,0),IF(COUNTA(W29:Z29)>0,$E29,0),IF(COUNTA(W30:Z30)>0,$E30,0)) -> 0 | AA40: =SUM(K40:Z40) -> 30 | AB40: =AA40=E36 -> TRUE
A42: Uwagi: | P42: Obowiązuje od roku akademickiego: | V42: 2023/2024
B43: 1. Język obcy do wyboru spośród: 1. Język angielski. 2. Język niemiecki. 3. Język rosyjski.
B44: 2. Studentów obowiązuje zaliczenie na ocenę wszystkich przedmiotów.
B45: 3. Warunkiem zaliczenia ostatniego semestru Seminarium dyplomowego jest przygotowanie i złożenie pracy dyplomowej w systemie APD. | P45: Legenda:
B46: 4. Możliwość realizacji metodą synchroniczną wykładów, które zostaną zaplanowane do realizacji w piątki | P46: W | Q46: - wykład
B47: (zgodnie z harmonogramem zjazdów i rozkładem zajęć). | P47: Ć | Q47: - ćwiczenia audytoryjne
P48: L | Q48: - ćwiczenia laboratoryjne, lektorat języków obcych
P49: P | Q49: - ćwiczenia projektowe
P50: S | Q50: - seminarium
P51: T | Q51: - zajęcia terenowe
Q52: - | R52: egzamin
Q53: - | R53: zajęcia realizowane na odległość met. synchroniczną
O55: ARKUSZ 1
C56: =$C$3 -> PLAN STUDIÓW NR IX
A57: WYDZIAŁ ZARZĄDZANIA
C59: PROFIL KSZTAŁCENIA: | G59: =$G$6 -> PROFIL OGÓLNOAKADEMICKI
C60: POZIOM STUDIÓW: | G60: =$G$7 -> STUDIA DRUGIEGO STOPNIA 2-LETNIE
C61: FORMA STUDIÓW: | G61: =$G$8 -> STUDIA NIESTACJONARNE
C62: KIERUNEK: | G62: =$G$9 -> ZARZĄDZANIE
C63: SPECJALNOŚĆ: | G63: =$G$10 -> ZARZĄDZANIE W GOSPODARCE CYFROWEJ
G64: =$G$11 -> ZARZĄDZANIE LOGISTYKĄ
G65: =$G$12 -> NOWOCZESNY MARKETING | S65: …………………..
G66: =$G$13 -> RACHUNKOWOŚĆ DLA MENEDŻERÓW | S66: pieczątka uczelni
A69: Pozycja planu | B69: NAZWA PRZEDMIOTU | C69: Liczba | F69: GODZINY | K69: ROZKŁAD ZAJĘĆ W SEMESTRZE
F70: Razem | G70: w tym | K70: sem. I | O70: sem. II | S70: sem. III | W70: sem. IV
C71: egza-mi-nów | D71: zali-czeń | E71: pkt. ECTS | G71: W | H71: Ć | I71: L | J71: P / S | K71: Liczba godzin w semestrze
K72: W | L72: Ć | M72: L | N72: P | O72: W | P72: Ć | Q72: L | R72: P | S72: W | T72: Ć | U72: L | V72: P | W72: W | X72: Ć | Y72: L | Z72: P
N73: S | R73: S | V73: S | Z73: S
A74: B. | B74: PRZEDMIOTY KIERUNKOWE
A75: 1. | B75: PDW: 1.1 Zarządzanie strategiczne/ 1.2 Strategic Management | C75: 1 | D75: 1 | E75: 5 | F75: =SUM(G75:J75) -> 20 | G75: =(K75+O75+S75+W75) -> 10 | H75: =(L75+P75+T75+X75) -> 10 | I75: =(M75+Q75+U75+Y75) -> 0 | J75: =(N75+R75+V75+Z75) -> 0 | K75: 10 | L75: 10 | AB75: 5
A76: 2. | B76: PDW: 2.1 Zarządzanie procesami/ 2.2 Process management | C76: 1 | D76: 1 | E76: 5 | F76: =SUM(G76:J76) -> 30 | G76: =(K76+O76+S76+W76) -> 10 | H76: =(L76+P76+T76+X76) -> 0 | I76: =(M76+Q76+U76+Y76) -> 0 | J76: =(N76+R76+V76+Z76) -> 20 | S76: 10 | V76: 20 | AB76: 5
A77: 3. | B77: Marketing międzynarodowy | D77: 2 | E77: 2 | F77: =SUM(G77:J77) -> 20 | G77: =(K77+O77+S77+W77) -> 10 | H77: =(L77+P77+T77+X77) -> 10 | I77: =(M77+Q77+U77+Y77) -> 0 | J77: =(N77+R77+V77+Z77) -> 0 | S77: 10 | T77: 10 | AB77: 10
A78: 4. | B78: PDW: 4.1 Rachunkowość zarządcza/ 4.2 Management Accounting | C78: 1 | D78: 1 | E78: 5 | F78: =SUM(G78:J78) -> 30 | G78: =(K78+O78+S78+W78) -> 15 | H78: =(L78+P78+T78+X78) -> 0 | I78: =(M78+Q78+U78+Y78) -> 15 | J78: =(N78+R78+V78+Z78) -> 0 | O78: 15 | Q78: 15 | AB78: 0
A79: 5. | B79: Przedsiębiorczość | D79: 2 | E79: 4 | F79: =SUM(G79:J79) -> 20 | G79: =(K79+O79+S79+W79) -> 10 | H79: =(L79+P79+T79+X79) -> 10 | I79: =(M79+Q79+U79+Y79) -> 0 | J79: =(N79+R79+V79+Z79) -> 0 | K79: 10 | L79: 10 | AB79: 25
A80: 6. | B80: PDW: 6.1 Prawo handlowe/ 6.2 Commercial low | D80: 2 | E80: 4 | F80: =SUM(G80:J80) -> 20 | G80: =(K80+O80+S80+W80) -> 10 | H80: =(L80+P80+T80+X80) -> 10 | I80: =(M80+Q80+U80+Y80) -> 0 | J80: =(N80+R80+V80+Z80) -> 0 | K80: 10 | L80: 10 | AB80: 0
A81: 7. | B81: Negocjacje | D81: 2 | E81: 3 | F81: =SUM(G81:J81) -> 20 | G81: =(K81+O81+S81+W81) -> 10 | H81: =(L81+P81+T81+X81) -> 10 | I81: =(M81+Q81+U81+Y81) -> 0 | J81: =(N81+R81+V81+Z81) -> 0 | S81: 10 | T81: 10 | AB81: 10
A82: 8. | B82: Systemy informacyjne zarządzania | C82: 1 | D82: 1 | E82: 5 | F82: =SUM(G82:J82) -> 25 | G82: =(K82+O82+S82+W82) -> 10 | H82: =(L82+P82+T82+X82) -> 0 | I82: =(M82+Q82+U82+Y82) -> 15 | J82: =(N82+R82+V82+Z82) -> 0 | S82: 10 | U82: 15 | AB82: 5
A83: 9. | B83: Zarządzanie projektami unijnymi | D83: 1 | E83: 2 | F83: =SUM(G83:J83) -> 10 | G83: =(K83+O83+S83+W83) -> 0 | H83: =(L83+P83+T83+X83) -> 10 | I83: =(M83+Q83+U83+Y83) -> 0 | J83: =(N83+R83+V83+Z83) -> 0 | P83: 10 | AB83: 10
A84: 10. | B84: Procesy i struktury sieciowe w gospodarce | D84: 1 | E84: 2 | F84: =SUM(G84:J84) -> 15 | G84: =(K84+O84+S84+W84) -> 15 | H84: =(L84+P84+T84+X84) -> 0 | I84: =(M84+Q84+U84+Y84) -> 0 | J84: =(N84+R84+V84+Z84) -> 0 | S84: 15 | AB84: 5
A85: 11. | B85: Zarys metodologii badań naukowych | D85: 1 | E85: 3 | F85: =SUM(G85:J85) -> 10 | G85: =(K85+O85+S85+W85) -> 10 | H85: =(L85+P85+T85+X85) -> 0 | I85: =(M85+Q85+U85+Y85) -> 0 | J85: =(N85+R85+V85+Z85) -> 0 | K85: 10 | AB85: 10
A86: 12 | B86: PDW: 12.1 Społeczna odpowiedzialność biznesu/ 12.2 Corporate Social Responsibility | D86: 2 | E86: 4 | F86: =SUM(G86:J86) -> 20 | G86: =(K86+O86+S86+W86) -> 10 | H86: =(L86+P86+T86+X86) -> 10 | I86: =15*(M86+Q86+U86+Y86) -> 0 | J86: =15*(N86+R86+V86+Z86) -> 0 | K86: 10 | L86: 10 | AB86: 0
B88: RAZEM | C88: =SUM(C75:C87) -> 4 | D88: =SUM(D75:D87) -> 17 | E88: =SUM(E75:E87) -> 44 | F88: =SUM(F75:F86) -> 240 | G88: =SUM(G75:G86) -> 120 | H88: =SUM(H75:H86) -> 70 | I88: =SUM(I75:I86) -> 30 | J88: =SUM(J75:J86) -> 20 | K88: =SUM(K75:K87) -> 50 | L88: =SUM(L75:L87) -> 40 | M88: =SUM(M75:M87) -> 0 | N88: =SUM(N75:N87) -> 0 | O88: =SUM(O75:O87) -> 15 | P88: =SUM(P75:P87) -> 10 | Q88: =SUM(Q75:Q87) -> 15 | R88: =SUM(R75:R87) -> 0 | ... Z88: =SUM(Z75:Z87) -> 0
K89: =SUM(K88:N88) -> 90 | O89: =SUM(O88:R88) -> 40 | S89: =SUM(S88:V88) -> 110 | W89: =SUM(W88:Z88) -> 0 | AA89: =SUM(K89:Z89)=F88 -> TRUE
A90: PODSUMOWANIE ARKUSZA 1 + 2 | C90: egza-mi-nów | D90: zali-czeń | E90: pkt. ECTS | F90: Razem | G90: W | H90: Ć | I90: L | J90: P / S | K90: sem. I | O90: sem. II | S90: sem. III | W90: sem. IV
K91: W | L91: Ć | M91: L | N91: P | O91: W | P91: Ć | Q91: L | R91: P | S91: W | T91: Ć | U91: L | V91: P | W91: W | X91: Ć | Y91: L | Z91: P
N92: S | R92: S | V92: S | Z92: S
C93: =SUM(C36,C88) -> 8 | D93: =SUM(D36,D88) -> 28 | E93: =SUM(E36,E88) -> 74 | F93: =SUM(F36,F88) -> 410 | G93: =SUM(G36,G88) -> 190 | H93: =SUM(H36,H88) -> 150 | I93: =SUM(I36,I88) -> 50 | J93: =SUM(J36,J88) -> 20 | K93: =SUM(K31,K88) -> 75 | L93: =SUM(L31,L88) -> 60 | M93: =SUM(M31,M88) -> 0 | N93: =SUM(N31,N88) -> 0 | O93: =SUM(O31,O88) -> 45 | P93: =SUM(P31,P88) -> 40 | Q93: =SUM(Q31,Q88) -> 35 | R93: =SUM(R31,R88) -> 0 | ... Z93: =SUM(Z31,Z88) -> 0
K94: =SUM(K93:N93) -> 135 | O94: =SUM(O93:R93) -> 120 | S94: =SUM(S93:V93) -> 155 | W94: =SUM(W93:Z93) -> 0 | AA94: =SUM(K94:Z94)=F93 -> TRUE
C95: Liczba: | F95: egzaminów | K95: =SUM(IF(COUNTA(K75:N75)>0,$C75,0),IF(COUNTA(K76:N76)>0,$C76,0),IF(COUNTA(K77:N77)>0,$C77,0),IF(COUNTA(K78:N78)>0,$C78,0),IF(COUNTA(K79:N79)>0,$C79,0),IF(COUNTA(K80:N80)>0,$C80,0),IF(COUNTA(K81:N81)>0,$C81,0),IF(COUNTA(K82:N82)>0,$C82,0),IF(COUNTA(K83:N83)>0,$C83,0),IF(COUNTA(K84:N84)>0,$C84,0),IF(COUNTA(K85:N85)>0,$C85,0),IF(COUNTA(K86:N86)>0,$C86,0),IF(COUNTA(K87:N87)>0,$C87,0),K38) -> 3 | O95: =SUM(IF(COUNTA(O75:R75)>0,$C75,0),IF(COUNTA(O76:R76)>0,$C76,0),IF(COUNTA(O77:R77)>0,$C77,0),IF(COUNTA(O78:R78)>0,$C78,0),IF(COUNTA(O79:R79)>0,$C79,0),IF(COUNTA(O80:R80)>0,$C80,0),IF(COUNTA(O81:R81)>0,$C81,0),IF(COUNTA(O82:R82)>0,$C82,0),IF(COUNTA(O83:R83)>0,$C83,0),IF(COUNTA(O84:R84)>0,$C84,0),IF(COUNTA(O85:R85)>0,$C85,0),IF(COUNTA(O86:R86)>0,$C86,0),IF(COUNTA(O87:R87)>0,$C87,0),O38) -> 2 | S95: =SUM(IF(COUNTA(S75:V75)>0,$C75,0),IF(COUNTA(S76:V76)>0,$C76,0),IF(COUNTA(S77:V77)>0,$C77,0),IF(COUNTA(S78:V78)>0,$C78,0),IF(COUNTA(S79:V79)>0,$C79,0),IF(COUNTA(S80:V80)>0,$C80,0),IF(COUNTA(S81:V81)>0,$C81,0),IF(COUNTA(S82:V82)>0,$C82,0),IF(COUNTA(S83:V83)>0,$C83,0),IF(COUNTA(S84:V84)>0,$C84,0),IF(COUNTA(S85:V85)>0,$C85,0),IF(COUNTA(S86:V86)>0,$C86,0),IF(COUNTA(S87:V87)>0,$C87,0),S38) -> 3 | W95: =SUM(IF(COUNTA(W75:Z75)>0,$C75,0),IF(COUNTA(W76:Z76)>0,$C76,0),IF(COUNTA(W77:Z77)>0,$C77,0),IF(COUNTA(W78:Z78)>0,$C78,0),IF(COUNTA(W79:Z79)>0,$C79,0),IF(COUNTA(W80:Z80)>0,$C80,0),IF(COUNTA(W81:Z81)>0,$C81,0),IF(COUNTA(W82:Z82)>0,$C82,0),IF(COUNTA(W83:Z83)>0,$C83,0),IF(COUNTA(W84:Z84)>0,$C84,0),IF(COUNTA(W85:Z85)>0,$C85,0),IF(COUNTA(W86:Z86)>0,$C86,0),IF(COUNTA(W87:Z87)>0,$C87,0),W38) -> 0 | AA95: =SUM(K95:Z95) -> 8 | AB95: =C93=AA95 -> TRUE
F96: zaliczeń | K96: =SUM(IF(COUNTA(K75:N75)>0,$D75,0),IF(COUNTA(K76:N76)>0,$D76,0),IF(COUNTA(K77:N77)>0,$D77,0),IF(COUNTA(K78:N78)>0,$D78,0),IF(COUNTA(K79:N79)>0,$D79,0),IF(COUNTA(K80:N80)>0,$D80,0),IF(COUNTA(K81:N81)>0,$D81,0),IF(COUNTA(K82:N82)>0,$D82,0),IF(COUNTA(K83:N83)>0,$D83,0),IF(COUNTA(K84:N84)>0,$D84,0),IF(COUNTA(K85:N85)>0,$D85,0),IF(COUNTA(K86:N86)>0,$D86,0),IF(COUNTA(K87:N87)>0,$D87,0),K39) -> 10 | O96: =SUM(IF(COUNTA(O75:R75)>0,$D75,0),IF(COUNTA(O76:R76)>0,$D76,0),IF(COUNTA(O77:R77)>0,$D77,0),IF(COUNTA(O78:R78)>0,$D78,0),IF(COUNTA(O79:R79)>0,$D79,0),IF(COUNTA(O80:R80)>0,$D80,0),IF(COUNTA(O81:R81)>0,$D81,0),IF(COUNTA(O82:R82)>0,$D82,0),IF(COUNTA(O83:R83)>0,$D83,0),IF(COUNTA(O84:R84)>0,$D84,0),IF(COUNTA(O85:R85)>0,$D85,0),IF(COUNTA(O86:R86)>0,$D86,0),IF(COUNTA(O87:R87)>0,$D87,0),O39) -> 8 | S96: =SUM(IF(COUNTA(S75:V75)>0,$D75,0),IF(COUNTA(S76:V76)>0,$D76,0),IF(COUNTA(S77:V77)>0,$D77,0),IF(COUNTA(S78:V78)>0,$D78,0),IF(COUNTA(S79:V79)>0,$D79,0),IF(COUNTA(S80:V80)>0,$D80,0),IF(COUNTA(S81:V81)>0,$D81,0),IF(COUNTA(S82:V82)>0,$D82,0),IF(COUNTA(S83:V83)>0,$D83,0),IF(COUNTA(S84:V84)>0,$D84,0),IF(COUNTA(S85:V85)>0,$D85,0),IF(COUNTA(S86:V86)>0,$D86,0),IF(COUNTA(S87:V87)>0,$D87,0),S39) -> 10 | W96: =SUM(IF(COUNTA(W75:Z75)>0,$D75,0),IF(COUNTA(W76:Z76)>0,$D76,0),IF(COUNTA(W77:Z77)>0,$D77,0),IF(COUNTA(W78:Z78)>0,$D78,0),IF(COUNTA(W79:Z79)>0,$D79,0),IF(COUNTA(W80:Z80)>0,$D80,0),IF(COUNTA(W81:Z81)>0,$D81,0),IF(COUNTA(W82:Z82)>0,$D82,0),IF(COUNTA(W83:Z83)>0,$D83,0),IF(COUNTA(W84:Z84)>0,$D84,0),IF(COUNTA(W85:Z85)>0,$D85,0),IF(COUNTA(W86:Z86)>0,$D86,0),IF(COUNTA(W87:Z87)>0,$D87,0),W39) -> 0 | AA96: =SUM(K96:Z96) -> 28 | AB96: =AA96=D93 -> TRUE
F97: pkt. ECTS | K97: =SUM(IF(COUNTA(K75:N75)>0,$E75,0),IF(COUNTA(K76:N76)>0,$E76,0),IF(COUNTA(K77:N77)>0,$E77,0),IF(COUNTA(K78:N78)>0,$E78,0),IF(COUNTA(K79:N79)>0,$E79,0),IF(COUNTA(K80:N80)>0,$E80,0),IF(COUNTA(K81:N81)>0,$E81,0),IF(COUNTA(K82:N82)>0,$E82,0),IF(COUNTA(K83:N83)>0,$E83,0),IF(COUNTA(K84:N84)>0,$E84,0),IF(COUNTA(K85:N85)>0,$E85,0),IF(COUNTA(K86:N86)>0,$E86,0),IF(COUNTA(K87:N87)>0,$E87,0),K40) -> 30 | O97: =SUM(IF(COUNTA(O75:R75)>0,$E75,0),IF(COUNTA(O76:R76)>0,$E76,0),IF(COUNTA(O77:R77)>0,$E77,0),IF(COUNTA(O78:R78)>0,$E78,0),IF(COUNTA(O79:R79)>0,$E79,0),IF(COUNTA(O80:R80)>0,$E80,0),IF(COUNTA(O81:R81)>0,$E81,0),IF(COUNTA(O82:R82)>0,$E82,0),IF(COUNTA(O83:R83)>0,$E83,0),IF(COUNTA(O84:R84)>0,$E84,0),IF(COUNTA(O85:R85)>0,$E85,0),IF(COUNTA(O86:R86)>0,$E86,0),IF(COUNTA(O87:R87)>0,$E87,0),O40) -> 20 | S97: =SUM(IF(COUNTA(S75:V75)>0,$E75,0),IF(COUNTA(S76:V76)>0,$E76,0),IF(COUNTA(S77:V77)>0,$E77,0),IF(COUNTA(S78:V78)>0,$E78,0),IF(COUNTA(S79:V79)>0,$E79,0),IF(COUNTA(S80:V80)>0,$E80,0),IF(COUNTA(S81:V81)>0,$E81,0),IF(COUNTA(S82:V82)>0,$E82,0),IF(COUNTA(S83:V83)>0,$E83,0),IF(COUNTA(S84:V84)>0,$E84,0),IF(COUNTA(S85:V85)>0,$E85,0),IF(COUNTA(S86:V86)>0,$E86,0),IF(COUNTA(S87:V87)>0,$E87,0),S40) -> 24 | W97: =SUM(IF(COUNTA(W75:Z75)>0,$E75,0),IF(COUNTA(W76:Z76)>0,$E76,0),IF(COUNTA(W77:Z77)>0,$E77,0),IF(COUNTA(W78:Z78)>0,$E78,0),IF(COUNTA(W79:Z79)>0,$E79,0),IF(COUNTA(W80:Z80)>0,$E80,0),IF(COUNTA(W81:Z81)>0,$E81,0),IF(COUNTA(W82:Z82)>0,$E82,0),IF(COUNTA(W83:Z83)>0,$E83,0),IF(COUNTA(W84:Z84)>0,$E84,0),IF(COUNTA(W85:Z85)>0,$E85,0),IF(COUNTA(W86:Z86)>0,$E86,0),IF(COUNTA(W87:Z87)>0,$E87,0),W40) -> 0 | AA97: =SUM(K97:Z97) -> 74 | AB97: =AA97=E93 -> TRUE
A99: Uwagi: | P99: Obowiązuje od roku akademickiego: | V99: =$V$42 -> 2023/2024
B100: =$B$43 -> 1. Język obcy do wyboru spośród: 1. Język angielski. 2. Język niemiecki. 3. Język rosyjski.
B101: =$B$44 -> 2. Studentów obowiązuje zaliczenie na ocenę wszystkich przedmiotów.
B102: =$B$45 -> 3. Warunkiem zaliczenia ostatniego semestru Seminarium dyplomowego jest przygotowanie i złożenie pracy dyplomowej w systemie APD. | P102: Legenda:
B103: =$B$46 -> 4. Możliwość realizacji metodą synchroniczną wykładów, które zostaną zaplanowane do realizacji w piątki | P103: W | Q103: - wykład
B104: =$B$47 -> (zgodnie z harmonogramem zjazdów i rozkładem zajęć). | P104: Ć | Q104: - ćwiczenia audytoryjne
P105: L | Q105: - ćwiczenia laboratoryjne, lektorat języków obcych
P106: P | Q106: - ćwiczenia projektowe
P107: S | Q107: - seminarium
P108: T | Q108: - zajęcia terenowe
Q109: - | R109: egzamin
Q110: - | R110: zajęcia realizowane na odległość met. synchroniczną
O112: ARKUSZ 2
...

Sheet Informacje_SN
B1: Załącznik nr 3 do uchwały nr 5/478 Senatu PBŚ z dnia 23 lutego 2023 r. | J1: nakład pracy studenta: | K1: 1 ECTS | L1: 25
J2: 0.5 | K2: =L2*L1 -> 1500 | L2: =L5/2 -> 60
K4: godziny | L4: ECTS
A5: Informacje ogólne o programie studiów | J5: łączna liczba z planu studiów | K5: =C13 -> 560 | L5: ='nie dot 1'!E142 -> 120
J6: Przygotowanie i złożenie pracy | L6: ='nie dot 1'!E136 -> 20
A7: KIERUNEK: | B7: ZARZĄDZANIE | J7: konsultacje: | K7: =MIN(USM_siatka9_SN!AD6:AD11) -> 275
A8: PROFIL: | B8: PROFIL OGÓLNOAKADEMICKI | J8: RAZEM MIN | K8: =K5+K7 -> 835
A9: POZIOM STUDIÓW: | B9: STUDIA DRUGIEGO STOPNIA (2-letnie)
A10: FORMA STUDIÓW: | B10: STUDIA NIESTACJONARNE
A13: łączna liczba godzin zajęć dydaktycznych | C13: =USM_siatka9_SN!F142 -> 560 | D13: godz. | F13: =C13/'nie dot'!C13 -> 0.60215054 | G13: % SS (minimum 60%)
A14: łączna liczba pkt. ECTS jaką student musi uzyskać w ramach zajęć prowadzonych z bezpośrednim udziałem NA lub innych osób prowadzących zajęcia (w przypadku studiów stacjonarnych ponad 50% z ogólnej liczby pkt. ECTS) | C14: =K8/L1 -> 33.4 | D14: pkt. ECTS | F14: =C14/L5 -> 0.27833333 | G14: % ECTS
A15: liczba pkt. ECTS jaką student musi uzyskać w ramach zajęć z dziedziny nauk humanistycznych lub nauk społecznych (nie mniej niż 5 pkt. ECTS, nie dotyczy kierunków przyporządkowanych do dziedziny nauk humanistycznych lub nauk społecznych) | C15: ='[1]Podział dyscyplin (plan9)'!$F$90 -> 120 | D15: pkt. ECTS | E15: nauki humanistyczne+społeczne
A16: liczba pkt. ECTS za zajęcia do wyboru (nie mniej niż 30% z ogólnej liczby pkt. ECTS) | C16: =USM_siatka9_SN!E22+USM_siatka9_SN!E137+USM_siatka9_SN!E75+USM_siatka9_SN!E76+USM_siatka9_SN!E78+USM_siatka9_SN!E80+USM_siatka9_SN!E86 -> 71 | D16: pkt. ECTS | E16: specjalnościowe + języki obce+PDW | F16: =C16/$L$5 -> 0.59166667 | G16: % ECTS
A17: zajęcia związane z prowadzoną w uczelni działalnością naukową w dyscyplinie / dyscyplinach, do których przyporządkowano kierunek studiów wskazać wyłącznie dla kierunku o profilu ogólnoakademickim (ponad 50% z ogólnej liczby pkt. ECTS) | C17: ='[1]Podział dyscyplin (plan9)'!$F$93 -> 107 | D17: pkt. ECTS | E17: nauki o zarządzaniu i jakości+ekonomia i finanse | F17: =C17/$L$5 -> 0.89166667 | G17: % ECTS
A18: zajęcia kształtujące umiejętności praktyczne wskazać wyłacznie dla kierunku o profilu praktycznym (ponad 50% z ogólnej liczby pkt. ECTS) | C18: nie dotyczy

Sheet AnalizaSN (2018)
A1: ANALIZA ZGODNOŚCI PLANU STUDIÓW Z WYTYCZNYMI DLA RAD PODSTAWOWYCH JEDNOSTEK ORGANIZACYJNYCH
A2: W SPRAWIE TWORZENIA NOWYCH I WERYFIKACJI ISTNIEJĄCYCH PROGRAMÓW STUDIÓW W UTP
B4: Jednostka prowadząca kierunek studiów | E4: WYDZIAŁ ZARZĄDZANIA
B5: Nazwa kierunku studiów | E5: ZARZĄDZANIE
B6: Rok akademicki, od którego obowiązuje plan studiów | E6: 2015/2016 (specjalności D5 i D6 od 2018/2019)
B7: Numer planu studiów | E7: VII
B8: Forma studiów | E8: NIESTACJONARNE
B9: Poziom studiów | E9: II STOPNIA
B10: OGÓLNA LICZBA GODZIN | E10: =USM_siatka9_SN!#REF! -> #REF! | F10: OGÓLNA LICZBA PKT. ECTS | J10: =USM_siatka9_SN!#REF! -> #REF!
B11: B I L A N S G O D Z I N I P U N K T Ó W E C T S 1
B12: Przedmiot/moduł | F12: Godziny | H12: Pozycje planu | I12: Punkty ECTS
F13: Liczba | G13: % | I13: Liczba | J13: %
B14: Zajęcia z obszaru nauk humanistycznych i nauk społecznych łącznie: | F14: program studiów uwzględnia szereg przedmiotów z zakresu nauk humanistycznych i nauk społecznych
B15: 1. | C15: w tym w zakresie ochrony własności intelektualnej i/lub bezpieczeństwa i higieny pracy 2 | F15: nie dotyczy
B16: 2. | C16: w tym w zakresie podstaw przedsiębiorczości i uzyskiwania tzw. kompetencji miękkich 2 | F16: program studiów uwzględnia szereg przedmiotów z zakresu przedsiębiorczości i uzyskiwania tzw. kompetencji miękkich
B17: 3. | C17: w tym inne zajęcia z zakresu nauk humanistycznych i nauk społecznych, nieujęte w pkt 1 i 2 | F17: program studiów uwzględnia szereg przedmiotów z zakresu nauk humanistycznych i nauk społecznych
B18: Zajęcia z języków obcych | F18: =USM_siatka9_SN!F22 -> 20 | G18: =F18/$E$10 -> #REF! | H18: A.1 | I18: =USM_siatka9_SN!E22 -> 2 | J18: =I18/$J$10 -> #REF!
B19: Zajęcia z wychowania fizycznego | F19: =USM_siatka9_SN!F30 -> 0 | G19: =F19/$E$10 -> #REF! | H19: A.8 | I19: =USM_siatka9_SN!E30 -> 0 | J19: =I19/$J$10 -> #REF!
B20: Zajęcia z technologii informacyjnych 2 | F20: nie dotyczy
B21: Seminarium dyplomowe | F21: =USM_siatka9_SN!F134 -> 20 | G21: =F21/$E$10 -> #REF! | H21: D.1.6, D.2.5, D.3.5, D.4.6, D. 5.5, D. 6.5 | I21: =USM_siatka9_SN!E134 -> 3 | J21: =I21/$J$10 -> #REF!
B22: Praktyka zawodowa 3 | F22: nie dotyczy
B23: Przygotowanie i złożenie pracy dyplomowej oraz przygotowanie do egzaminu dyplomowego | F23: x | G23: x | H23: D.1.7, D.2.6, D.3.6, D.4.7, D. 5.6, D. 6.6 | I23: =USM_siatka9_SN!E136 -> 20 | J23: =I23/$J$10 -> #REF!
B25: Zajęci ogólnouczelniane niezwiązane z kierunkiem studiów lub zajęcia na innym kierunku | F25: =F18+F19 -> 20 | G25: =F25/$E$10 -> #REF! | I25: =I18+I19 -> 2 | J25: =I25/$J$10 -> #REF!
B27: Zajęcia do wyboru (co najmniej 30% ECTS) | F27: =F33 -> 150 | G27: =F27/$E$10 -> #REF! | I27: =I33 -> 46 | J27: =I27/$J$10 -> #REF!
B29: Przedmioty z zakresu nauk podstawowych | F29: =USM_siatka9_SN!#REF! -> #REF! | G29: =F29/$E$10 -> #REF! | I29: =USM_siatka9_SN!#REF! -> #REF! | J29: =I29/$J$10 -> #REF!
B31: Przedmioty kierunkowe | F31: =USM_siatka9_SN!F88 -> 240 | G31: =F31/$E$10 -> #REF! | I31: =USM_siatka9_SN!E88 -> 44 | J31: =I31/$J$10 -> #REF!
B33: Przedmioty specjalnościowe | F33: =USM_siatka9_SN!F137 -> 150 | G33: =F33/$E$10 -> #REF! | I33: =USM_siatka9_SN!E137 -> 46 | J33: =I33/$J$10 -> #REF! | P33: wykłady (min 45%)
B35: Zajęcia o charakterze praktycznym | F35: =N35&"-"&M35 -> #REF! | G35: 52-55% | I35: ='AnalizaSS (2018)'!I35 -> #REF! | J35: ='AnalizaSS (2018)'!J35 -> 93-96% | M35: =$E$10-MIN(USM_siatka9_SN!G142,USM_siatka9_SN!G189,USM_siatka9_SN!G236,USM_siatka9_SN!#REF!) -> #REF! | N35: =$E$10-MAX(USM_siatka9_SN!G142,USM_siatka9_SN!G189,USM_siatka9_SN!G236,USM_siatka9_SN!#REF!) -> #REF! | P35: =MIN(USM_siatka9_SN!G142,USM_siatka9_SN!G189,USM_siatka9_SN!G236,USM_siatka9_SN!#REF!) -> #REF! | Q35: plan | R35: różnica
B37: Zajęcia wymagające bezpośredniego udziału nauczyciela akademickiego | F37: =E10 -> #REF! | G37: =F37/$E$10 -> #REF! | I37: =J10-I23 -> #REF! | J37: =I37/$J$10 -> #REF! | M37: =M35/$E$10 -> #REF! | N37: =N35/$E$10 -> #REF! | P37: =P35/$E$10 -> #REF! | Q37: =E10*0.45 -> #REF! | R37: =P35-Q37 -> #REF!
B39: Zajęcia powiązane z prowadzonymi badaniami naukowymi w dziedzeninie nauki / sztuki związanej z kierunkiem studiów służące zdobywaniu pogłębionej wiedzy i umiejętności prowadzenia badań naukowych 4 | F39: =F31+F33 -> 390 | G39: =F39/$E$10 -> #REF! | I39: =I31+I33 -> 90 | J39: =I39/$J$10 -> #REF!
B41: Zajęcia powiązane z praktycznym przygotowaniem zawodowym służące zdobywaniu umiejętności praktycznych i kompetencji społecznych, prowadzone w warunkach właściwych dla danego zakresu działalności zawodowej, w sposób umożliwiający wykonywanie określonych czynności praktycznych i przez osoby, z których większość posiada doświadczenie zawodowe zdobyte poza uczelnią odpowiadające zakresowi tych zajęć5 | F41: nie dotyczy
B43: Procentowy udział liczby punktów ECTS dla obszarów kształcenia w programie studiów dla kierunków przyporządkowanych do więcej niż jednego obszaru kształcenia
B44: 1. obszar kształcenia w zakresie NAUK SPOŁECZNYCH | I44: 1
B45: 2. obszar kształcenia w zakresie …
B46: 3. obszar kształcenia w zakresie …
B47: ŁĄCZNIE: | I47: 100% pkt. ECTS
B48: 1 w ogólnej liczbie godzin i punktów ECTS przewidzianych w planie studiów
B49: 2 niewymagane dla studiów II stopnia | F49: ……………………………………………
B50: 3 niewymagane na studiach II stopnia o profilu ogólnoakademickim | F50: pieczątka i podpis kierownika samodzielnej jednostki
B51: 4dotyczy jedynie studiów o profilu ogólnoakademickim, wymagana realizacja zajęć powiązanych z prowadzonymi badaniami naukowymi w dziedzinie wyszczególnionej w opisie efektów kształcenia w wymiarze ponad 50% ogólnej liczby pkt. ECTS (wymagane dostosowanie programów prowadzonych kierunków studiów zgodnie z terminem określonym w pkt VII.5 wytycznych Senatu)
B52: 5dotyczy jedynie studiów o profilu praktycznym, wymagana realizacja zajęć powiązanych z praktycznym przygotowaniem zawodowym w wymiarze ponad 50% ogólnej liczby pkt. ECTS (wymagane dostosowanie programów prowadzonych kierunków studiów zgodnie z terminem określonym w pkt VII.5 wytycznych Senatu) | F52: ZATWIERDZAM
F53: ………………………………………………………
F54: Prorektor ds. Dydaktycznych i Studenckich

Sheet nie dot 1
L2: Załącznik nr 3 do uchwały nr …/… Senatu PBŚ z dnia 22 lutego 2023 r.
C3: PLAN STUDIÓW NR IX | AB3: Konsultacje
A4: WYDZIAŁ ZARZĄDZANIA | AB4: =SUM(AB15:AB89) -> 405 | AC4: A+B+C
AD5: razem | AE5: brakuje:
C6: PROFIL KSZTAŁCENIA: | G6: PROFIL OGÓLNOAKADEMICKI | AB6: =SUM(AB128:AB136) -> 165 | AC6: D1 | AD6: =$AB$4+AB6 -> 570 | AE6: ='nie dot'!$K$7-'nie dot 1'!AD6 -> 0
C7: POZIOM STUDIÓW: | G7: STUDIA DRUGIEGO STOPNIA 2-LETNIE | AB7: =SUM(AB177:AB183) -> 165 | AC7: D2 | AD7: =$AB$4+AB7 -> 570 | AE7: ='nie dot'!$K$7-'nie dot 1'!AD7 -> 0
C8: FORMA STUDIÓW: | G8: STUDIA STACJONARNE | AB8: =SUM(AB224:AB231) -> 170 | AC8: D3 | AD8: =$AB$4+AB8 -> 575 | AE8: ='nie dot'!$K$7-'nie dot 1'!AD8 -> -5
C9: KIERUNEK: | G9: ZARZĄDZANIE | AB9: =SUM(AB271:AB277) -> 165 | AC9: D4 | AD9: =$AB$4+AB9 -> 570 | AE9: ='nie dot'!$K$7-'nie dot 1'!AD9 -> 0
C10: SPECJALNOŚĆ: | G10: ZARZĄDZANIE W GOSPODARCE CYFROWEJ
G11: ZARZĄDZANIE LOGISTYKĄ
G12: NOWOCZESNY MARKETING | S12: …………………..
G13: RACHUNKOWOŚĆ DLA MENEDŻERÓW | S13: pieczątka uczelni
A16: Pozycja planu | B16: NAZWA PRZEDMIOTU | C16: Liczba | F16: GODZINY | K16: ROZKŁAD ZAJĘĆ W SEMESTRZE
F17: Razem | G17: w tym | K17: sem. I | O17: sem. II | S17: sem. III | W17: sem. IV
C18: egzami-nów | D18: zali-czeń | E18: pkt. ECTS | G18: W | H18: Ć | I18: L | J18: P / S | K18: Liczba godzin w semestrze
K19: W | L19: Ć | M19: L | N19: P | O19: W | P19: Ć | Q19: L | R19: P | S19: W | T19: Ć | U19: L | V19: P | W19: W | X19: Ć | Y19: L | Z19: P
N20: S | R20: S | V20: S | Z20: S
A21: A. | B21: PRZEDMIOTY PODSTAWOWE
A22: 1. | B22: Język obcy1 | D22: 1 | E22: 2 | F22: =SUM(G22:J22) -> 30 | G22: =K22+O22+S22+W22 -> 0 | H22: =L22+P22+T22+X22 -> 0 | I22: =M22+Q22+U22+Y22 -> 30 | J22: =N22+R22+V22+Z22 -> 0 | Q22: 30 | AB22: 20
A23: 2. | B23: Kultura i elementy sztuki współczesnej | D23: 2 | E23: 2 | F23: =SUM(G23:J23) -> 30 | G23: =K23+O23+S23+W23 -> 15 | H23: =L23+P23+T23+X23 -> 15 | I23: =M23+Q23+U23+Y23 -> 0 | J23: =N23+R23+V23+Z23 -> 0 | S23: 15 | T23: 15 | AB23: 15
A24: 3. | B24: Koncepcje zarządzania | C24: 1 | D24: 1 | E24: 5 | F24: =SUM(G24:J24) -> 45 | G24: =K24+O24+S24+W24 -> 30 | H24: =L24+P24+T24+X24 -> 15 | I24: =M24+Q24+U24+Y24 -> 0 | J24: =N24+R24+V24+Z24 -> 0 | O24: 30 | P24: 15
A25: 4. | B25: Makroekonomia | C25: 1 | D25: 1 | E25: 6 | F25: =SUM(G25:J25) -> 45 | G25: =K25+O25+S25+W25 -> 30 | H25: =L25+P25+T25+X25 -> 15 | I25: =M25+Q25+U25+Y25 -> 0 | J25: =N25+R25+V25+Z25 -> 0 | K25: 30 | L25: 15 | AB25: 25
A26: 5. | B26: Prawo cywilne | C26: 1 | D26: 1 | E26: 4 | F26: =SUM(G26:J26) -> 30 | G26: =K26+O26+S26+W26 -> 15 | H26: =L26+P26+T26+X26 -> 15 | I26: =M26+Q26+U26+Y26 -> 0 | J26: =N26+R26+V26+Z26 -> 0 | K26: 15 | L26: 15 | AB26: 15
A27: 6. | B27: Etyka w zarządzaniu | D27: 2 | E27: 3 | F27: =SUM(G27:J27) -> 30 | G27: =K27+O27+S27+W27 -> 15 | H27: =L27+P27+T27+X27 -> 15 | I27: =M27+Q27+U27+Y27 -> 0 | J27: =N27+R27+V27+Z27 -> 0 | O27: 15 | P27: 15 | AB27: 20
A28: 7. | B28: Statystyka matematyczna | D28: 2 | E28: 3 | F28: =SUM(G28:J28) -> 30 | G28: =K28+O28+S28+W28 -> 15 | H28: =L28+P28+T28+X28 -> 15 | I28: =M28+Q28+U28+Y28 -> 0 | J28: =N28+R28+V28+Z28 -> 0 | O28: 15 | P28: 15 | AB28: 20
A29: 8. | B29: Rynek finansowy | C29: 1 | D29: 1 | E29: 5 | F29: =SUM(G29:J29) -> 45 | G29: =K29+O29+S29+W29 -> 30 | H29: =L29+P29+T29+X29 -> 15 | I29: =M29+Q29+U29+Y29 -> 0 | J29: =N29+R29+V29+Z29 -> 0 | S29: 30 | T29: 15 | AB29: 25
G30: =K30+O30+S30+W30 -> 0 | H30: =L30+P30+T30+X30 -> 0 | I30: =M30+Q30+U30+Y30 -> 0 | J30: =N30+R30+V30+Z30 -> 0
B31: RAZEM | C31: =SUM(C22:C30) -> 4 | D31: =SUM(D22:D30) -> 11 | E31: =SUM(E22:E30) -> 30 | F31: =SUM(F22:F30) -> 285 | G31: =SUM(G22:G30) -> 150 | H31: =SUM(H22:H30) -> 105 | I31: =SUM(I22:I30) -> 30 | J31: =SUM(J22:J30) -> 0 | ... Z31: =SUM(Z22:Z30) -> 0
K32: =SUM(K31:N31) -> 75 | O32: =SUM(O31:R31) -> 135 | S32: =SUM(S31:V31) -> 75 | W32: =SUM(W31:Z31) -> 0 | AA32: =SUM(K32:Z32)=F31 -> TRUE
A33: PODSUMOWANIE ARKUSZA 1 | C33: egzami-nów | D33: zali-czeń | E33: pkt. ECTS | F33: Razem | G33: W | H33: Ć | I33: L | J33: P / S | K33: sem. I | O33: sem. II | S33: sem. III | W33: sem. IV
K34: W | L34: Ć | M34: L | N34: P | O34: W | P34: Ć | Q34: L | R34: P | S34: W | T34: Ć | U34: L | V34: P | W34: W | X34: Ć | Y34: L | Z34: P
N35: S | R35: S | V35: S | Z35: S
C36: =C31 -> 4 | D36: =D31 -> 11 | E36: =E31 -> 30 | F36: =F31 -> 285 | G36: =G31 -> 150 | H36: =H31 -> 105 | I36: =I31 -> 30 | J36: =J31 -> 0 | ... Z36: =Z31 -> 0
K37: =SUM(K36:N36) -> 75 | O37: =SUM(O36:R36) -> 135 | S37: =SUM(S36:V36) -> 75 | W37: =SUM(W36:Z36) -> 0 | AA37: =SUM(K37:Z37)=F36 -> TRUE
C38: Liczba: | F38: egzaminów | K38: =SUM(IF(COUNTA(K22:N22)>0,$C22,0),IF(COUNTA(K23:N23)>0,$C23,0),IF(COUNTA(K24:N24)>0,$C24,0),IF(COUNTA(K25:N25)>0,$C25,0),IF(COUNTA(K26:N26)>0,$C26,0),IF(COUNTA(K27:N27)>0,$C27,0),IF(COUNTA(K28:N28)>0,$C28,0),IF(COUNTA(K29:N29)>0,$C29,0),IF(COUNTA(K30:N30)>0,$C30,0)) -> 2 | O38: =SUM(IF(COUNTA(O22:R22)>0,$C22,0),IF(COUNTA(O23:R23)>0,$C23,0),IF(COUNTA(O24:R24)>0,$C24,0),IF(COUNTA(O25:R25)>0,$C25,0),IF(COUNTA(O26:R26)>0,$C26,0),IF(COUNTA(O27:R27)>0,$C27,0),IF(COUNTA(O28:R28)>0,$C28,0),IF(COUNTA(O29:R29)>0,$C29,0),IF(COUNTA(O30:R30)>0,$C30,0)) -> 1 | S38: =SUM(IF(COUNTA(S22:V22)>0,$C22,0),IF(COUNTA(S23:V23)>0,$C23,0),IF(COUNTA(S24:V24)>0,$C24,0),IF(COUNTA(S25:V25)>0,$C25,0),IF(COUNTA(S26:V26)>0,$C26,0),IF(COUNTA(S27:V27)>0,$C27,0),IF(COUNTA(S28:V28)>0,$C28,0),IF(COUNTA(S29:V29)>0,$C29,0),IF(COUNTA(S30:V30)>0,$C30,0)) -> 1 | W38: =SUM(IF(COUNTA(W22:Z22)>0,$C22,0),IF(COUNTA(W23:Z23)>0,$C23,0),IF(COUNTA(W24:Z24)>0,$C24,0),IF(COUNTA(W25:Z25)>0,$C25,0),IF(COUNTA(W26:Z26)>0,$C26,0),IF(COUNTA(W27:Z27)>0,$C27,0),IF(COUNTA(W28:Z28)>0,$C28,0),IF(COUNTA(W29:Z29)>0,$C29,0),IF(COUNTA(W30:Z30)>0,$C30,0)) -> 0 | AA38: =SUM(K38:Z38) -> 4 | AB38: =C36=AA38 -> TRUE
F39: zaliczeń | K39: =SUM(IF(COUNTA(K22:N22)>0,$D22,0),IF(COUNTA(K23:N23)>0,$D23,0),IF(COUNTA(K24:N24)>0,$D24,0),IF(COUNTA(K25:N25)>0,$D25,0),IF(COUNTA(K26:N26)>0,$D26,0),IF(COUNTA(K27:N27)>0,$D27,0),IF(COUNTA(K28:N28)>0,$D28,0),IF(COUNTA(K29:N29)>0,$D29,0),IF(COUNTA(K30:N30)>0,$D30,0)) -> 2 | O39: =SUM(IF(COUNTA(O22:R22)>0,$D22,0),IF(COUNTA(O23:R23)>0,$D23,0),IF(COUNTA(O24:R24)>0,$D24,0),IF(COUNTA(O25:R25)>0,$D25,0),IF(COUNTA(O26:R26)>0,$D26,0),IF(COUNTA(O27:R27)>0,$D27,0),IF(COUNTA(O28:R28)>0,$D28,0),IF(COUNTA(O29:R29)>0,$D29,0),IF(COUNTA(O30:R30)>0,$D30,0)) -> 6 | S39: =SUM(IF(COUNTA(S22:V22)>0,$D22,0),IF(COUNTA(S23:V23)>0,$D23,0),IF(COUNTA(S24:V24)>0,$D24,0),IF(COUNTA(S25:V25)>0,$D25,0),IF(COUNTA(S26:V26)>0,$D26,0),IF(COUNTA(S27:V27)>0,$D27,0),IF(COUNTA(S28:V28)>0,$D28,0),IF(COUNTA(S29:V29)>0,$D29,0),IF(COUNTA(S30:V30)>0,$D30,0)) -> 3 | W39: =SUM(IF(COUNTA(W22:Z22)>0,$D22,0),IF(COUNTA(W23:Z23)>0,$D23,0),IF(COUNTA(W24:Z24)>0,$D24,0),IF(COUNTA(W25:Z25)>0,$D25,0),IF(COUNTA(W26:Z26)>0,$D26,0),IF(COUNTA(W27:Z27)>0,$D27,0),IF(COUNTA(W28:Z28)>0,$D28,0),IF(COUNTA(W29:Z29)>0,$D29,0),IF(COUNTA(W30:Z30)>0,$D30,0)) -> 0 | AA39: =SUM(K39:Z39) -> 11 | AB39: =AA39=D36 -> TRUE
F40: pkt. ECTS | K40: =SUM(IF(COUNTA(K22:N22)>0,$E22,0),IF(COUNTA(K23:N23)>0,$E23,0),IF(COUNTA(K24:N24)>0,$E24,0),IF(COUNTA(K25:N25)>0,$E25,0),IF(COUNTA(K26:N26)>0,$E26,0),IF(COUNTA(K27:N27)>0,$E27,0),IF(COUNTA(K28:N28)>0,$E28,0),IF(COUNTA(K29:N29)>0,$E29,0),IF(COUNTA(K30:N30)>0,$E30,0)) -> 10 | O40: =SUM(IF(COUNTA(O22:R22)>0,$E22,0),IF(COUNTA(O23:R23)>0,$E23,0),IF(COUNTA(O24:R24)>0,$E24,0),IF(COUNTA(O25:R25)>0,$E25,0),IF(COUNTA(O26:R26)>0,$E26,0),IF(COUNTA(O27:R27)>0,$E27,0),IF(COUNTA(O28:R28)>0,$E28,0),IF(COUNTA(O29:R29)>0,$E29,0),IF(COUNTA(O30:R30)>0,$E30,0)) -> 13 | S40: =SUM(IF(COUNTA(S22:V22)>0,$E22,0),IF(COUNTA(S23:V23)>0,$E23,0),IF(COUNTA(S24:V24)>0,$E24,0),IF(COUNTA(S25:V25)>0,$E25,0),IF(COUNTA(S26:V26)>0,$E26,0),IF(COUNTA(S27:V27)>0,$E27,0),IF(COUNTA(S28:V28)>0,$E28,0),IF(COUNTA(S29:V29)>0,$E29,0),IF(COUNTA(S30:V30)>0,$E30,0)) -> 7 | W40: =SUM(IF(COUNTA(W22:Z22)>0,$E22,0),IF(COUNTA(W23:Z23)>0,$E23,0),IF(COUNTA(W24:Z24)>0,$E24,0),IF(COUNTA(W25:Z25)>0,$E25,0),IF(COUNTA(W26:Z26)>0,$E26,0),IF(COUNTA(W27:Z27)>0,$E27,0),IF(COUNTA(W28:Z28)>0,$E28,0),IF(COUNTA(W29:Z29)>0,$E29,0),IF(COUNTA(W30:Z30)>0,$E30,0)) -> 0 | AA40: =SUM(K40:Z40) -> 30 | AB40: =AA40=E36 -> TRUE
A42: Uwagi: | P42: Obowiązuje od roku akademickiego: | V42: 2023/2024
B43: 1. Język obcy do wyboru spośród: 1. Język angielski. 2. Język niemiecki. 3. Język rosyjski.
B44: 2. Studentów obowiązuje zaliczenie na ocenę wszystkich przedmiotów.
B45: 3. Warunkiem zaliczenia ostatniego semestru Seminarium dyplomowego jest przygotowanie i złożenie pracy dyplomowej w systemie APD. | P45: Legenda:
B46: 4. Możliwość realizacji wybranych wykładów metodą synchroniczną w przypadku studiów w formule „Studiuj i pracuj”. | P46: W | Q46: - wykład
P47: Ć | Q47: - ćwiczenia audytoryjne
P48: L | Q48: - ćwiczenia laboratoryjne, lektorat języków obcych
P49: P | Q49: - ćwiczenia projektowe
P50: S | Q50: - seminarium
P51: T | Q51: - zajęcia terenowe
Q52: - | R52: egzamin
Q53: - | R53: zajęcia realizowane na odległość met. synchroniczną
O55: ARKUSZ 1
C56: =$C$3 -> PLAN STUDIÓW NR IX
A57: WYDZIAŁ ZARZĄDZANIA
C59: PROFIL KSZTAŁCENIA: | G59: =$G$6 -> PROFIL OGÓLNOAKADEMICKI
C60: POZIOM STUDIÓW: | G60: =$G$7 -> STUDIA DRUGIEGO STOPNIA 2-LETNIE
C61: FORMA STUDIÓW: | G61: =$G$8 -> STUDIA STACJONARNE
C62: KIERUNEK: | G62: =$G$9 -> ZARZĄDZANIE
C63: SPECJALNOŚĆ: | G63: =G10 -> ZARZĄDZANIE W GOSPODARCE CYFROWEJ
G64: =G11 -> ZARZĄDZANIE LOGISTYKĄ
G65: =G12 -> NOWOCZESNY MARKETING | S65: …………………..
G66: =G13 -> RACHUNKOWOŚĆ DLA MENEDŻERÓW | S66: pieczątka uczelni
A69: Pozycja planu | B69: NAZWA PRZEDMIOTU | C69: Liczba | F69: GODZINY | K69: ROZKŁAD ZAJĘĆ W SEMESTRZE
F70: Razem | G70: w tym | K70: sem. I | O70: sem. II | S70: sem. III | W70: sem. IV
C71: egza-mi-nów | D71: zali-czeń | E71: pkt. ECTS | G71: W | H71: Ć | I71: L | J71: P / S | K71: =K18 -> Liczba godzin w semestrze
K72: W | L72: Ć | M72: L | N72: P | O72: W | P72: Ć | Q72: L | R72: P | S72: W | T72: Ć | U72: L | V72: P | W72: W | X72: Ć | Y72: L | Z72: P
N73: S | R73: S | V73: S | Z73: S
A74: B. | B74: PRZEDMIOTY KIERUNKOWE
A75: 1. | B75: PDW: 1.1 Zarządzanie strategiczne/ 1.2 Strategic Management | C75: 1 | D75: 1 | E75: 5 | F75: =SUM(G75:J75) -> 30 | G75: =K75+O75+S75+W75 -> 15 | H75: =L75+P75+T75+X75 -> 15 | I75: =M75+Q75+U75+Y75 -> 0 | J75: =N75+R75+V75+Z75 -> 0 | K75: 15 | L75: 15 | AB75: 30
A76: 2. | B76: PDW: 2.1 Zarządzanie procesami/ 2.2 Process management | C76: 1 | D76: 1 | E76: 5 | F76: =SUM(G76:J76) -> 45 | G76: =K76+O76+S76+W76 -> 15 | H76: =L76+P76+T76+X76 -> 0 | I76: =M76+Q76+U76+Y76 -> 0 | J76: =N76+R76+V76+Z76 -> 30 | S76: 15 | V76: 30 | AB76: 30
A77: 3. | B77: Marketing międzynarodowy | D77: 2 | E77: 2 | F77: =SUM(G77:J77) -> 30 | G77: =K77+O77+S77+W77 -> 15 | H77: =L77+P77+T77+X77 -> 15 | I77: =M77+Q77+U77+Y77 -> 0 | J77: =N77+R77+V77+Z77 -> 0 | S77: 15 | T77: 15 | AB77: 10
A78: 4. | B78: PDW: 4.1 Rachunkowość zarządcza/ 4.2 Management Accounting | C78: 1 | D78: 1 | E78: 5 | F78: =SUM(G78:J78) -> 60 | G78: =K78+O78+S78+W78 -> 30 | H78: =L78+P78+T78+X78 -> 0 | I78: =M78+Q78+U78+Y78 -> 30 | J78: =N78+R78+V78+Z78 -> 0 | O78: 30 | Q78: 30 | AB78: 30
A79: 5. | B79: Przedsiębiorczość | D79: 2 | E79: 4 | F79: =SUM(G79:J79) -> 30 | G79: =K79+O79+S79+W79 -> 15 | H79: =L79+P79+T79+X79 -> 15 | I79: =M79+Q79+U79+Y79 -> 0 | J79: =N79+R79+V79+Z79 -> 0 | K79: 15 | L79: 15 | AB79: 25
A80: 6. | B80: PDW: 6.1 Prawo handlowe/ 6.2 Commercial low | D80: 2 | E80: 4 | F80: =SUM(G80:J80) -> 30 | G80: =K80+O80+S80+W80 -> 15 | H80: =L80+P80+T80+X80 -> 15 | I80: =M80+Q80+U80+Y80 -> 0 | J80: =N80+R80+V80+Z80 -> 0 | K80: 15 | L80: 15 | AB80: 20
A81: 7. | B81: Negocjacje | D81: 2 | E81: 3 | F81: =SUM(G81:J81) -> 30 | G81: =K81+O81+S81+W81 -> 15 | H81: =L81+P81+T81+X81 -> 15 | I81: =M81+Q81+U81+Y81 -> 0 | J81: =N81+R81+V81+Z81 -> 0 | S81: 15 | T81: 15 | AB81: 15
A82: 8. | B82: Systemy informacyjne zarządzania | C82: 1 | D82: 1 | E82: 5 | F82: =SUM(G82:J82) -> 45 | G82: =K82+O82+S82+W82 -> 15 | H82: =L82+P82+T82+X82 -> 0 | I82: =M82+Q82+U82+Y82 -> 30 | J82: =N82+R82+V82+Z82 -> 0 | S82: 15 | U82: 30 | AB82: 30
A83: 9. | B83: Zarządzanie projektami unijnymi | D83: 1 | E83: 2 | F83: =SUM(G83:J83) -> 15 | G83: =K83+O83+S83+W83 -> 0 | H83: =L83+P83+T83+X83 -> 15 | I83: =M83+Q83+U83+Y83 -> 0 | J83: =N83+R83+V83+Z83 -> 0 | O83: 0 | P83: 15 | AB83: 15
A84: 10. | B84: Procesy i struktury sieciowe w gospodarce | D84: 1 | E84: 2 | F84: =SUM(G84:J84) -> 30 | G84: =K84+O84+S84+W84 -> 30 | H84: =L84+P84+T84+X84 -> 0 | I84: =M84+Q84+U84+Y84 -> 0 | J84: =N84+R84+V84+Z84 -> 0 | S84: 30 | AB84: 5
A85: 11. | B85: Zarys metodologii badań naukowych | D85: 1 | E85: 3 | F85: =SUM(G85:J85) -> 15 | G85: =K85+O85+S85+W85 -> 15 | H85: =L85+P85+T85+X85 -> 0 | I85: =M85+Q85+U85+Y85 -> 0 | J85: =N85+R85+V85+Z85 -> 0 | K85: 15 | AB85: 25
A86: 12 | B86: PDW: 12.1 Społeczna odpowiedzialność biznesu/ 12.2 Corporate Social Responsibility | D86: 2 | E86: 4 | F86: =SUM(G86:J86) -> 30 | G86: =K86+O86+S86+W86 -> 15 | H86: =L86+P86+T86+X86 -> 15 | I86: =M86+Q86+U86+Y86 -> 0 | J86: =N86+R86+V86+Z86 -> 0 | K86: 15 | L86: 15 | AB86: 30
B88: RAZEM | C88: =SUM(C75:C87) -> 4 | D88: =SUM(D75:D87) -> 17 | E88: =SUM(E75:E87) -> 44 | F88: =SUM(F75:F86) -> 390 | G88: =SUM(G75:G86) -> 195 | H88: =SUM(H75:H86) -> 105 | I88: =SUM(I75:I86) -> 60 | J88: =SUM(J75:J86) -> 30 | K88: =SUM(K75:K87) -> 75 | L88: =SUM(L75:L87) -> 60 | M88: =SUM(M75:M87) -> 0 | N88: =SUM(N75:N87) -> 0 | O88: =SUM(O75:O87) -> 30 | P88: =SUM(P75:P87) -> 15 | Q88: =SUM(Q75:Q87) -> 30 | R88: =SUM(R75:R87) -> 0 | ... Z88: =SUM(Z75:Z87) -> 0
K89: =SUM(K88:N88) -> 135 | O89: =SUM(O88:R88) -> 75 | S89: =SUM(S88:V88) -> 180 | W89: =SUM(W88:Z88) -> 0 | AA89: =SUM(K89:Z89)=F88 -> TRUE
A90: PODSUMOWANIE ARKUSZA 1 + 2 | C90: egza-mi-nów | D90: zali-czeń | E90: pkt. ECTS | F90: Razem | G90: W | H90: Ć | I90: L | J90: P / S | K90: sem. I | O90: sem. II | S90: sem. III | W90: sem. IV
K91: W | L91: Ć | M91: L | N91: P | O91: W | P91: Ć | Q91: L | R91: P | S91: W | T91: Ć | U91: L | V91: P | W91: W | X91: Ć | Y91: L | Z91: P
N92: S | R92: S | V92: S | Z92: S
C93: =SUM(C36,C88) -> 8 | D93: =SUM(D36,D88) -> 28 | E93: =SUM(E36,E88) -> 74 | F93: =SUM(F36,F88) -> 675 | G93: =SUM(G36,G88) -> 345 | H93: =SUM(H36,H88) -> 210 | I93: =SUM(I36,I88) -> 90 | J93: =SUM(J36,J88) -> 30 | K93: =SUM(K31,K88) -> 120 | L93: =SUM(L31,L88) -> 90 | M93: =SUM(M31,M88) -> 0 | N93: =SUM(N31,N88) -> 0 | O93: =SUM(O31,O88) -> 90 | P93: =SUM(P31,P88) -> 60 | Q93: =SUM(Q31,Q88) -> 60 | R93: =SUM(R31,R88) -> 0 | ... Z93: =SUM(Z31,Z88) -> 0
K94: =SUM(K93:N93) -> 210 | O94: =SUM(O93:R93) -> 210 | S94: =SUM(S93:V93) -> 255 | W94: =SUM(W93:Z93) -> 0 | AA94: =SUM(K94:Z94)=F93 -> TRUE
C95: Liczba: | F95: egzaminów | K95: =SUM(IF(COUNTA(K75:N75)>0,$C75,0),IF(COUNTA(K76:N76)>0,$C76,0),IF(COUNTA(K77:N77)>0,$C77,0),IF(COUNTA(K78:N78)>0,$C78,0),IF(COUNTA(K79:N79)>0,$C79,0),IF(COUNTA(K80:N80)>0,$C80,0),IF(COUNTA(K81:N81)>0,$C81,0),IF(COUNTA(K82:N82)>0,$C82,0),IF(COUNTA(K83:N83)>0,$C83,0),IF(COUNTA(K84:N84)>0,$C84,0),IF(COUNTA(K85:N85)>0,$C85,0),IF(COUNTA(K86:N86)>0,$C86,0),IF(COUNTA(K87:N87)>0,$C87,0),K38) -> 3 | O95: =SUM(IF(COUNTA(O75:R75)>0,$C75,0),IF(COUNTA(O76:R76)>0,$C76,0),IF(COUNTA(O77:R77)>0,$C77,0),IF(COUNTA(O78:R78)>0,$C78,0),IF(COUNTA(O79:R79)>0,$C79,0),IF(COUNTA(O80:R80)>0,$C80,0),IF(COUNTA(O81:R81)>0,$C81,0),IF(COUNTA(O82:R82)>0,$C82,0),IF(COUNTA(O83:R83)>0,$C83,0),IF(COUNTA(O84:R84)>0,$C84,0),IF(COUNTA(O85:R85)>0,$C85,0),IF(COUNTA(O86:R86)>0,$C86,0),IF(COUNTA(O87:R87)>0,$C87,0),O38) -> 2 | S95: =SUM(IF(COUNTA(S75:V75)>0,$C75,0),IF(COUNTA(S76:V76)>0,$C76,0),IF(COUNTA(S77:V77)>0,$C77,0),IF(COUNTA(S78:V78)>0,$C78,0),IF(COUNTA(S79:V79)>0,$C79,0),IF(COUNTA(S80:V80)>0,$C80,0),IF(COUNTA(S81:V81)>0,$C81,0),IF(COUNTA(S82:V82)>0,$C82,0),IF(COUNTA(S83:V83)>0,$C83,0),IF(COUNTA(S84:V84)>0,$C84,0),IF(COUNTA(S85:V85)>0,$C85,0),IF(COUNTA(S86:V86)>0,$C86,0),IF(COUNTA(S87:V87)>0,$C87,0),S38) -> 3 | W95: =SUM(IF(COUNTA(W75:Z75)>0,$C75,0),IF(COUNTA(W76:Z76)>0,$C76,0),IF(COUNTA(W77:Z77)>0,$C77,0),IF(COUNTA(W78:Z78)>0,$C78,0),IF(COUNTA(W79:Z79)>0,$C79,0),IF(COUNTA(W80:Z80)>0,$C80,0),IF(COUNTA(W81:Z81)>0,$C81,0),IF(COUNTA(W82:Z82)>0,$C82,0),IF(COUNTA(W83:Z83)>0,$C83,0),IF(COUNTA(W84:Z84)>0,$C84,0),IF(COUNTA(W85:Z85)>0,$C85,0),IF(COUNTA(W86:Z86)>0,$C86,0),IF(COUNTA(W87:Z87)>0,$C87,0),W38) -> 0 | AA95: =SUM(K95:Z95) -> 8 | AB95: =C93=AA95 -> TRUE
F96: zaliczeń | K96: =SUM(IF(COUNTA(K75:N75)>0,$D75,0),IF(COUNTA(K76:N76)>0,$D76,0),IF(COUNTA(K77:N77)>0,$D77,0),IF(COUNTA(K78:N78)>0,$D78,0),IF(COUNTA(K79:N79)>0,$D79,0),IF(COUNTA(K80:N80)>0,$D80,0),IF(COUNTA(K81:N81)>0,$D81,0),IF(COUNTA(K82:N82)>0,$D82,0),IF(COUNTA(K83:N83)>0,$D83,0),IF(COUNTA(K84:N84)>0,$D84,0),IF(COUNTA(K85:N85)>0,$D85,0),IF(COUNTA(K86:N86)>0,$D86,0),IF(COUNTA(K87:N87)>0,$D87,0),K39) -> 10 | O96: =SUM(IF(COUNTA(O75:R75)>0,$D75,0),IF(COUNTA(O76:R76)>0,$D76,0),IF(COUNTA(O77:R77)>0,$D77,0),IF(COUNTA(O78:R78)>0,$D78,0),IF(COUNTA(O79:R79)>0,$D79,0),IF(COUNTA(O80:R80)>0,$D80,0),IF(COUNTA(O81:R81)>0,$D81,0),IF(COUNTA(O82:R82)>0,$D82,0),IF(COUNTA(O83:R83)>0,$D83,0),IF(COUNTA(O84:R84)>0,$D84,0),IF(COUNTA(O85:R85)>0,$D85,0),IF(COUNTA(O86:R86)>0,$D86,0),IF(COUNTA(O87:R87)>0,$D87,0),O39) -> 8 | S96: =SUM(IF(COUNTA(S75:V75)>0,$D75,0),IF(COUNTA(S76:V76)>0,$D76,0),IF(COUNTA(S77:V77)>0,$D77,0),IF(COUNTA(S78:V78)>0,$D78,0),IF(COUNTA(S79:V79)>0,$D79,0),IF(COUNTA(S80:V80)>0,$D80,0),IF(COUNTA(S81:V81)>0,$D81,0),IF(COUNTA(S82:V82)>0,$D82,0),IF(COUNTA(S83:V83)>0,$D83,0),IF(COUNTA(S84:V84)>0,$D84,0),IF(COUNTA(S85:V85)>0,$D85,0),IF(COUNTA(S86:V86)>0,$D86,0),IF(COUNTA(S87:V87)>0,$D87,0),S39) -> 10 | W96: =SUM(IF(COUNTA(W75:Z75)>0,$D75,0),IF(COUNTA(W76:Z76)>0,$D76,0),IF(COUNTA(W77:Z77)>0,$D77,0),IF(COUNTA(W78:Z78)>0,$D78,0),IF(COUNTA(W79:Z79)>0,$D79,0),IF(COUNTA(W80:Z80)>0,$D80,0),IF(COUNTA(W81:Z81)>0,$D81,0),IF(COUNTA(W82:Z82)>0,$D82,0),IF(COUNTA(W83:Z83)>0,$D83,0),IF(COUNTA(W84:Z84)>0,$D84,0),IF(COUNTA(W85:Z85)>0,$D85,0),IF(COUNTA(W86:Z86)>0,$D86,0),IF(COUNTA(W87:Z87)>0,$D87,0),W39) -> 0 | AA96: =SUM(K96:Z96) -> 28 | AB96: =AA96=D93 -> TRUE
F97: pkt. ECTS | K97: =SUM(IF(COUNTA(K75:N75)>0,$E75,0),IF(COUNTA(K76:N76)>0,$E76,0),IF(COUNTA(K77:N77)>0,$E77,0),IF(COUNTA(K78:N78)>0,$E78,0),IF(COUNTA(K79:N79)>0,$E79,0),IF(COUNTA(K80:N80)>0,$E80,0),IF(COUNTA(K81:N81)>0,$E81,0),IF(COUNTA(K82:N82)>0,$E82,0),IF(COUNTA(K83:N83)>0,$E83,0),IF(COUNTA(K84:N84)>0,$E84,0),IF(COUNTA(K85:N85)>0,$E85,0),IF(COUNTA(K86:N86)>0,$E86,0),IF(COUNTA(K87:N87)>0,$E87,0),K40) -> 30 | O97: =SUM(IF(COUNTA(O75:R75)>0,$E75,0),IF(COUNTA(O76:R76)>0,$E76,0),IF(COUNTA(O77:R77)>0,$E77,0),IF(COUNTA(O78:R78)>0,$E78,0),IF(COUNTA(O79:R79)>0,$E79,0),IF(COUNTA(O80:R80)>0,$E80,0),IF(COUNTA(O81:R81)>0,$E81,0),IF(COUNTA(O82:R82)>0,$E82,0),IF(COUNTA(O83:R83)>0,$E83,0),IF(COUNTA(O84:R84)>0,$E84,0),IF(COUNTA(O85:R85)>0,$E85,0),IF(COUNTA(O86:R86)>0,$E86,0),IF(COUNTA(O87:R87)>0,$E87,0),O40) -> 20 | S97: =SUM(IF(COUNTA(S75:V75)>0,$E75,0),IF(COUNTA(S76:V76)>0,$E76,0),IF(COUNTA(S77:V77)>0,$E77,0),IF(COUNTA(S78:V78)>0,$E78,0),IF(COUNTA(S79:V79)>0,$E79,0),IF(COUNTA(S80:V80)>0,$E80,0),IF(COUNTA(S81:V81)>0,$E81,0),IF(COUNTA(S82:V82)>0,$E82,0),IF(COUNTA(S83:V83)>0,$E83,0),IF(COUNTA(S84:V84)>0,$E84,0),IF(COUNTA(S85:V85)>0,$E85,0),IF(COUNTA(S86:V86)>0,$E86,0),IF(COUNTA(S87:V87)>0,$E87,0),S40) -> 24 | W97: =SUM(IF(COUNTA(W75:Z75)>0,$E75,0),IF(COUNTA(W76:Z76)>0,$E76,0),IF(COUNTA(W77:Z77)>0,$E77,0),IF(COUNTA(W78:Z78)>0,$E78,0),IF(COUNTA(W79:Z79)>0,$E79,0),IF(COUNTA(W80:Z80)>0,$E80,0),IF(COUNTA(W81:Z81)>0,$E81,0),IF(COUNTA(W82:Z82)>0,$E82,0),IF(COUNTA(W83:Z83)>0,$E83,0),IF(COUNTA(W84:Z84)>0,$E84,0),IF(COUNTA(W85:Z85)>0,$E85,0),IF(COUNTA(W86:Z86)>0,$E86,0),IF(COUNTA(W87:Z87)>0,$E87,0),W40) -> 0 | AA97: =SUM(K97:Z97) -> 74 | AB97: =AA97=E93 -> TRUE
A99: Uwagi: | P99: Obowiązuje od roku akademickiego: | V99: =$V$42 -> 2023/2024
B100: =$B$43 -> 1. Język obcy do wyboru spośród: 1. Język angielski. 2. Język niemiecki. 3. Język rosyjski.
B101: =$B$44 -> 2. Studentów obowiązuje zaliczenie na ocenę wszystkich przedmiotów.
B102: =$B$45 -> 3. Warunkiem zaliczenia ostatniego semestru Seminarium dyplomowego jest przygotowanie i złożenie pracy dyplomowej w systemie APD. | P102: Legenda:
B103: =$B$46 -> 4. Możliwość realizacji wybranych wykładów metodą synchroniczną w przypadku studiów w formule „Studiuj i pracuj”. | P103: W | Q103: - wykład
P104: Ć | Q104: - ćwiczenia audytoryjne
P105: L | Q105: - ćwiczenia laboratoryjne, lektorat języków obcych
P106: P | Q106: - ćwiczenia projektowe
P107: S | Q107: - seminarium
P108: T | Q108: - zajęcia terenowe
Q109: - | R109: egzamin
Q110: - | R110: zajęcia realizowane na odległość met. synchroniczną
...

Sheet nie dot
B1: Załącznik nr 3 do uchwały nr …/… Senatu PBŚ z dnia 22 lutego 2023 r. | J1: nakład pracy studenta: | K1: 1 ECTS | L1: 25
J2: 0.5 | K2: =L2*L1 -> 1500 | L2: =L5/2 -> 60
K4: godziny | L4: ECTS
A5: Informacje ogólne o programie studiów | J5: łączna liczba z planu studiów | K5: =C13 -> 930 | L5: ='nie dot 1'!E142 -> 120
J6: Przygotowanie i złożenie pracy | L6: ='nie dot 1'!E136 -> 20
A7: KIERUNEK: | B7: ZARZĄDZANIE | J7: konsultacje: | K7: =MIN('nie dot 1'!AD6:AD11) -> 570
A8: PROFIL: | B8: PROFIL OGÓLNOAKADEMICKI | J8: RAZEM MIN | K8: =K5+K7 -> 1500
A9: POZIOM STUDIÓW: | B9: STUDIA DRUGIEGO STOPNIA (2-letnie)
A10: FORMA STUDIÓW: | B10: STUDIA STACJONARNE
A13: łączna liczba godzin zajęć dydaktycznych | C13: ='nie dot 1'!F142 -> 930 | D13: godz.
A14: łączna liczba pkt. ECTS jaką student musi uzyskać w ramach zajęć prowadzonych z bezpośrednim udziałem NA lub innych osób prowadzących zajęcia (w przypadku studiów stacjonarnych ponad 50% z ogólnej liczby pkt. ECTS) | C14: 61 | D14: pkt. ECTS | F14: =C14/L5 -> 0.50833333 | G14: % ECTS
A15: liczba pkt. ECTS jaką student musi uzyskać w ramach zajęć z dziedziny nauk humanistycznych lub nauk społecznych (nie mniej niż 5 pkt. ECTS, nie dotyczy kierunków przyporządkowanych do dziedziny nauk humanistycznych lub nauk społecznych) | C15: ='[1]Podział dyscyplin (plan9)'!$F$90 -> 120 | D15: pkt. ECTS | E15: nauki humanistyczne+społeczne
A16: liczba pkt. ECTS za zajęcia do wyboru (nie mniej niż 30% z ogólnej liczby pkt. ECTS) | C16: ='nie dot 1'!E137+'nie dot 1'!E22+'nie dot 1'!E75+'nie dot 1'!E76+'nie dot 1'!E78+'nie dot 1'!E80+'nie dot 1'!E86 -> 71 | D16: pkt. ECTS | E16: specjalnościowe + języki obce+PDW | F16: =C16/$L$5 -> 0.59166667 | G16: % ECTS
A17: zajęcia związane z prowadzoną w uczelni działalnością naukową w dyscyplinie / dyscyplinach, do których przyporządkowano kierunek studiów wskazać wyłącznie dla kierunku o profilu ogólnoakademickim (ponad 50% z ogólnej liczby pkt. ECTS) | C17: ='[1]Podział dyscyplin (plan9)'!$F$93 -> 107 | D17: pkt. ECTS | E17: nauki o zarządzaniu i jakości+ekonomia i finanse | F17: =C17/$L$5 -> 0.89166667 | G17: % ECTS
A18: zajęcia kształtujące umiejętności praktyczne wskazać wyłacznie dla kierunku o profilu praktycznym (ponad 50% z ogólnej liczby pkt. ECTS) | C18: nie dotyczy

Sheet AnalizaSS (2018)
A1: ANALIZA ZGODNOŚCI PLANU STUDIÓW Z WYTYCZNYMI DLA RAD PODSTAWOWYCH JEDNOSTEK ORGANIZACYJNYCH
A2: W SPRAWIE TWORZENIA NOWYCH I WERYFIKACJI ISTNIEJĄCYCH PROGRAMÓW STUDIÓW W UTP
B4: Jednostka prowadząca kierunek studiów | E4: WYDZIAŁ ZARZĄDZANIA
B5: Nazwa kierunku studiów | E5: ZARZĄDZANIE
B6: Rok akademicki, od którego obowiązuje plan studiów | E6: 2015/2016 (specjalności D5 i D6 od 2018/2019)
B7: Numer planu studiów | E7: VII
B8: Forma studiów | E8: STACJONARNE
B9: Poziom studiów | E9: II STOPNIA
B10: OGÓLNA LICZBA GODZIN | E10: ='nie dot 1'!#REF! -> #REF! | F10: OGÓLNA LICZBA PKT. ECTS | J10: ='nie dot 1'!#REF! -> #REF! | M10: =3/J10 -> #REF!
B11: B I L A N S G O D Z I N I P U N K T Ó W E C T S 1
B12: Przedmiot/moduł | F12: Godziny | H12: Pozycje planu | I12: Punkty ECTS
F13: Liczba | G13: % | I13: Liczba | J13: %
B14: Zajęcia z obszaru nauk humanistycznych i nauk społecznych łącznie: | F14: program studiów uwzględnia szereg przedmiotów z zakresu nauk humanistycznych i nauk społecznych
B15: 1. | C15: w tym w zakresie ochrony własności intelektualnej i/lub bezpieczeństwa i higieny pracy 2 | F15: nie dotyczy
B16: 2. | C16: w tym w zakresie podstaw przedsiębiorczości i uzyskiwania tzw. kompetencji miękkich 2 | F16: program studiów uwzględnia szereg przedmiotów z zakresu przedsiębiorczości i uzyskiwania tzw. kompetencji miękkich
B17: 3. | C17: w tym inne zajęcia z zakresu nauk humanistycznych i nauk społecznych, nieujęte w pkt 1 i 2 | F17: program studiów uwzględnia szereg przedmiotów z zakresu nauk humanistycznych i nauk społecznych
B18: Zajęcia z języków obcych | F18: ='nie dot 1'!F22 -> 30 | G18: =F18/$E$10 -> #REF! | H18: A.1 | I18: ='nie dot 1'!E22 -> 2 | J18: =I18/$J$10 -> #REF!
B19: Zajęcia z wychowania fizycznego | F19: ='nie dot 1'!F30 -> 0 | G19: =F19/$E$10 -> #REF! | H19: A.8 | I19: ='nie dot 1'!E30 -> 0 | J19: =I19/$J$10 -> #REF!
B20: Zajęcia z technologii informacyjnych 2 | F20: nie dotyczy
B21: Seminarium dyplomowe | F21: ='nie dot 1'!F135 -> 90 | G21: =F21/$E$10 -> #REF! | H21: D.1.6, D.2.5, D.3.5, D.4.6, D. 5.5, D. 6.5 | I21: ='nie dot 1'!E135 -> 6 | J21: =I21/$J$10 -> #REF!
B22: Praktyka zawodowa 3 | F22: nie dotyczy
B23: Przygotowanie i złożenie pracy dyplomowej oraz przygotowanie do egzaminu dyplomowego | F23: x | G23: x | H23: D.1.7, D.2.6, D.3.6, D.4.7, D. 5.6, D. 6.6 | I23: ='nie dot 1'!E136 -> 20 | J23: =I23/$J$10 -> #REF!
B25: Zajęci ogólnouczelniane niezwiązane z kierunkiem studiów lub zajęcia na innym kierunku | F25: =F18+F19 -> 30 | G25: =F25/$E$10 -> #REF! | I25: =I18+I19 -> 2 | J25: =I25/$J$10 -> #REF!
B27: Zajęcia do wyboru (co najmniej 30% ECTS) | F27: =F33 -> 255 | G27: =F27/$E$10 -> #REF! | I27: =I33 -> 46 | J27: =I27/$J$10 -> #REF!
B29: Przedmioty z zakresu nauk podstawowych | F29: ='nie dot 1'!#REF! -> #REF! | G29: =F29/$E$10 -> #REF! | I29: ='nie dot 1'!#REF! -> #REF! | J29: =I29/$J$10 -> #REF!
B31: Przedmioty kierunkowe | F31: ='nie dot 1'!F88 -> 390 | G31: =F31/$E$10 -> #REF! | I31: ='nie dot 1'!E88 -> 44 | J31: =I31/$J$10 -> #REF!
B33: Przedmioty specjalnościowe | F33: ='nie dot 1'!F137 -> 255 | G33: =F33/$E$10 -> #REF! | I33: ='nie dot 1'!E137 -> 46 | J33: =I33/$J$10 -> #REF! | R33: wykłady (min 45%)
B35: Zajęcia o charakterze praktycznym | F35: =N35&"-"&M35 -> #REF! | G35: 0.51 | I35: =Q35&"-"&P35 -> #REF! | J35: 93-96% | M35: =$E$10-MIN('nie dot 1'!G142,'nie dot 1'!G189,'nie dot 1'!G237,'nie dot 1'!#REF!) -> #REF! | N35: =$E$10-MAX('nie dot 1'!G142,'nie dot 1'!G189,'nie dot 1'!G237,'nie dot 1'!#REF!) -> #REF! | P35: ='nie dot 1'!#REF!-'nie dot 1'!E85-'nie dot 1'!E84 -> #REF! | Q35: =P35-'nie dot 1'!E181 -> #REF! | R35: =MIN('nie dot 1'!G142,'nie dot 1'!G189,'nie dot 1'!G237,'nie dot 1'!#REF!) -> #REF! | S35: plan | T35: różnica
B37: Zajęcia wymagające bezpośredniego udziału nauczyciela akademickiego | F37: =E10 -> #REF! | G37: =F37/$E$10 -> #REF! | I37: =J10-I22-I23 -> #REF! | J37: =I37/$J$10 -> #REF! | M37: =M35/$E$10 -> #REF! | N37: =N35/$E$10 -> #REF! | P37: =P35/$J$10 -> #REF! | Q37: =Q35/$J$10 -> #REF! | R37: =R35/$E$10 -> #REF! | S37: =E10*0.45 -> #REF! | T37: =R35-S37 -> #REF!
B39: Zajęcia powiązane z prowadzonymi badaniami naukowymi w dziedzeninie nauki / sztuki związanej z kierunkiem studiów służące zdobywaniu pogłębionej wiedzy i umiejętności prowadzenia badań naukowych 4 | F39: =F31+F33 -> 645 | G39: =F39/$E$10 -> #REF! | I39: =I31+I33 -> 90 | J39: =I39/$J$10 -> #REF!
B41: Zajęcia powiązane z praktycznym przygotowaniem zawodowym służące zdobywaniu umiejętności praktycznych i kompetencji społecznych, prowadzone w warunkach właściwych dla danego zakresu działalności zawodowej, w sposób umożliwiający wykonywanie określonych czynności praktycznych i przez osoby, z których większość posiada doświadczenie zawodowe zdobyte poza uczelnią odpowiadające zakresowi tych zajęć5 | F41: nie dotyczy
B43: Procentowy udział liczby punktów ECTS dla obszarów kształcenia w programie studiów dla kierunków przyporządkowanych do więcej niż jednego obszaru kształcenia
B44: 1. obszar kształcenia w zakresie NAUK SPOŁECZNYCH | I44: 1
B45: 2. obszar kształcenia w zakresie …
B46: 3. obszar kształcenia w zakresie …
B47: ŁĄCZNIE: | I47: 100% pkt. ECTS
B48: 1 w ogólnej liczbie godzin i punktów ECTS przewidzianych w planie studiów
B49: 2 niewymagane dla studiów II stopnia | F49: ……………………………………………
B50: 3 niewymagane na studiach II stopnia o profilu ogólnoakademickim | F50: pieczątka i podpis kierownika samodzielnej jednostki
B51: 4dotyczy jedynie studiów o profilu ogólnoakademickim, wymagana realizacja zajęć powiązanych z prowadzonymi badaniami naukowymi w dziedzinie wyszczególnionej w opisie efektów kształcenia w wymiarze ponad 50% ogólnej liczby pkt. ECTS (wymagane dostosowanie programów prowadzonych kierunków studiów zgodnie z terminem określonym w pkt VII.5 wytycznych Senatu)
B52: 5dotyczy jedynie studiów o profilu praktycznym, wymagana realizacja zajęć powiązanych z praktycznym przygotowaniem zawodowym w wymiarze ponad 50% ogólnej liczby pkt. ECTS (wymagane dostosowanie programów prowadzonych kierunków studiów zgodnie z terminem określonym w pkt VII.5 wytycznych Senatu) | F52: ZATWIERDZAM
F53: ………………………………………………………
F54: Prorektor ds. Dydaktycznych i Studenckich
