Workbook

Sheet USM_siatka9_SN
K2: Załącznik nr 3 do uchwały nr 5/478 Senatu PBŚ z dnia 23 lutego 2023 r.
C3: ='nie dot 1'!C3 -> PLAN STUDIÓW NR IX | AB3: Konsultacje
A4: WYDZIAŁ ZARZĄDZANIA | AB4: =SUM(AB15:AB89) -> 165 | AC4: A+B+C
AD5: razem | AE5: brakuje:
C6: PROFIL KSZTAŁCENIA: | G6: PROFIL OGÓLNOAKADEMICKI | AB6: =SUM(AB128:AB136) -> 165 | AC6: D1 | AD6: =$AB$4+AB6 -> 330 | AE6: =Informacje_SN!$K$7-USM_siatka9_SN!AD6 -> -55
C7: POZIOM STUDIÓW: | G7: STUDIA DRUGIEGO STOPNIA 2-LETNIE | AB7: =SUM(AB177:AB183) -> 140 | AC7: D2 | AD7: =$AB$4+AB7 -> 305 | AE7: =Informacje_SN!$K$7-USM_siatka9_SN!AD7 -> -30
C8: FORMA STUDIÓW: | G8: STUDIA NIESTACJONARNE | AB8: =SUM(AB224:AB230) -> 170 | AC8: D3 | AD8: =$AB$4+AB8 -> 335 | AE8: =Informacje_SN!$K$7-USM_siatka9_SN!AD8 -> -60
C9: KIERUNEK: | G9: ZARZĄDZANIE | AB9: =SUM(AB271:AB277) -> 110 | AC9: D4 | AD9: =$AB$4+AB9 -> 275 | AE9: =Informacje_SN!$K$7-USM_siatka9_SN!AD9 -> 0
C10: SPECJALNOŚĆ: | G10: ='nie dot 1'!G10 -> ZARZĄDZANIE W GOSPODARCE CYFROWEJ
G11: ='nie dot 1'!G11 -> ZARZĄDZANIE LOGISTYKĄ
G12: ='nie dot 1'!G12 -> NOWOCZESNY MARKETING | S12: …………………..
G13: ='nie dot 1'!G13 -> RACHUNKOWOŚĆ DLA MENEDŻERÓW | S13: pieczątka uczelni
A16: Pozycja planu | B16: NAZWA PRZEDMIOTU | C16: Liczba | F16: GODZINY | K16: ROZKŁAD ZAJĘĆ W SEMESTRZE
F17: Razem | G17: w tym | K17: sem. I | O17: sem. II | S17: sem. III | W17: sem. IV
C18: egzami-nów | D18: zali-czeń | E18: pkt. ECTS | G18: W | H18: Ć | I18: L | J18: P / S | K18: Liczba godzin w semestrze
K19: W | L19: Ć | M19: L | N19: P | O19: W | P19: Ć | Q19: L | R19: P | S19: W | T19: Ć | U19: L | V19: P | W19: W | X19: Ć | Y19: L | Z19: P
N20: S | R20: S | V20: S | Z20: S
A21: A. | B21: PRZEDMIOTY PODSTAWOWE
A22: 1. | B22: Język obcy1 | D22: 1 | E22: 2 | F22: =SUM(G22:J22) -> 20 | G22: =(K22+O22+S22+W22) -> 0 | H22: =(L22+P22+T22+X22) -> 0 | I22: =(M22+Q22+U22+Y22) -> 20 | J22: =(N22+R22+V22+Z22) -> 0 | Q22: 20 | AB22: 0
A23: 2. | B23: Kultura i elementy sztuki współczesnej | D23: 2 | E23: 2 | F23: =SUM(G23:J23) -> 20 | G23: =(K23+O23+S23+W23) -> 0 | H23: =(L23+P23+T23+X23) -> 20 | I23: =(M23+Q23+U23+Y23) -> 0 | J23: =(N23+R23+V23+Z23) -> 0 | T23: 20 | AB23: 5
A24: 3. | B24: Koncepcje zarządzania | C24: 1 | D24: 1 | E24: 5 | F24: =SUM(G24:J24) -> 25 | G24: =(K24+O24+S24+W24) -> 15 | H24: =(L24+P24+T24+X24) -> 10 | I24: =(M24+Q24+U24+Y24) -> 0 | J24: =(N24+R24+V24+Z24) -> 0 | O24: 15 | P24: 10 | AB24: 20
A25: 4. | B25: Makroekonomia | C25: 1 | D25: 1 | E25: 6 | F25: =SUM(G25:J25) -> 25 | G25: =(K25+O25+S25+W25) -> 15 | H25: =(L25+P25+T25+X25) -> 10 | I25: =(M25+Q25+U25+Y25) -> 0 | J25: =(N25+R25+V25+Z25) -> 0 | K25: 15 | L25: 10 | AB25: 25
A26: 5. | B26: Prawo cywilne | C26: 1 | D26: 1 | E26: 4 | F26: =SUM(G26:J26) -> 20 | G26: =(K26+O26+S26+W26) -> 10 | H26: =(L26+P26+T26+X26) -> 10 | I26: =(M26+Q26+U26+Y26) -> 0 | J26: =(N26+R26+V26+Z26) -> 0 | K26: 10 | L26: 10 | AB26: 0
A27: 6. | B27: Etyka w zarządzaniu | D27: 2 | E27: 3 | F27: =SUM(G27:J27) -> 20 | G27: =(K27+O27+S27+W27) -> 10 | H27: =(L27+P27+T27+X27) -> 10 | I27: =(M27+Q27+U27+Y27) -> 0 | J27: =(N27+R27+V27+Z27) -> 0 | O27: 10 | P27: 10 | AB27: 10
A28: 7. | B28: Statystyka matematyczna | D28: 2 | E28: 3 | F28: =SUM(G28:J28) -> 15 | G28: =(K28+O28+S28+W28) -> 5 | H28: =(L28+P28+T28+X28) -> 10 | I28: =(M28+Q28+U28+Y28) -> 0 | J28: =(N28+R28+V28+Z28) -> 0 | O28: 5 | P28: 10 | AB28: 0
A29: 8. | B29: Rynek finansowy | C29: 1 | D29: 1 | E29: 5 | F29: =SUM(G29:J29) -> 25 | G29: =(K29+O29+S29+W29) -> 15 | H29: =(L29+P29+T29+X29) -> 10 | I29: =(M29+Q29+U29+Y29) -> 0 | J29: =(N29+R29+V29+Z29) -> 0 | S29: 15 | T29: 10 | AB29: 20
B31: RAZEM | C31: =SUM(C22:C30) -> 4 | D31: =SUM(D22:D30) -> 11 | E31: =SUM(E22:E30) -> 30 | F31: =SUM(F22:F30) -> 170 | G31: =SUM(G22:G30) -> 70 | H31: =SUM(H22:H30) -> 80 | I31: =SUM(I22:I30) -> 20 | J31: =SUM(J22:J30) -> 0 | ... Z31: =SUM(Z22:Z30) -> 0
K32: =SUM(K31:N31) -> 45 | O32: =SUM(O31:R31) -> 80 | S32: =SUM(S31:V31) -> 45 | W32: =SUM(W31:Z31) -> 0 | AA32: =SUM(K32:Z32)=F31 -> TRUE
A33: PODSUMOWANIE ARKUSZA 1 | C33: egzami-nów | D33: zali-czeń | E33: pkt. ECTS | F33: Razem | G33: W | H33: Ć | I33: L | J33: P / S | K33: sem. I | O33: sem. II | S33: sem. III | W33: sem. IV
K34: W | L34: Ć | M34: L | N34: P | O34: W | P34: Ć | Q34: L | R34: P | S34: W | T34: Ć | U34: L | V34: P | W34: W | X34: Ć | Y34: L | Z34: P
N35: S | R35: S | V35: S | Z35: S
C36: =C31 -> 4 | D36: =D31 -> 11 | E36: =E31 -> 30 | F36: =F31 -> 170 | G36: =G31 -> 70 | H36: =H31 -> 80 | I36: =I31 -> 20 | J36: =J31 -> 0 | ... Z36: =Z31 -> 0
K37: =SUM(K36:N36) -> 45 | O37: =SUM(O36:R36) -> 80 | S37: =SUM(S36:V36) -> 45 | W37: =SUM(W36:Z36) -> 0 | AA37: =SUM(K37:Z37)=F36 -> TRUE
C38: Liczba: | F38: egzaminów | K38: =SUM(IF(COUNTA(K22:N22)>0,$C22,0),IF(COUNTA(K23:N23)>0,$C23,0),IF(COUNTA(K24:N24)>0,$C24,0),IF(COUNTA(K25:N25)>0,$C25,0),IF(COUNTA(K26:N26)>0,$C26,0),IF(COUNTA(K27:N27)>0,$C27,0),IF(COUNTA(K28:N28)>0,$C28,0),IF(COUNTA(K29:N29)>0,$C29,0),IF(COUNTA(K30:N30)>0,$C30,0)) -> 2 | O38: =SUM(IF(COUNTA(O22:R22)>0,$C22,0),IF(COUNTA(O23:R23)>0,$C23,0),IF(COUNTA(O24:R24)>0,$C24,0),IF(COUNTA(O25:R25)>0,$C25,0),IF(COUNTA(O26:R26)>0,$C26,0),IF(COUNTA(O27:R27)>0,$C27,0),IF(COUNTA(O28:R28)>0,$C28,0),IF(COUNTA(O29:R29)>0,$C29,0),IF(COUNTA(O30:R30)>0,$C30,0)) -> 1 | S38: =SUM(IF(COUNTA(S22:V22)>0,$C22,0),IF(COUNTA(S23:V23)>0,$C23,0),IF(COUNTA(S24:V24)>0,$C24,0),IF(COUNTA(S25:V25)>0,$C25,0),IF(COUNTA(S26:V26)>0,$C26,0),IF(COUNTA(S27:V27)>0,$C27,0),IF(COUNTA(S28:V28)>0,$C28,0),IF(COUNTA(S29:V29)>0,$C29,0),IF(COUNTA(S30:V30)>0,$C30,0)) -> 1 | W38: =SUM(IF(COUNTA(W22:Z22)>0,$C22,0),IF(COUNTA(W23:Z23)>0,$C23,0),IF(COUNTA(W24:Z24)>0,$C24,0),IF(COUNTA(W25:Z25)>0,$C25,0),IF(COUNTA(W26:Z26)>0,$C26,0),IF(COUNTA(W27:Z27)>0,$C27,0),IF(COUNTA(W28:Z28)>0,$C28,0),IF(COUNTA(W29:Z29)>0,$C29,0),IF(COUNTA(W30:Z30)>0,$C30,0)) -> 0 | AA38: =SUM(K38:Z38) -> 4 | AB38: =C36=AA38 -> TRUE
F39: zaliczeń | K39: =SUM(IF(COUNTA(K22:N22)>0,$D22,0),IF(COUNTA(K23:N23)>0,$D23,0),IF(COUNTA(K24:N24)>0,$D24,0),IF(COUNTA(K25:N25)>0,$D25,0),IF(COUNTA(K26:N26)>0,$D26,0),IF(COUNTA(K27:N27)>0,$D27,0),IF(COUNTA(K28:N28)>0,$D28,0),IF(COUNTA(K29:N29)>0,$D29,0),IF(COUNTA(K30:N30)>0,$D30,0)) -> 2 | O39: =SUM(IF(COUNTA(O22:R22)>0,$D22,0),IF(COUNTA(O23:R23)>0,$D23,0),IF(COUNTA(O24:R24)>0,$D24,0),IF(COUNTA(O25:R25)>0,$D25,0),IF(COUNTA(O26:R26)>0,$D26,0),IF(COUNTA(O27:R27)>0,$D27,0),IF(COUNTA(O28:R28)>0,$D28,0),IF(COUNTA(O29:R29)>0,$D29,0),IF(COUNTA(O30:R30)>0,$D30,0)) -> 6 | S39: =SUM(IF(COUNTA(S22:V22)>0,$D22,0),IF(COUNTA(S23:V23)>0,$D23,0),IF(COUNTA(S24:V24)>0,$D24,0),IF(COUNTA(S25:V25)>0,$D25,0),IF(COUNTA(S26:V26)>0,$D26,0),IF(COUNTA(S27:V27)>0,$D27,0),IF(COUNTA(S28:V28)>0,$D28,0),IF(COUNTA(S29:V29)>0,$D29,0),IF(COUNTA(S30:V30)>0,$D30,0)) -> 3 | W39: =SUM(IF(COUNTA(W22:Z22)>0,$D22,0),IF(COUNTA(W23:Z23)>0,$D23,0),IF(COUNTA(W24:Z24)>0,$D24,0),IF(COUNTA(W25:Z25)>0,$D25,0),IF(COUNTA(W26:Z26)>0,$D26,0),IF(COUNTA(W27:Z27)>0,$D27,0),IF(COUNTA(W28:Z28)>0,$D28,0),IF(COUNTA(W29:Z29)>0,$D29,0),IF(COUNTA(W30:Z30)>0,$D30,0)) -> 0 | AA39: =SUM(K39:Z39) -> 11 | AB39: =AA39=D36 -> TRUE
F40: pkt. ECTS | K40: =SUM(IF(COUNTA(K22:N22)>0,$E22,0),IF(COUNTA(K23:N23)>0,$E23,0),IF(COUNTA(K24:N24)>0,$E24,0),IF(COUNTA(K25:N25)>0,$E25,0),IF(COUNTA(K26:N26)>0,$E26,0),IF(COUNTA(K27:N27)>0,$E27,0),IF(COUNTA(K28:N28)>0,$E28,0),IF(COUNTA(K29:N29)>0,$E29,0),IF(COUNTA(K30:N30)>0,$E30,0)) -> 10 | O40: =SUM(IF(COUNTA(O22:R22)>0,$E22,0),IF(COUNTA(O23:R23)>0,$E23,0),IF(COUNTA(O24:R24)>0,$E24,0),IF(COUNTA(O25:R25)>0,$E25,0),IF(COUNTA(O26:R26)>0,$E26,0),IF(COUNTA(O27:R27)>0,$E27,0),IF(COUNTA(O28:R28)>0,$E28,0),IF(COUNTA(O29:R29)>0,$E29,0),IF(COUNTA(O30:R30)>0,$E30,0)) -> 13 | S40: =SUM(IF(COUNTA(S22:V22)>0,$E22,0),IF(COUNTA(S23:V23)>0,$E23,0),IF(COUNTA(S24:V24)>0,$E24,0),IF(COUNTA(S25:V25)>0,$E25,0),IF(COUNTA(S26:V26)>0,$E26,0),IF(COUNTA(S27:V27)>0,$E27,0),IF(COUNTA(S28:V28)>0,$E28,0),IF(COUNTA(S29:V29)>0,$E29,0),IF(COUNTA(S30:V30)>0,$E30,0)) -> 7 | W40: =SUM(IF(COUNTA(W22:Z22)>0,$E22,0),IF(COUNTA(W23:Z23)>0,$E23,0),IF(COUNTA(W24:Z24)>0,$E24,0),IF(COUNTA(W25:Z25)>0,$E25,0),IF(COUNTA(W26:Z26)>0,$E26,0),IF(COUNTA(W27:Z27)>0,$E27,0),IF(COUNTA(W28:Z28)>0,$E28,0),IF(COUNTA(W29:Z29)>0,$E29,0),IF(COUNTA(W30:Z30)>0,$E30,0)) -> 0 | AA40: =SUM(K40:Z40) -> 30 | AB40: =AA40=E36 -> TRUE
A42: Uwagi: | P42: Obowiązuje od roku akademickiego: | V42: 2023/2024
B43: 1. Język obcy do wyboru spośród: 1. Język angielski. 2. Język niemiecki. 3. Język rosyjski.
B44: 2. Studentów obowiązuje zaliczenie na ocenę wszystkich przedmiotów.
B45: 3. Warunkiem zaliczenia ostatniego semestru Seminarium dyplomowego jest przygotowanie i złożenie pracy dyplomowej w systemie APD. | P45: Legenda:
...

Sheet Informacje_SN
B1: Załącznik nr 3 do uchwały nr 5/478 Senatu PBŚ z dnia 23 lutego 2023 r. | J1: nakład pracy studenta: | K1: 1 ECTS | L1: 25
J2: 0.5 | K2: =L2*L1 -> 1500 | L2: =L5/2 -> 60
K4: godziny | L4: ECTS
A5: Informacje ogólne o programie studiów | J5: łączna liczba z planu studiów | K5: =C13 -> 560 | L5: ='nie dot 1'!E142 -> 120
J6: Przygotowanie i złożenie pracy | L6: ='nie dot 1'!E136 -> 20
A7: KIERUNEK: | B7: ZARZĄDZANIE | J7: konsultacje: | K7: =MIN(USM_siatka9_SN!AD6:AD11) -> 275
A8: PROFIL: | B8: PROFIL OGÓLNOAKADEMICKI | J8: RAZEM MIN | K8: =K5+K7 -> 835
A9: POZIOM STUDIÓW: | B9: STUDIA DRUGIEGO STOPNIA (2-letnie)
A10: FORMA STUDIÓW: | B10: STUDIA NIESTACJONARNE
A13: łączna liczba godzin zajęć dydaktycznych | C13: =USM_siatka9_SN!F142 -> 560 | D13: godz. | F13: =C13/'nie dot'!C13 -> 0.60215054 | G13: % SS (minimum 60%)
A14: łączna liczba pkt. ECTS jaką student musi uzyskać w ramach zajęć prowadzonych z bezpośrednim udziałem NA lub innych osób prowadzących zajęcia (w przypadku studiów stacjonarnych ponad 50% z ogólnej liczby pkt. ECTS) | C14: =K8/L1 -> 33.4 | D14: pkt. ECTS | F14: =C14/L5 -> 0.27833333 | G14: % ECTS
A15: liczba pkt. ECTS jaką student musi uzyskać w ramach zajęć z dziedziny nauk humanistycznych lub nauk społecznych (nie mniej niż 5 pkt. ECTS, nie dotyczy kierunków przyporządkowanych do dziedziny nauk humanistycznych lub nauk społecznych) | C15: ='[1]Podział dyscyplin (plan9)'!$F$90 -> 120 | D15: pkt. ECTS | E15: nauki humanistyczne+społeczne
A16: liczba pkt. ECTS za zajęcia do wyboru (nie mniej niż 30% z ogólnej liczby pkt. ECTS) | C16: =USM_siatka9_SN!E22+USM_siatka9_SN!E137+USM_siatka9_SN!E75+USM_siatka9_SN!E76+USM_siatka9_SN!E78+USM_siatka9_SN!E80+USM_siatka9_SN!E86 -> 71 | D16: pkt. ECTS | E16: specjalnościowe + języki obce+PDW | F16: =C16/$L$5 -> 0.59166667 | G16: % ECTS
A17: zajęcia związane z prowadzoną w uczelni działalnością naukową w dyscyplinie / dyscyplinach, do których przyporządkowano kierunek studiów wskazać wyłącznie dla kierunku o profilu ogólnoakademickim (ponad 50% z ogólnej liczby pkt. ECTS) | C17: ='[1]Podział dyscyplin (plan9)'!$F$93 -> 107 | D17: pkt. ECTS | E17: nauki o zarządzaniu i jakości+ekonomia i finanse | F17: =C17/$L$5 -> 0.89166667 | G17: % ECTS
A18: zajęcia kształtujące umiejętności praktyczne wskazać wyłacznie dla kierunku o profilu praktycznym (ponad 50% z ogólnej liczby pkt. ECTS) | C18: nie dotyczy

Sheet AnalizaSN (2018)
A1: ANALIZA ZGODNOŚCI PLANU STUDIÓW Z WYTYCZNYMI DLA RAD PODSTAWOWYCH JEDNOSTEK ORGANIZACYJNYCH
A2: W SPRAWIE TWORZENIA NOWYCH I WERYFIKACJI ISTNIEJĄCYCH PROGRAMÓW STUDIÓW W UTP
B4: Jednostka prowadząca kierunek studiów | E4: WYDZIAŁ ZARZĄDZANIA
B5: Nazwa kierunku studiów | E5: ZARZĄDZANIE
B6: Rok akademicki, od którego obowiązuje plan studiów | E6: 2015/2016 (specjalności D5 i D6 od 2018/2019)
B7: Numer planu studiów | E7: VII
B8: Forma studiów | E8: NIESTACJONARNE
B9: Poziom studiów | E9: II STOPNIA
B10: OGÓLNA LICZBA GODZIN | E10: =USM_siatka9_SN!#REF! -> #REF! | F10: OGÓLNA LICZBA PKT. ECTS | J10: =USM_siatka9_SN!#REF! -> #REF!
B11: B I L A N S G O D Z I N I P U N K T Ó W E C T S 1
B12: Przedmiot/moduł | F12: Godziny | H12: Pozycje planu | I12: Punkty ECTS
F13: Liczba | G13: % | I13: Liczba | J13: %
B14: Zajęcia z obszaru nauk humanistycznych i nauk społecznych łącznie: | F14: program studiów uwzględnia szereg przedmiotów z zakresu nauk humanistycznych i nauk społecznych
B15: 1. | C15: w tym w zakresie ochrony własności intelektualnej i/lub bezpieczeństwa i higieny pracy 2 | F15: nie dotyczy
B16: 2. | C16: w tym w zakresie podstaw przedsiębiorczości i uzyskiwania tzw. kompetencji miękkich 2 | F16: program studiów uwzględnia szereg przedmiotów z zakresu przedsiębiorczości i uzyskiwania tzw. kompetencji miękkich
B17: 3. | C17: w tym inne zajęcia z zakresu nauk humanistycznych i nauk społecznych, nieujęte w pkt 1 i 2 | F17: program studiów uwzględnia szereg przedmiotów z zakresu nauk humanistycznych i nauk społecznych
B18: Zajęcia z języków obcych | F18: =USM_siatka9_SN!F22 -> 20 | G18: =F18/$E$10 -> #REF! | H18: A.1 | I18: =USM_siatka9_SN!E22 -> 2 | J18: =I18/$J$10 -> #REF!
B19: Zajęcia z wychowania fizycznego | F19: =USM_siatka9_SN!F30 -> 0 | G19: =F19/$E$10 -> #REF! | H19: A.8 | I19: =USM_siatka9_SN!E30 -> 0 | J19: =I19/$J$10 -> #REF!
B20: Zajęcia z technologii informacyjnych 2 | F20: nie dotyczy
B21: Seminarium dyplomowe | F21: =USM_siatka9_SN!F134 -> 20 | G21: =F21/$E$10 -> #REF! | H21: D.1.6, D.2.5, D.3.5, D.4.6, D. 5.5, D. 6.5 | I21: =USM_siatka9_SN!E134 -> 3 | J21: =I21/$J$10 -> #REF!
B22: Praktyka zawodowa 3 | F22: nie dotyczy
B23: Przygotowanie i złożenie pracy dyplomowej oraz przygotowanie do egzaminu dyplomowego | F23: x | G23: x | H23: D.1.7, D.2.6, D.3.6, D.4.7, D. 5.6, D. 6.6 | I23: =USM_siatka9_SN!E136 -> 20 | J23: =I23/$J$10 -> #REF!
B25: Zajęci ogólnouczelniane niezwiązane z kierunkiem studiów lub zajęcia na innym kierunku | F25: =F18+F19 -> 20 | G25: =F25/$E$10 -> #REF! | I25: =I18+I19 -> 2 | J25: =I25/$J$10 -> #REF!
B27: Zajęcia do wyboru (co najmniej 30% ECTS) | F27: =F33 -> 150 | G27: =F27/$E$10 -> #REF! | I27: =I33 -> 46 | J27: =I27/$J$10 -> #REF!
B29: Przedmioty z zakresu nauk podstawowych | F29: =USM_siatka9_SN!#REF! -> #REF! | G29: =F29/$E$10 -> #REF! | I29: =USM_siatka9_SN!#REF! -> #REF! | J29: =I29/$J$10 -> #REF!
B31: Przedmioty kierunkowe | F31: =USM_siatka9_SN!F88 -> 240 | G31: =F31/$E$10 -> #REF! | I31: =USM_siatka9_SN!E88 -> 44 | J31: =I31/$J$10 -> #REF!
B33: Przedmioty specjalnościowe | F33: =USM_siatka9_SN!F137 -> 150 | G33: =F33/$E$10 -> #REF! | I33: =USM_siatka9_SN!E137 -> 46 | J33: =I33/$J$10 -> #REF! | P33: wykłady (min 45%)
B35: Zajęcia o charakterze praktycznym | F35: =N35&"-"&M35 -> #REF! | G35: 52-55% | I35: ='AnalizaSS (2018)'!I35 -> #REF! | J35: ='AnalizaSS (2018)'!J35 -> 93-96% | M35: =$E$10-MIN(USM_siatka9_SN!G142,USM_siatka9_SN!G189,USM_siatka9_SN!G236,USM_siatka9_SN!#REF!) -> #REF! | N35: =$E$10-MAX(USM_siatka9_SN!G142,USM_siatka9_SN!G189,USM_siatka9_SN!G236,USM_siatka9_SN!#REF!) -> #REF! | P35: =MIN(USM_siatka9_SN!G142,USM_siatka9_SN!G189,USM_siatka9_SN!G236,USM_siatka9_SN!#REF!) -> #REF! | Q35: plan | R35: różnica
B37: Zajęcia wymagające bezpośredniego udziału nauczyciela akademickiego | F37: =E10 -> #REF! | G37: =F37/$E$10 -> #REF! | I37: =J10-I23 -> #REF! | J37: =I37/$J$10 -> #REF! | M37: =M35/$E$10 -> #REF! | N37: =N35/$E$10 -> #REF! | P37: =P35/$E$10 -> #REF! | Q37: =E10*0.45 -> #REF! | R37: =P35-Q37 -> #REF!
B39: Zajęcia powiązane z prowadzonymi badaniami naukowymi w dziedzeninie nauki / sztuki związanej z kierunkiem studiów służące zdobywaniu pogłębionej wiedzy i umiejętności prowadzenia badań naukowych 4 | F39: =F31+F33 -> 390 | G39: =F39/$E$10 -> #REF! | I39: =I31+I33 -> 90 | J39: =I39/$J$10 -> #REF!
B41: Zajęcia powiązane z praktycznym przygotowaniem zawodowym służące zdobywaniu umiejętności praktycznych i kompetencji społecznych, prowadzone w warunkach właściwych dla danego zakresu działalności zawodowej, w sposób umożliwiający wykonywanie określonych czynności praktycznych i przez osoby, z których większość posiada doświadczenie zawodowe zdobyte poza uczelnią odpowiadające zakresowi tych zajęć5 | F41: nie dotyczy
B43: Procentowy udział liczby punktów ECTS dla obszarów kształcenia w programie studiów dla kierunków przyporządkowanych do więcej niż jednego obszaru kształcenia
B44: 1. obszar kształcenia w zakresie NAUK SPOŁECZNYCH | I44: 1
B45: 2. obszar kształcenia w zakresie …
B46: 3. obszar kształcenia w zakresie …
B47: ŁĄCZNIE: | I47: 100% pkt. ECTS
B48: 1 w ogólnej liczbie godzin i punktów ECTS przewidzianych w planie studiów
B49: 2 niewymagane dla studiów II stopnia | F49: ……………………………………………
B50: 3 niewymagane na studiach II stopnia o profilu ogólnoakademickim | F50: pieczątka i podpis kierownika samodzielnej jednostki
B51: 4dotyczy jedynie studiów o profilu ogólnoakademickim, wymagana realizacja zajęć powiązanych z prowadzonymi badaniami naukowymi w dziedzinie wyszczególnionej w opisie efektów kształcenia w wymiarze ponad 50% ogólnej liczby pkt. ECTS (wymagane dostosowanie programów prowadzonych kierunków studiów zgodnie z terminem określonym w pkt VII.5 wytycznych Senatu)
...

Sheet nie dot 1
L2: Załącznik nr 3 do uchwały nr …/… Senatu PBŚ z dnia 22 lutego 2023 r.
C3: PLAN STUDIÓW NR IX | AB3: Konsultacje
A4: WYDZIAŁ ZARZĄDZANIA | AB4: =SUM(AB15:AB89) -> 405 | AC4: A+B+C
AD5: razem | AE5: brakuje:
C6: PROFIL KSZTAŁCENIA: | G6: PROFIL OGÓLNOAKADEMICKI | AB6: =SUM(AB128:AB136) -> 165 | AC6: D1 | AD6: =$AB$4+AB6 -> 570 | AE6: ='nie dot'!$K$7-'nie dot 1'!AD6 -> 0
C7: POZIOM STUDIÓW: | G7: STUDIA DRUGIEGO STOPNIA 2-LETNIE | AB7: =SUM(AB177:AB183) -> 165 | AC7: D2 | AD7: =$AB$4+AB7 -> 570 | AE7: ='nie dot'!$K$7-'nie dot 1'!AD7 -> 0
C8: FORMA STUDIÓW: | G8: STUDIA STACJONARNE | AB8: =SUM(AB224:AB231) -> 170 | AC8: D3 | AD8: =$AB$4+AB8 -> 575 | AE8: ='nie dot'!$K$7-'nie dot 1'!AD8 -> -5
C9: KIERUNEK: | G9: ZARZĄDZANIE | AB9: =SUM(AB271:AB277) -> 165 | AC9: D4 | AD9: =$AB$4+AB9 -> 570 | AE9: ='nie dot'!$K$7-'nie dot 1'!AD9 -> 0
C10: SPECJALNOŚĆ: | G10: ZARZĄDZANIE W GOSPODARCE CYFROWEJ
G11: ZARZĄDZANIE LOGISTYKĄ
G12: NOWOCZESNY MARKETING | S12: …………………..
G13: RACHUNKOWOŚĆ DLA MENEDŻERÓW | S13: pieczątka uczelni
A16: Pozycja planu | B16: NAZWA PRZEDMIOTU | C16: Liczba | F16: GODZINY | K16: ROZKŁAD ZAJĘĆ W SEMESTRZE
F17: Razem | G17: w tym | K17: sem. I | O17: sem. II | S17: sem. III | W17: sem. IV
C18: egzami-nów | D18: zali-czeń | E18: pkt. ECTS | G18: W | H18: Ć | I18: L | J18: P / S | K18: Liczba godzin w semestrze
K19: W | L19: Ć | M19: L | N19: P | O19: W | P19: Ć | Q19: L | R19: P | S19: W | T19: Ć | U19: L | V19: P | W19: W | X19: Ć | Y19: L | Z19: P
N20: S | R20: S | V20: S | Z20: S
A21: A. | B21: PRZEDMIOTY PODSTAWOWE
A22: 1. | B22: Język obcy1 | D22: 1 | E22: 2 | F22: =SUM(G22:J22) -> 30 | G22: =K22+O22+S22+W22 -> 0 | H22: =L22+P22+T22+X22 -> 0 | I22: =M22+Q22+U22+Y22 -> 30 | J22: =N22+R22+V22+Z22 -> 0 | Q22: 30 | AB22: 20
A23: 2. | B23: Kultura i elementy sztuki współczesnej | D23: 2 | E23: 2 | F23: =SUM(G23:J23) -> 30 | G23: =K23+O23+S23+W23 -> 15 | H23: =L23+P23+T23+X23 -> 15 | I23: =M23+Q23+U23+Y23 -> 0 | J23: =N23+R23+V23+Z23 -> 0 | S23: 15 | T23: 15 | AB23: 15
A24: 3. | B24: Koncepcje zarządzania | C24: 1 | D24: 1 | E24: 5 | F24: =SUM(G24:J24) -> 45 | G24: =K24+O24+S24+W24 -> 30 | H24: =L24+P24+T24+X24 -> 15 | I24: =M24+Q24+U24+Y24 -> 0 | J24: =N24+R24+V24+Z24 -> 0 | O24: 30 | P24: 15
A25: 4. | B25: Makroekonomia | C25: 1 | D25: 1 | E25: 6 | F25: =SUM(G25:J25) -> 45 | G25: =K25+O25+S25+W25 -> 30 | H25: =L25+P25+T25+X25 -> 15 | I25: =M25+Q25+U25+Y25 -> 0 | J25: =N25+R25+V25+Z25 -> 0 | K25: 30 | L25: 15 | AB25: 25
A26: 5. | B26: Prawo cywilne | C26: 1 | D26: 1 | E26: 4 | F26: =SUM(G26:J26) -> 30 | G26: =K26+O26+S26+W26 -> 15 | H26: =L26+P26+T26+X26 -> 15 | I26: =M26+Q26+U26+Y26 -> 0 | J26: =N26+R26+V26+Z26 -> 0 | K26: 15 | L26: 15 | AB26: 15
A27: 6. | B27: Etyka w zarządzaniu | D27: 2 | E27: 3 | F27: =SUM(G27:J27) -> 30 | G27: =K27+O27+S27+W27 -> 15 | H27: =L27+P27+T27+X27 -> 15 | I27: =M27+Q27+U27+Y27 -> 0 | J27: =N27+R27+V27+Z27 -> 0 | O27: 15 | P27: 15 | AB27: 20
A28: 7. | B28: Statystyka matematyczna | D28: 2 | E28: 3 | F28: =SUM(G28:J28) -> 30 | G28: =K28+O28+S28+W28 -> 15 | H28: =L28+P28+T28+X28 -> 15 | I28: =M28+Q28+U28+Y28 -> 0 | J28: =N28+R28+V28+Z28 -> 0 | O28: 15 | P28: 15 | AB28: 20
A29: 8. | B29: Rynek finansowy | C29: 1 | D29: 1 | E29: 5 | F29: =SUM(G29:J29) -> 45 | G29: =K29+O29+S29+W29 -> 30 | H29: =L29+P29+T29+X29 -> 15 | I29: =M29+Q29+U29+Y29 -> 0 | J29: =N29+R29+V29+Z29 -> 0 | S29: 30 | T29: 15 | AB29: 25
G30: =K30+O30+S30+W30 -> 0 | H30: =L30+P30+T30+X30 -> 0 | I30: =M30+Q30+U30+Y30 -> 0 | J30: =N30+R30+V30+Z30 -> 0
B31: RAZEM | C31: =SUM(C22:C30) -> 4 | D31: =SUM(D22:D30) -> 11 | E31: =SUM(E22:E30) -> 30 | F31: =SUM(F22:F30) -> 285 | G31: =SUM(G22:G30) -> 150 | H31: =SUM(H22:H30) -> 105 | I31: =SUM(I22:I30) -> 30 | J31: =SUM(J22:J30) -> 0 | ... Z31: =SUM(Z22:Z30) -> 0
K32: =SUM(K31:N31) -> 75 | O32: =SUM(O31:R31) -> 135 | S32: =SUM(S31:V31) -> 75 | W32: =SUM(W31:Z31) -> 0 | AA32: =SUM(K32:Z32)=F31 -> TRUE
A33: PODSUMOWANIE ARKUSZA 1 | C33: egzami-nów | D33: zali-czeń | E33: pkt. ECTS | F33: Razem | G33: W | H33: Ć | I33: L | J33: P / S | K33: sem. I | O33: sem. II | S33: sem. III | W33: sem. IV
K34: W | L34: Ć | M34: L | N34: P | O34: W | P34: Ć | Q34: L | R34: P | S34: W | T34: Ć | U34: L | V34: P | W34: W | X34: Ć | Y34: L | Z34: P
N35: S | R35: S | V35: S | Z35: S
C36: =C31 -> 4 | D36: =D31 -> 11 | E36: =E31 -> 30 | F36: =F31 -> 285 | G36: =G31 -> 150 | H36: =H31 -> 105 | I36: =I31 -> 30 | J36: =J31 -> 0 | ... Z36: =Z31 -> 0
K37: =SUM(K36:N36) -> 75 | O37: =SUM(O36:R36) -> 135 | S37: =SUM(S36:V36) -> 75 | W37: =SUM(W36:Z36) -> 0 | AA37: =SUM(K37:Z37)=F36 -> TRUE
C38: Liczba: | F38: egzaminów | K38: =SUM(IF(COUNTA(K22:N22)>0,$C22,0),IF(COUNTA(K23:N23)>0,$C23,0),IF(COUNTA(K24:N24)>0,$C24,0),IF(COUNTA(K25:N25)>0,$C25,0),IF(COUNTA(K26:N26)>0,$C26,0),IF(COUNTA(K27:N27)>0,$C27,0),IF(COUNTA(K28:N28)>0,$C28,0),IF(COUNTA(K29:N29)>0,$C29,0),IF(COUNTA(K30:N30)>0,$C30,0)) -> 2 | O38: =SUM(IF(COUNTA(O22:R22)>0,$C22,0),IF(COUNTA(O23:R23)>0,$C23,0),IF(COUNTA(O24:R24)>0,$C24,0),IF(COUNTA(O25:R25)>0,$C25,0),IF(COUNTA(O26:R26)>0,$C26,0),IF(COUNTA(O27:R27)>0,$C27,0),IF(COUNTA(O28:R28)>0,$C28,0),IF(COUNTA(O29:R29)>0,$C29,0),IF(COUNTA(O30:R30)>0,$C30,0)) -> 1 | S38: =SUM(IF(COUNTA(S22:V22)>0,$C22,0),IF(COUNTA(S23:V23)>0,$C23,0),IF(COUNTA(S24:V24)>0,$C24,0),IF(COUNTA(S25:V25)>0,$C25,0),IF(COUNTA(S26:V26)>0,$C26,0),IF(COUNTA(S27:V27)>0,$C27,0),IF(COUNTA(S28:V28)>0,$C28,0),IF(COUNTA(S29:V29)>0,$C29,0),IF(COUNTA(S30:V30)>0,$C30,0)) -> 1 | W38: =SUM(IF(COUNTA(W22:Z22)>0,$C22,0),IF(COUNTA(W23:Z23)>0,$C23,0),IF(COUNTA(W24:Z24)>0,$C24,0),IF(COUNTA(W25:Z25)>0,$C25,0),IF(COUNTA(W26:Z26)>0,$C26,0),IF(COUNTA(W27:Z27)>0,$C27,0),IF(COUNTA(W28:Z28)>0,$C28,0),IF(COUNTA(W29:Z29)>0,$C29,0),IF(COUNTA(W30:Z30)>0,$C30,0)) -> 0 | AA38: =SUM(K38:Z38) -> 4 | AB38: =C36=AA38 -> TRUE
F39: zaliczeń | K39: =SUM(IF(COUNTA(K22:N22)>0,$D22,0),IF(COUNTA(K23:N23)>0,$D23,0),IF(COUNTA(K24:N24)>0,$D24,0),IF(COUNTA(K25:N25)>0,$D25,0),IF(COUNTA(K26:N26)>0,$D26,0),IF(COUNTA(K27:N27)>0,$D27,0),IF(COUNTA(K28:N28)>0,$D28,0),IF(COUNTA(K29:N29)>0,$D29,0),IF(COUNTA(K30:N30)>0,$D30,0)) -> 2 | O39: =SUM(IF(COUNTA(O22:R22)>0,$D22,0),IF(COUNTA(O23:R23)>0,$D23,0),IF(COUNTA(O24:R24)>0,$D24,0),IF(COUNTA(O25:R25)>0,$D25,0),IF(COUNTA(O26:R26)>0,$D26,0),IF(COUNTA(O27:R27)>0,$D27,0),IF(COUNTA(O28:R28)>0,$D28,0),IF(COUNTA(O29:R29)>0,$D29,0),IF(COUNTA(O30:R30)>0,$D30,0)) -> 6 | S39: =SUM(IF(COUNTA(S22:V22)>0,$D22,0),IF(COUNTA(S23:V23)>0,$D23,0),IF(COUNTA(S24:V24)>0,$D24,0),IF(COUNTA(S25:V25)>0,$D25,0),IF(COUNTA(S26:V26)>0,$D26,0),IF(COUNTA(S27:V27)>0,$D27,0),IF(COUNTA(S28:V28)>0,$D28,0),IF(COUNTA(S29:V29)>0,$D29,0),IF(COUNTA(S30:V30)>0,$D30,0)) -> 3 | W39: =SUM(IF(COUNTA(W22:Z22)>0,$D22,0),IF(COUNTA(W23:Z23)>0,$D23,0),IF(COUNTA(W24:Z24)>0,$D24,0),IF(COUNTA(W25:Z25)>0,$D25,0),IF(COUNTA(W26:Z26)>0,$D26,0),IF(COUNTA(W27:Z27)>0,$D27,0),IF(COUNTA(W28:Z28)>0,$D28,0),IF(COUNTA(W29:Z29)>0,$D29,0),IF(COUNTA(W30:Z30)>0,$D30,0)) -> 0 | AA39: =SUM(K39:Z39) -> 11 | AB39: =AA39=D36 -> TRUE
F40: pkt. ECTS | K40: =SUM(IF(COUNTA(K22:N22)>0,$E22,0),IF(COUNTA(K23:N23)>0,$E23,0),IF(COUNTA(K24:N24)>0,$E24,0),IF(COUNTA(K25:N25)>0,$E25,0),IF(COUNTA(K26:N26)>0,$E26,0),IF(COUNTA(K27:N27)>0,$E27,0),IF(COUNTA(K28:N28)>0,$E28,0),IF(COUNTA(K29:N29)>0,$E29,0),IF(COUNTA(K30:N30)>0,$E30,0)) -> 10 | O40: =SUM(IF(COUNTA(O22:R22)>0,$E22,0),IF(COUNTA(O23:R23)>0,$E23,0),IF(COUNTA(O24:R24)>0,$E24,0),IF(COUNTA(O25:R25)>0,$E25,0),IF(COUNTA(O26:R26)>0,$E26,0),IF(COUNTA(O27:R27)>0,$E27,0),IF(COUNTA(O28:R28)>0,$E28,0),IF(COUNTA(O29:R29)>0,$E29,0),IF(COUNTA(O30:R30)>0,$E30,0)) -> 13 | S40: =SUM(IF(COUNTA(S22:V22)>0,$E22,0),IF(COUNTA(S23:V23)>0,$E23,0),IF(COUNTA(S24:V24)>0,$E24,0),IF(COUNTA(S25:V25)>0,$E25,0),IF(COUNTA(S26:V26)>0,$E26,0),IF(COUNTA(S27:V27)>0,$E27,0),IF(COUNTA(S28:V28)>0,$E28,0),IF(COUNTA(S29:V29)>0,$E29,0),IF(COUNTA(S30:V30)>0,$E30,0)) -> 7 | W40: =SUM(IF(COUNTA(W22:Z22)>0,$E22,0),IF(COUNTA(W23:Z23)>0,$E23,0),IF(COUNTA(W24:Z24)>0,$E24,0),IF(COUNTA(W25:Z25)>0,$E25,0),IF(COUNTA(W26:Z26)>0,$E26,0),IF(COUNTA(W27:Z27)>0,$E27,0),IF(COUNTA(W28:Z28)>0,$E28,0),IF(COUNTA(W29:Z29)>0,$E29,0),IF(COUNTA(W30:Z30)>0,$E30,0)) -> 0 | AA40: =SUM(K40:Z40) -> 30 | AB40: =AA40=E36 -> TRUE
A42: Uwagi: | P42: Obowiązuje od roku akademickiego: | V42: 2023/2024
B43: 1. Język obcy do wyboru spośród: 1. Język angielski. 2. Język niemiecki. 3. Język rosyjski.
B44: 2. Studentów obowiązuje zaliczenie na ocenę wszystkich przedmiotów.
...

Sheet nie dot
B1: Załącznik nr 3 do uchwały nr …/… Senatu PBŚ z dnia 22 lutego 2023 r. | J1: nakład pracy studenta: | K1: 1 ECTS | L1: 25
J2: 0.5 | K2: =L2*L1 -> 1500 | L2: =L5/2 -> 60
K4: godziny | L4: ECTS
A5: Informacje ogólne o programie studiów | J5: łączna liczba z planu studiów | K5: =C13 -> 930 | L5: ='nie dot 1'!E142 -> 120
J6: Przygotowanie i złożenie pracy | L6: ='nie dot 1'!E136 -> 20
A7: KIERUNEK: | B7: ZARZĄDZANIE | J7: konsultacje: | K7: =MIN('nie dot 1'!AD6:AD11) -> 570
A8: PROFIL: | B8: PROFIL OGÓLNOAKADEMICKI | J8: RAZEM MIN | K8: =K5+K7 -> 1500
A9: POZIOM STUDIÓW: | B9: STUDIA DRUGIEGO STOPNIA (2-letnie)
A10: FORMA STUDIÓW: | B10: STUDIA STACJONARNE
A13: łączna liczba godzin zajęć dydaktycznych | C13: ='nie dot 1'!F142 -> 930 | D13: godz.
A14: łączna liczba pkt. ECTS jaką student musi uzyskać w ramach zajęć prowadzonych z bezpośrednim udziałem NA lub innych osób prowadzących zajęcia (w przypadku studiów stacjonarnych ponad 50% z ogólnej liczby pkt. ECTS) | C14: 61 | D14: pkt. ECTS | F14: =C14/L5 -> 0.50833333 | G14: % ECTS
A15: liczba pkt. ECTS jaką student musi uzyskać w ramach zajęć z dziedziny nauk humanistycznych lub nauk społecznych (nie mniej niż 5 pkt. ECTS, nie dotyczy kierunków przyporządkowanych do dziedziny nauk humanistycznych lub nauk społecznych) | C15: ='[1]Podział dyscyplin (plan9)'!$F$90 -> 120 | D15: pkt. ECTS | E15: nauki humanistyczne+społeczne
A16: liczba pkt. ECTS za zajęcia do wyboru (nie mniej niż 30% z ogólnej liczby pkt. ECTS) | C16: ='nie dot 1'!E137+'nie dot 1'!E22+'nie dot 1'!E75+'nie dot 1'!E76+'nie dot 1'!E78+'nie dot 1'!E80+'nie dot 1'!E86 -> 71 | D16: pkt. ECTS | E16: specjalnościowe + języki obce+PDW | F16: =C16/$L$5 -> 0.59166667 | G16: % ECTS
A17: zajęcia związane z prowadzoną w uczelni działalnością naukową w dyscyplinie / dyscyplinach, do których przyporządkowano kierunek studiów wskazać wyłącznie dla kierunku o profilu ogólnoakademickim (ponad 50% z ogólnej liczby pkt. ECTS) | C17: ='[1]Podział dyscyplin (plan9)'!$F$93 -> 107 | D17: pkt. ECTS | E17: nauki o zarządzaniu i jakości+ekonomia i finanse | F17: =C17/$L$5 -> 0.89166667 | G17: % ECTS
A18: zajęcia kształtujące umiejętności praktyczne wskazać wyłacznie dla kierunku o profilu praktycznym (ponad 50% z ogólnej liczby pkt. ECTS) | C18: nie dotyczy

Sheet AnalizaSS (2018)
A1: ANALIZA ZGODNOŚCI PLANU STUDIÓW Z WYTYCZNYMI DLA RAD PODSTAWOWYCH JEDNOSTEK ORGANIZACYJNYCH
A2: W SPRAWIE TWORZENIA NOWYCH I WERYFIKACJI ISTNIEJĄCYCH PROGRAMÓW STUDIÓW W UTP
B4: Jednostka prowadząca kierunek studiów | E4: WYDZIAŁ ZARZĄDZANIA
B5: Nazwa kierunku studiów | E5: ZARZĄDZANIE
B6: Rok akademicki, od którego obowiązuje plan studiów | E6: 2015/2016 (specjalności D5 i D6 od 2018/2019)
B7: Numer planu studiów | E7: VII
B8: Forma studiów | E8: STACJONARNE
B9: Poziom studiów | E9: II STOPNIA
B10: OGÓLNA LICZBA GODZIN | E10: ='nie dot 1'!#REF! -> #REF! | F10: OGÓLNA LICZBA PKT. ECTS | J10: ='nie dot 1'!#REF! -> #REF! | M10: =3/J10 -> #REF!
B11: B I L A N S G O D Z I N I P U N K T Ó W E C T S 1
B12: Przedmiot/moduł | F12: Godziny | H12: Pozycje planu | I12: Punkty ECTS
F13: Liczba | G13: % | I13: Liczba | J13: %
B14: Zajęcia z obszaru nauk humanistycznych i nauk społecznych łącznie: | F14: program studiów uwzględnia szereg przedmiotów z zakresu nauk humanistycznych i nauk społecznych
B15: 1. | C15: w tym w zakresie ochrony własności intelektualnej i/lub bezpieczeństwa i higieny pracy 2 | F15: nie dotyczy
B16: 2. | C16: w tym w zakresie podstaw przedsiębiorczości i uzyskiwania tzw. kompetencji miękkich 2 | F16: program studiów uwzględnia szereg przedmiotów z zakresu przedsiębiorczości i uzyskiwania tzw. kompetencji miękkich
B17: 3. | C17: w tym inne zajęcia z zakresu nauk humanistycznych i nauk społecznych, nieujęte w pkt 1 i 2 | F17: program studiów uwzględnia szereg przedmiotów z zakresu nauk humanistycznych i nauk społecznych
B18: Zajęcia z języków obcych | F18: ='nie dot 1'!F22 -> 30 | G18: =F18/$E$10 -> #REF! | H18: A.1 | I18: ='nie dot 1'!E22 -> 2 | J18: =I18/$J$10 -> #REF!
B19: Zajęcia z wychowania fizycznego | F19: ='nie dot 1'!F30 -> 0 | G19: =F19/$E$10 -> #REF! | H19: A.8 | I19: ='nie dot 1'!E30 -> 0 | J19: =I19/$J$10 -> #REF!
B20: Zajęcia z technologii informacyjnych 2 | F20: nie dotyczy
B21: Seminarium dyplomowe | F21: ='nie dot 1'!F135 -> 90 | G21: =F21/$E$10 -> #REF! | H21: D.1.6, D.2.5, D.3.5, D.4.6, D. 5.5, D. 6.5 | I21: ='nie dot 1'!E135 -> 6 | J21: =I21/$J$10 -> #REF!
B22: Praktyka zawodowa 3 | F22: nie dotyczy
B23: Przygotowanie i złożenie pracy dyplomowej oraz przygotowanie do egzaminu dyplomowego | F23: x | G23: x | H23: D.1.7, D.2.6, D.3.6, D.4.7, D. 5.6, D. 6.6 | I23: ='nie dot 1'!E136 -> 20 | J23: =I23/$J$10 -> #REF!
B25: Zajęci ogólnouczelniane niezwiązane z kierunkiem studiów lub zajęcia na innym kierunku | F25: =F18+F19 -> 30 | G25: =F25/$E$10 -> #REF! | I25: =I18+I19 -> 2 | J25: =I25/$J$10 -> #REF!
B27: Zajęcia do wyboru (co najmniej 30% ECTS) | F27: =F33 -> 255 | G27: =F27/$E$10 -> #REF! | I27: =I33 -> 46 | J27: =I27/$J$10 -> #REF!
B29: Przedmioty z zakresu nauk podstawowych | F29: ='nie dot 1'!#REF! -> #REF! | G29: =F29/$E$10 -> #REF! | I29: ='nie dot 1'!#REF! -> #REF! | J29: =I29/$J$10 -> #REF!
B31: Przedmioty kierunkowe | F31: ='nie dot 1'!F88 -> 390 | G31: =F31/$E$10 -> #REF! | I31: ='nie dot 1'!E88 -> 44 | J31: =I31/$J$10 -> #REF!
B33: Przedmioty specjalnościowe | F33: ='nie dot 1'!F137 -> 255 | G33: =F33/$E$10 -> #REF! | I33: ='nie dot 1'!E137 -> 46 | J33: =I33/$J$10 -> #REF! | R33: wykłady (min 45%)
B35: Zajęcia o charakterze praktycznym | F35: =N35&"-"&M35 -> #REF! | G35: 0.51 | I35: =Q35&"-"&P35 -> #REF! | J35: 93-96% | M35: =$E$10-MIN('nie dot 1'!G142,'nie dot 1'!G189,'nie dot 1'!G237,'nie dot 1'!#REF!) -> #REF! | N35: =$E$10-MAX('nie dot 1'!G142,'nie dot 1'!G189,'nie dot 1'!G237,'nie dot 1'!#REF!) -> #REF! | P35: ='nie dot 1'!#REF!-'nie dot 1'!E85-'nie dot 1'!E84 -> #REF! | Q35: =P35-'nie dot 1'!E181 -> #REF! | R35: =MIN('nie dot 1'!G142,'nie dot 1'!G189,'nie dot 1'!G237,'nie dot 1'!#REF!) -> #REF! | S35: plan | T35: różnica
B37: Zajęcia wymagające bezpośredniego udziału nauczyciela akademickiego | F37: =E10 -> #REF! | G37: =F37/$E$10 -> #REF! | I37: =J10-I22-I23 -> #REF! | J37: =I37/$J$10 -> #REF! | M37: =M35/$E$10 -> #REF! | N37: =N35/$E$10 -> #REF! | P37: =P35/$J$10 -> #REF! | Q37: =Q35/$J$10 -> #REF! | R37: =R35/$E$10 -> #REF! | S37: =E10*0.45 -> #REF! | T37: =R35-S37 -> #REF!
B39: Zajęcia powiązane z prowadzonymi badaniami naukowymi w dziedzeninie nauki / sztuki związanej z kierunkiem studiów służące zdobywaniu pogłębionej wiedzy i umiejętności prowadzenia badań naukowych 4 | F39: =F31+F33 -> 645 | G39: =F39/$E$10 -> #REF! | I39: =I31+I33 -> 90 | J39: =I39/$J$10 -> #REF!
B41: Zajęcia powiązane z praktycznym przygotowaniem zawodowym służące zdobywaniu umiejętności praktycznych i kompetencji społecznych, prowadzone w warunkach właściwych dla danego zakresu działalności zawodowej, w sposób umożliwiający wykonywanie określonych czynności praktycznych i przez osoby, z których większość posiada doświadczenie zawodowe zdobyte poza uczelnią odpowiadające zakresowi tych zajęć5 | F41: nie dotyczy
B43: Procentowy udział liczby punktów ECTS dla obszarów kształcenia w programie studiów dla kierunków przyporządkowanych do więcej niż jednego obszaru kształcenia
B44: 1. obszar kształcenia w zakresie NAUK SPOŁECZNYCH | I44: 1
B45: 2. obszar kształcenia w zakresie …
B46: 3. obszar kształcenia w zakresie …
B47: ŁĄCZNIE: | I47: 100% pkt. ECTS
B48: 1 w ogólnej liczbie godzin i punktów ECTS przewidzianych w planie studiów
B49: 2 niewymagane dla studiów II stopnia | F49: ……………………………………………
B50: 3 niewymagane na studiach II stopnia o profilu ogólnoakademickim | F50: pieczątka i podpis kierownika samodzielnej jednostki
B51: 4dotyczy jedynie studiów o profilu ogólnoakademickim, wymagana realizacja zajęć powiązanych z prowadzonymi badaniami naukowymi w dziedzinie wyszczególnionej w opisie efektów kształcenia w wymiarze ponad 50% ogólnej liczby pkt. ECTS (wymagane dostosowanie programów prowadzonych kierunków studiów zgodnie z terminem określonym w pkt VII.5 wytycznych Senatu)
...
