Workbook

Sheet Stopien1SN
P2: Załącznik nr 2 do uchwały nr 5/478 Senatu PBŚ z dnia 23 lutego 2023 r.
D3: ='nie dot 1'!$D$3 -> PLAN STUDIÓW NR IX | AK3: Konsultacje
A4: W Y D Z I A Ł Z A R Z Ą D Z A N I A | AK4: =SUM(AK17:AK136) -> 121 | AL4: A+B+C
D5: PROFIL KSZTAŁCENIA: | I5: PROFIL OGÓLNOAKADEMICKI | AM5: razem | AN5: brakuje:
D6: RODZAJ STUDIÓW: | I6: STUDIA PIERWSZEGO STOPNIA (LICENCJACKIE 3-LETNIE) | AK6: =SUM(AK172:AK185) -> 85 | AL6: D1 | AM6: =$AK$4+AK6 -> 206 | AN6: =Informacje_SN!$H$2-Informacje_SN!$H$5-AM6 -> 944
D7: FORMA STUDIÓW: | I7: STUDIA NIESTACJONARNE | AK7: =SUM(AK229:AK242) -> 140 | AL7: D2 | AM7: =$AK$4+AK7 -> 261 | AN7: =Informacje_SN!$H$2-Informacje_SN!$H$5-AM7 -> 889
D8: KIERUNEK: | I8: ZARZĄDZANIE | X8: ………………….. | AK8: =SUM(AK279:AK292) -> 210 | AL8: D3 | AM8: =$AK$4+AK8 -> 331 | AN8: =Informacje_SN!$H$2-Informacje_SN!$H$5-AM8 -> 819
D9: SPECJALNOŚĆ: | I9: ='nie dot 1'!I9 -> 1. ZARZĄDZANIE W HANDLU i USŁUGACH | X9: pieczątka uczelni
I10: ='nie dot 1'!I10 -> 2. MARKETING W ORGANIZACJI
I11: ='nie dot 1'!I11 -> 3.ZARZĄDZANIE MAŁĄ I ŚREDNIĄ FIRMĄ
A15: Pozycja planu | B15: NAZWA PRZEDMIOTU | D15: Liczba | G15: GODZINY | L15: ROZKŁAD ZAJĘĆ w SEMESTRZE
G16: Razem | H16: w tym | L16: sem. I | P16: sem. II | T16: sem. III | X16: sem. IV | AB16: sem. V | AF16: sem. VI
D17: egzami-nów | E17: zali-czeń | F17: pkt. ECTS | H17: W | I17: Ć | J17: L | K17: P / S | L17: Liczba godzin w semestrze
L18: W | M18: Ć | N18: L | O18: P/S | P18: W | Q18: Ć | R18: L | S18: P/S | T18: W | U18: Ć | V18: L | W18: P/S | X18: W | Y18: Ć | Z18: L | AA18: P/S | AB18: W | AC18: Ć | AD18: L | AE18: P/S | AF18: W | AG18: Ć | AH18: L | AI18: P/S
A20: A. | B20: PRZEDMIOTY OGÓLNE
A21: 1. | B21: Język obcy4 | E21: 4 | F21: 5 | G21: =SUM(H21:K21) -> 80 | H21: =L21+P21+T21+X21+AB21+AF21 -> 0 | I21: =M21+Q21+U21+Y21+AC21+AG21 -> 0 | J21: =N21+R21+V21+Z21+AD21+AH21 -> 80 | K21: =O21+S21+W21+AA21+AE21+AI21 -> 0 | L21: 0 | M21: 0 | N21: 20 | P21: 0 | R21: 20 | V21: 20 | Z21: 20 | AK21: 10
A22: 2. | B22: Arkusz kalkulacyjny w zarządzaniu | E22: 2 | F22: 2 | G22: =SUM(H22:K22) -> 10 | H22: =L22+P22+T22+X22+AB22+AF22 -> 0 | I22: =M22+Q22+U22+Y22+AC22+AG22 -> 0 | J22: =N22+R22+V22+Z22+AD22+AH22 -> 10 | K22: =O22+S22+W22+AA22+AE22+AI22 -> 0 | L22: 0 | M22: 0 | P22: 0 | R22: 10 | U22: 0 | V22: 0 | Y22: 0 | Z22: 0 | AD22: 0 | AH22: 0 | AK22: 20
A23: 3. | B23: Socjologia | E23: 2 | F23: 2 | G23: =SUM(H23:K23) -> 20 | H23: =L23+P23+T23+X23+AB23+AF23 -> 10 | I23: =M23+Q23+U23+Y23+AC23+AG23 -> 10 | J23: =N23+R23+V23+Z23+AD23+AH23 -> 0 | K23: =O23+S23+W23+AA23+AE23+AI23 -> 0 | L23: 10 | M23: 10 | AK23: 5
A24: 4. | B24: Filozofia | E24: 2 | F24: 2 | G24: =SUM(H24:K24) -> 25 | H24: =L24+P24+T24+X24+AB24+AF24 -> 15 | I24: =M24+Q24+U24+Y24+AC24+AG24 -> 10 | J24: =N24+R24+V24+Z24+AD24+AH24 -> 0 | K24: =O24+S24+W24+AA24+AE24+AI24 -> 0 | L24: 0 | M24: 0 | P24: 15 | Q24: 10 | U24: 0 | V24: 0 | Y24: 0 | Z24: 0 | AD24: 0 | AH24: 0 | AK24: 0
A25: 5. | B25: Psychologia | D25: 1 | E25: 1 | F25: 3 | G25: =SUM(H25:K25) -> 20 | H25: =L25+P25+T25+X25+AB25+AF25 -> 10 | I25: =M25+Q25+U25+Y25+AC25+AG25 -> 10 | J25: =N25+R25+V25+Z25+AD25+AH25 -> 0 | K25: =O25+S25+W25+AA25+AE25+AI25 -> 0 | L25: 10 | M25: 10 | AK25: 0
A26: 6. | B26: Ochrona własności intelektualnej | E26: 1 | F26: 3 | G26: =SUM(H26:K26) -> 10 | H26: =L26+P26+T26+X26+AB26+AF26 -> 10 | I26: =M26+Q26+U26+Y26+AC26+AG26 -> 0 | J26: =N26+R26+V26+Z26+AD26+AH26 -> 0 | K26: =O26+S26+W26+AA26+AE26+AI26 -> 0 | L26: 10 | M26: 0 | P26: 0 | U26: 0 | V26: 0 | Y26: 0 | Z26: 0 | AD26: 0 | AH26: 0 | AK26: 0
A27: 7. | B27: BHP i ergonomia | E27: 1 | F27: 1 | G27: =SUM(H27:K27) -> 10 | H27: =L27+P27+T27+X27+AB27+AF27 -> 10 | I27: =M27+Q27+U27+Y27+AC27+AG27 -> 0 | J27: =N27+R27+V27+Z27+AD27+AH27 -> 0 | K27: =O27+S27+W27+AA27+AE27+AI27 -> 0 | L27: 10 | M27: 0 | AK27: 0
A28: 8. | B28: Polityka społeczna | C28: Skinder | E28: 2 | F28: 2 | G28: =SUM(H28:K28) -> 20 | H28: =L28+P28+T28+X28+AB28+AF28 -> 10 | I28: =M28+Q28+U28+Y28+AC28+AG28 -> 10 | J28: =N28+R28+V28+Z28+AD28+AH28 -> 0 | K28: =O28+S28+W28+AA28+AE28+AI28 -> 0 | P28: 10 | Q28: 10
B30: RAZEM | D30: =SUM(D21:D29) -> 1 | E30: =SUM(E21:E29) -> 15 | F30: =SUM(F21:F29) -> 20 | G30: =SUM(G21:G29) -> 195 | H30: =SUM(H21:H29) -> 65 | I30: =SUM(I21:I29) -> 40 | J30: =SUM(J21:J29) -> 90 | K30: =SUM(K21:K29) -> 0 | ... AI30: =SUM(AI21:AI29) -> 0
L31: =SUM(L30:O30) -> 80 | P31: =SUM(P30:S30) -> 75 | T31: =SUM(T30:W30) -> 20 | X31: =SUM(X30:AA30) -> 20 | AB31: =SUM(AB30:AE30) -> 0 | AF31: =SUM(AF30:AI30) -> 0 | AJ31: =SUM(L31:AI31)=G30 -> TRUE
A32: PODSUMOWANIE ARKUSZA 1 | D32: egzami-nów | E32: zali-czeń | F32: pkt. ECTS | G32: Razem | H32: W | I32: Ć | J32: L | K32: P / S | L32: sem. I | P32: sem. II | T32: sem. III | X32: sem. IV | AB32: sem. V | AF32: sem. VI
L33: W | M33: Ć | N33: L | O33: P/S | P33: W | Q33: Ć | R33: L | S33: P/S | T33: W | U33: Ć | V33: L | W33: P/S | X33: W | Y33: Ć | Z33: L | AA33: P/S | AB33: W | AC33: Ć | AD33: L | AE33: P/S | AF33: W | AG33: Ć | AH33: L | AI33: P/S
D35: =SUM(D30) -> 1 | E35: =SUM(E30) -> 15 | F35: =SUM(F30) -> 20 | G35: =SUM(G30) -> 195 | H35: =SUM(H30) -> 65 | I35: =SUM(I30) -> 40 | J35: =SUM(J30) -> 90 | K35: =SUM(K30) -> 0 | ... AI35: =SUM(AI30) -> 0
L36: =SUM(L35:O35) -> 80 | P36: =SUM(P35:S35) -> 75 | T36: =SUM(T35:W35) -> 20 | X36: =SUM(X35:AA35) -> 20 | AB36: =SUM(AB35:AE35) -> 0 | AF36: =SUM(AF35:AI35) -> 0 | AJ36: =SUM(L36:AI36)=G35 -> TRUE
D37: Liczba: | G37: egzaminów | L37: =SUM(IF(SUM(L23:O23)>0,$D23,0),IF(SUM(L22:O22)>0,$D22,0),IF(SUM(L24:O24)>0,$D24,0),IF(SUM(L25:O25)>0,$D25,0),IF(SUM(L26:O26)>0,$D26,0),IF(SUM(L27:O27)>0,$D27,0),IF(SUM(L29:O29)>0,$D29,0),IF(SUM(L21:O21)>0,$D21,0)) -> 1 | P37: =SUM(IF(SUM(P23:S23)>0,$D23,0),IF(SUM(P22:S22)>0,$D22,0),IF(SUM(P24:S24)>0,$D24,0),IF(SUM(P25:S25)>0,$D25,0),IF(SUM(P26:S26)>0,$D26,0),IF(SUM(P27:S27)>0,$D27,0),IF(SUM(P29:S29)>0,$D29,0),IF(SUM(P21:S21)>0,$D21,IF(SUM(P28:S28)>0,$D28,0))) -> 0 | T37: =SUM(IF(SUM(T23:W23)>0,$D23,0),IF(SUM(T22:W22)>0,$D22,0),IF(SUM(T24:W24)>0,$D24,0),IF(SUM(T25:W25)>0,$D25,0),IF(SUM(T26:W26)>0,$D26,0),IF(SUM(T27:W27)>0,$D27,0),IF(SUM(T29:W29)>0,$D29,0),IF(SUM(T21:W21)>0,$D21,IF(SUM(T28:W28)>0,$D28,0))) -> 0 | X37: =SUM(IF(SUM(X23:AA23)>0,$D23,0),IF(SUM(X22:AA22)>0,$D22,0),IF(SUM(X24:AA24)>0,$D24,0),IF(SUM(X25:AA25)>0,$D25,0),IF(SUM(X26:AA26)>0,$D26,0),IF(SUM(X27:AA27)>0,$D27,0),IF(SUM(X29:AA29)>0,$D29,0),IF(SUM(X21:AA21)>0,$D21,IF(SUM(X28:AA28)>0,$D28,0))) -> 0 | AB37: =SUM(IF(SUM(AB23:AE23)>0,$D23,0),IF(SUM(AB22:AE22)>0,$D22,0),IF(SUM(AB24:AE24)>0,$D24,0),IF(SUM(AB25:AE25)>0,$D25,0),IF(SUM(AB26:AE26)>0,$D26,0),IF(SUM(AB27:AE27)>0,$D27,0),IF(SUM(AB29:AE29)>0,$D29,0),IF(SUM(AB21:AE21)>0,$D21,IF(SUM(AB28:AE28)>0,$D28,0))) -> 0 | AF37: =SUM(IF(SUM(AF23:AI23)>0,$D23,0),IF(SUM(AF22:AI22)>0,$D22,0),IF(SUM(AF24:AI24)>0,$D24,0),IF(SUM(AF25:AI25)>0,$D25,0),IF(SUM(AF26:AI26)>0,$D26,0),IF(SUM(AF27:AI27)>0,$D27,0),IF(SUM(AF29:AI29)>0,$D29,0),IF(SUM(AF21:AI21)>0,$D21,IF(SUM(AF28:AI28)>0,$D28,0))) -> 0 | AJ37: =SUM(L37:AI37) -> 1 | AK37: =AJ37=D35 -> TRUE
G38: zaliczeń | L38: =SUM(IF(SUM(L24:O24)>0,$E24,0),IF(SUM(L23:O23)>0,$E23,0),IF(SUM(L25:O25)>0,$E25,0),IF(SUM(L26:O26)>0,$E26,0),IF(SUM(L27:O27)>0,$E27,0),IF(SUM(L28:O28)>0,$E28,0),IF(SUM(L29:O29)>0,$E29/2,0),IF(SUM(L21:O21)>0,1,0),IF(SUM(L22:O22)>0,$E22,0)) -> 6 | P38: =SUM(IF(SUM(P24:S24)>0,$E24,0),IF(SUM(P23:S23)>0,$E23,0),IF(SUM(P25:S25)>0,$E25,0),IF(SUM(P26:S26)>0,$E26,0),IF(SUM(P27:S27)>0,$E27,0),IF(SUM(P28:S28)>0,$E28,0),IF(SUM(P29:S29)>0,$E29/2,0),IF(SUM(P21:S21)>0,1,0),IF(SUM(P22:S22)>0,$E22,0)) -> 7 | T38: =SUM(IF(SUM(T24:W24)>0,$E24,0),IF(SUM(T23:W23)>0,$E23,0),IF(SUM(T25:W25)>0,$E25,0),IF(SUM(T26:W26)>0,$E26,0),IF(SUM(T27:W27)>0,$E27,0),IF(SUM(T28:W28)>0,$E28,0),IF(SUM(T29:W29)>0,$E29,0),IF(SUM(T21:W21)>0,1,0),IF(SUM(T22:W22)>0,$E22,0)) -> 1 | X38: =SUM(IF(SUM(X24:AA24)>0,$E24,0),IF(SUM(X23:AA23)>0,$E23,0),IF(SUM(X25:AA25)>0,$E25,0),IF(SUM(X26:AA26)>0,$E26,0),IF(SUM(X27:AA27)>0,$E27,0),IF(SUM(X28:AA28)>0,$E28,0),IF(SUM(X29:AA29)>0,$E29,0),IF(SUM(X21:AA21)>0,1,0),IF(SUM(X22:AA22)>0,$E22,0)) -> 1 | AB38: =SUM(IF(SUM(AB24:AE24)>0,$E24,0),IF(SUM(AB23:AE23)>0,$E23,0),IF(SUM(AB25:AE25)>0,$E25,0),IF(SUM(AB26:AE26)>0,$E26,0),IF(SUM(AB27:AE27)>0,$E27,0),IF(SUM(AB28:AE28)>0,$E28,0),IF(SUM(AB29:AE29)>0,$E29,0),IF(SUM(AB21:AE21)>0,1,0),IF(SUM(AB22:AE22)>0,$E22,0)) -> 0 | AF38: =SUM(IF(SUM(AF24:AI24)>0,$E24,0),IF(SUM(AF23:AI23)>0,$E23,0),IF(SUM(AF25:AI25)>0,$E25,0),IF(SUM(AF26:AI26)>0,$E26,0),IF(SUM(AF27:AI27)>0,$E27,0),IF(SUM(AF28:AI28)>0,$E28,0),IF(SUM(AF29:AI29)>0,$E29,0),IF(SUM(AF21:AI21)>0,1,0),IF(SUM(AF22:AI22)>0,$E22,0)) -> 0 | AJ38: =SUM(L38:AI38) -> 15 | AK38: =AJ38=E35 -> TRUE
G39: pkt. ECTS | L39: =SUM(IF(SUM(L25:O25)>0,$F25,0),IF(SUM(L24:O24)>0,$F24,0),IF(SUM(L26:O26)>0,$F26,0),IF(SUM(L27:O27)>0,$F27,0),IF(SUM(L28:O28)>0,$F28,0),IF(SUM(L29:O29)>0,$F29/2,0),IF(SUM(L21:O21)>0,1,0),IF(SUM(L22:O22)>0,$F22,0),IF(SUM(L23:O23)>0,$F23,0)) -> 10 | P39: =SUM(IF(SUM(P25:S25)>0,$F25,0),IF(SUM(P24:S24)>0,$F24,0),IF(SUM(P26:S26)>0,$F26,0),IF(SUM(P27:S27)>0,$F27,0),IF(SUM(P28:S28)>0,$F28,0),IF(SUM(P29:S29)>0,$F29/2,0),IF(SUM(P21:S21)>0,1,0),IF(SUM(P22:S22)>0,$F22,0),IF(SUM(P23:S23)>0,$F23,0)) -> 7 | T39: =SUM(IF(SUM(T25:W25)>0,$F25,0),IF(SUM(T24:W24)>0,$F24,0),IF(SUM(T26:W26)>0,$F26,0),IF(SUM(T27:W27)>0,$F27,0),IF(SUM(T28:W28)>0,$F28,0),IF(SUM(T29:W29)>0,$F29/2,0),IF(SUM(T21:W21)>0,1,0),IF(SUM(T22:W22)>0,$F22,0),IF(SUM(T23:W23)>0,$F23,0)) -> 1 | X39: =SUM(IF(SUM(X25:AA25)>0,$F25,0),IF(SUM(X24:AA24)>0,$F24,0),IF(SUM(X26:AA26)>0,$F26,0),IF(SUM(X27:AA27)>0,$F27,0),IF(SUM(X28:AA28)>0,$F28,0),IF(SUM(X29:AA29)>0,$F29/2,0),IF(SUM(X21:AA21)>0,2,0),IF(SUM(X22:AA22)>0,$F22,0),IF(SUM(X23:AA23)>0,$F23,0)) -> 2 | AB39: =SUM(IF(SUM(AB25:AE25)>0,$F25,0),IF(SUM(AB24:AE24)>0,$F24,0),IF(SUM(AB26:AE26)>0,$F26,0),IF(SUM(AB27:AE27)>0,$F27,0),IF(SUM(AB28:AE28)>0,$F28,0),IF(SUM(AB29:AE29)>0,$F29/2,0),IF(SUM(AB21:AE21)>0,1,0),IF(SUM(AB22:AE22)>0,$F22,0),IF(SUM(AB23:AE23)>0,$F23,0)) -> 0 | AF39: =SUM(IF(SUM(AF25:AI25)>0,$F25,0),IF(SUM(AF24:AI24)>0,$F24,0),IF(SUM(AF26:AI26)>0,$F26,0),IF(SUM(AF27:AI27)>0,$F27,0),IF(SUM(AF28:AI28)>0,$F28,0),IF(SUM(AF29:AI29)>0,$F29/2,0),IF(SUM(AF21:AI21)>0,1,0),IF(SUM(AF22:AI22)>0,$F22,0),IF(SUM(AF23:AI23)>0,$F23,0)) -> 0 | AJ39: =SUM(L39:AI39) -> 20 | AK39: =AJ39=F35 -> TRUE
A40: UWAGI:
B41: ='nie dot 1'!B41 -> 1. Dla studentów I roku studiów stacjonarnych I stopnia wszystkie formy zajęć dydaktycznych przewidziane w planie studiów są obowiązkowe. | Y41: Obowiązuje od roku akademickiego: 2023/2024
B42: ='nie dot 1'!B42 -> Na wyższych latach obowiązkowe są: ćwiczenia audytoryjne, laboratoryjne, lektoraty, zajęcia: sportowe, terenowe, projektowe, plenerowe i seminaria.
B43: ='nie dot 1'!B43 -> 2. Studentów obowiązuje zaliczenie na ocenę wszystkich przedmiotów. | Y43: Legenda:
B44: ='nie dot 1'!B44 -> 3. Studentów obowiązuje zaliczenie na ocenę praktyki zawodowej w wymiarze 4 tygodni (4 pkt. ECTS). | Y44: W | Z44: - wykład
B45: ='nie dot 1'!B45 -> 4. Język obcy do wyboru spośród: 1. Język angielski. 2. Język niemiecki. 3. Język rosyjski. | Y45: Ć | Z45: - ćwiczenia audytoryjne
B46: ='nie dot 1'!B46 -> 5. Język obcy 1-3 semstr 1 ECTS, 4 semestr 2 ECTS. | Y46: L | Z46: - ćwiczenia laboratoryjne, lektorat języków obcych
B47: ='nie dot 1'!B47 -> 6. Warunkiem zaliczenia ostatniego semestru Seminarium dyplomowego jest przygotowanie i złożenie pracy dyplomowej w systemie APD. | Y47: P | Z47: - ćwiczenia projektowe
...

Sheet Informacje_SN
B1: Załącznik nr 2 do uchwały nr 5/476 Senatu PBŚ z dnia 23 lutego 2023 r. | G1: nakład pracy studenta: | H1: 1 ECTS | I1: 25
G2: 0.5 | H2: =I2*I1 -> 2250 | I2: =I5/2 -> 90
H4: godziny | I4: ECTS
A5: Informacje ogólne o programie studiów | G5: łączna liczba z planu studiów | H5: =C13 -> 1100 | I5: 180 | J5: 1100
G6: Przygotowanie i złożenie pracy | I6: 10
A7: KIERUNEK: | B7: ZARZĄDZANIE | G7: konsultacje: | H7: =MIN(Stopien1SN!AM6:AM9) -> 206
A8: PROFIL: | B8: PROFIL OGÓLNOAKADEMICKI | G8: RAZEM MIN | H8: =H5+H7 -> 1306
A9: POZIOM STUDIÓW: | B9: STUDIA PIERWSZEGO STOPNIA (3-letnie)
A10: FORMA STUDIÓW: | B10: STUDIA NIESTACJONARNE
A13: łączna liczba godzin zajęć dydaktycznych | C13: =Stopien1SN!G244 -> 1100 | D13: godz. | G13: =Informacje_SN!C13/'nie dot 2'!C13 -> 0.6010929
A14: łączna liczba pkt. ECTS jaką student musi uzyskać w ramach zajęć prowadzonych z bezpośrednim udziałem NA lub innych osób prowadzących zajęcia (w przypadku studiów stacjonarnych ponad 50% z ogólnej liczby pkt. ECTS) | C14: =H8/I1 -> 52.24 | D14: pkt. ECTS | G14: =C14/I5 -> 0.29022222 | H14: %ECTS
A15: liczba pkt. ECTS jaką student musi uzyskać w ramach zajęć z dziedziny nauk humanistycznych lub nauk społecznych (nie mniej niż 5 pkt. ECTS, nie dotyczy kierunków przyporządkowanych do dziedziny nauk humanistycznych lub nauk społecznych) | C15: ='[1]Podział dyscyplin (plan9)'!$C$90 -> 173 | D15: pkt. ECTS | E15: nauki humanistyczne+społeczne
A16: liczba pkt. ECTS za zajęcia do wyboru (nie mniej niż 30% z ogólnej liczby pkt. ECTS) | C16: =Stopien1SN!F186+Stopien1SN!F21 -> 70 | D16: pkt. ECTS | E16: specjalność+języki | G16: =C16/$I$5 -> 0.38888889 | H16: %ECTS
A17: zajęcia związane z prowadzoną w uczelni działalnością naukową w dyscyplinie / dyscyplinach, do których przyporządkowano kierunek studiów wskazać wyłącznie dla kierunku o profilu ogólnoakademickim (ponad 50% z ogólnej liczby pkt. ECTS) | C17: ='[1]Podział dyscyplin (plan9)'!$C$93 -> 159 | D17: pkt. ECTS | E17: nauki o zarządzaniu i jakości+ekonomia i finanse | G17: =C17/$I$5 -> 0.88333333 | H17: %ECTS
A18: zajęcia kształtujące umiejętności praktyczne wskazać wyłacznie dla kierunku o profilu praktycznym (ponad 50% z ogólnej liczby pkt. ECTS) | C18: nie dotyczy

Sheet AnalizaSN (2015)
A1: ANALIZA ZGODNOŚCI PLANU STUDIÓW Z WYTYCZNYMI DLA RAD PODSTAWOWYCH JEDNOSTEK ORGANIZACYJNYCH
A2: W SPRAWIE TWORZENIA NOWYCH I WERYFIKACJI ISTNIEJĄCYCH PROGRAMÓW STUDIÓW W UTP
B4: Jednostka prowadząca kierunek studiów | E4: WYDZIAŁ ZARZĄDZANIA
B5: Nazwa kierunku studiów | E5: ZARZĄDZANIE
B6: Rok akademicki, od którego obowiązuje plan studiów | E6: 2015/2016
B7: Numer planu studiów | E7: VII
B8: Forma studiów | E8: NIESTACJONARNE
B9: Poziom studiów | E9: I STOPNIA
B10: OGÓLNA LICZBA GODZIN | E10: =Stopien1SN!G244 -> 1100 | F10: OGÓLNA LICZBA PKT. ECTS | J10: =Stopien1SN!F244 -> 180 | M10: =E10/'AnalizaSS (2015)'!E10 -> #REF!
B11: B I L A N S G O D Z I N I P U N K T Ó W E C T S 1
B12: Przedmiot/moduł | F12: Godziny | H12: Pozycje planu | I12: Punkty ECTS
F13: Liczba | G13: % | I13: Liczba | J13: %
B14: Zajęcia z obszaru nauk humanistycznych i nauk społecznych łącznie: | F14: program studiów uwzględnia szereg przedmiotów z zakresu nauk humanistycznych i nauk społecznych
B15: 1. | C15: w tym w zakresie ochrony własności intelektualnej i/lub bezpieczeństwa i higieny pracy 2 | F15: =Stopien1SN!G26+Stopien1SN!G27 -> 20 | G15: =F15/$E$10 -> 0.018181818 | H15: A.6, A.7 | I15: =Stopien1SN!F26+Stopien1SN!F27 -> 4 | J15: =I15/$J$10 -> 0.022222222
B16: 2. | C16: w tym w zakresie podstaw przedsiębiorczości i uzyskiwania tzw. kompetencji miękkich 2 | F16: program studiów uwzględnia szereg przedmiotów z zakresu przedsiębiorczości i uzyskiwania tzw. kompetencji miękkich
B17: 3. | C17: w tym inne zajęcia z zakresu nauk humanistycznych i nauk społecznych, nieujęte w pkt 1 i 2 | F17: program studiów uwzględnia szereg przedmiotów z zakresu nauk humanistycznych i nauk społecznych
B18: Zajęcia z języków obcych | F18: =Stopien1SN!G21 -> 80 | G18: =F18/$E$10 -> 0.072727273 | H18: A.1 | I18: =Stopien1SN!F21 -> 5 | J18: =I18/$J$10 -> 0.027777778
B19: Zajęcia z wychowania fizycznego | F19: =Stopien1SN!G28 -> 20 | G19: =F19/$E$10 -> 0.018181818 | H19: A.8 | I19: =Stopien1SN!F28+Stopien1SN!F29 -> 2 | J19: =I19/$J$10 -> 0.011111111
B20: Zajęcia z technologii informacyjnych 2 | F20: =Stopien1SN!G22 -> 10 | G20: =F20/$E$10 -> 0.0090909091 | H20: A.2 | I20: =Stopien1SN!F22 -> 2 | J20: =I20/$J$10 -> 0.011111111
B21: Seminarium dyplomowe | F21: =Stopien1SN!G183 -> 30 | G21: =F21/$E$10 -> 0.027272727 | H21: D.1.11, D.2.11 D.3.11, D.3.12 | I21: =Stopien1SN!F183 -> 4 | J21: =I21/$J$10 -> 0.022222222
B22: Praktyka zawodowa 3 | F22: x | G22: x | H22: D.1.12, D.2.12 D.3.12, D.3.13 | I22: =Stopien1SN!F184 -> 4 | J22: =I22/$J$10 -> 0.022222222
B23: Przygotowanie i złożenie pracy dyplomowej oraz przygotowanie do egzaminu dyplomowego | F23: x | G23: x | H23: D.1.13, D.2.13 D.3.13, D.3.14 | I23: =Stopien1SN!F185 -> 10 | J23: =I23/$J$10 -> 0.055555556
B25: Zajęci ogólnouczelniane niezwiązane z kierunkiem studiów lub zajęcia na innym kierunku | F25: =F18+F19 -> 100 | G25: =F25/$E$10 -> 0.090909091 | I25: =I18+I19 -> 7 | J25: =I25/$J$10 -> 0.038888889
B27: Zajęcia do wyboru (co najmniej 30% ECTS) | F27: =F33 -> 285 | G27: =F27/$E$10 -> 0.25909091 | I27: =I33-I23 -> 55 | J27: =I27/$J$10 -> 0.30555556
B29: Przedmioty z zakresu nauk podstawowych | F29: =Stopien1SN!G79 -> 220 | G29: =F29/$E$10 -> 0.2 | I29: =Stopien1SN!F79 -> 39 | J29: =I29/$J$10 -> 0.21666667
B31: Przedmioty kierunkowe | F31: =Stopien1SN!G136 -> 400 | G31: =F31/$E$10 -> 0.36363636 | I31: =Stopien1SN!F136 -> 56 | J31: =I31/$J$10 -> 0.31111111
B33: Przedmioty specjalnościowe | F33: =Stopien1SN!G186 -> 285 | G33: =F33/$E$10 -> 0.25909091 | I33: =Stopien1SN!F186 -> 65 | J33: =I33/$J$10 -> 0.36111111 | S33: wykłady (min 45%)
B35: Zajęcia o charakterze praktycznym | F35: =N35&"-"&M35 -> 595-595 | G35: 0.51 | I35: =P35 -> 177 | J35: =I35/$J$10 -> 0.98333333 | M35: =$E$10-MIN(Stopien1SN!H191,Stopien1SN!H244) -> 595 | N35: =$E$10-MAX(Stopien1SN!H191,Stopien1SN!H244) -> 595 | P35: =Stopien1SN!F141-Stopien1SN!F28-Stopien1SN!F27+Stopien1SN!F239 -> 177 | Q35: =P35 -> 177 | S35: =MIN(Stopien1SN!H191,Stopien1SN!H244) -> 505
B37: Zajęcia wymagające bezpośredniego udziału nauczyciela akademickiego | F37: =E10 -> 1100 | G37: =F37/$E$10 -> 1 | I37: =J10-I22-I23 -> 166 | J37: =I37/$J$10 -> 0.92222222 | M37: =M35/$E$10 -> 0.54090909 | N37: =N35/$E$10 -> 0.54090909 | P37: =P35/$J$10 -> 0.98333333 | S37: =S35/$E$10 -> 0.45909091
B39: Zajęcia powiązane z prowadzonymi badaniami naukowymi w dziedzeninie nauki / sztuki związanej z kierunkiem studiów służące zdobywaniu pogłębionej wiedzy i umiejętności prowadzenia badań naukowych 4 | F39: =F31+F33 -> 685 | G39: =F39/$E$10 -> 0.62272727 | I39: =I31+I33 -> 121 | J39: =I39/$J$10 -> 0.67222222
B41: Zajęcia powiązane z praktycznym przygotowaniem zawodowym służące zdobywaniu umiejętności praktycznych i kompetencji społecznych, prowadzone w warunkach właściwych dla danego zakresu działalności zawodowej, w sposób umożliwiający wykonywanie określonych czynności praktycznych i przez osoby, z których większość posiada doświadczenie zawodowe zdobyte poza uczelnią odpowiadające zakresowi tych zajęć5 | F41: nie dotyczy
B43: Procentowy udział liczby punktów ECTS dla obszarów kształcenia w programie studiów dla kierunków przyporządkowanych do więcej niż jednego obszaru kształcenia
B44: 1. obszar kształcenia w zakresie NAUK SPOŁECZNYCH | I44: 1
B45: 2. obszar kształcenia w zakresie …
B46: 3. obszar kształcenia w zakresie …
B47: ŁĄCZNIE: | I47: 100% pkt. ECTS
B48: 1 w ogólnej liczbie godzin i punktów ECTS przewidzianych w planie studiów
B49: 2 niewymagane dla studiów II stopnia | F49: ……………………………………………
B50: 3 niewymagane na studiach II stopnia o profilu ogólnoakademickim | F50: pieczątka i podpis kierownika samodzielnej jednostki
B51: 4dotyczy jedynie studiów o profilu ogólnoakademickim, wymagana realizacja zajęć powiązanych z prowadzonymi badaniami naukowymi w dziedzinie wyszczególnionej w opisie efektów kształcenia w wymiarze ponad 50% ogólnej liczby pkt. ECTS (wymagane dostosowanie programów prowadzonych kierunków studiów zgodnie z terminem określonym w pkt VII.5 wytycznych Senatu)
...

Sheet nie dot 1
Q2: Załącznik nr 2 do uchwały nr …/… Senatu PBŚ z dnia 22 lutego 2023 r.
D3: PLAN STUDIÓW NR IX | AK3: Konsultacje | AR3: sem. II | AV3: sem. III | AZ3: sem. IV | BD3: sem. V | BH3: sem. VI
A4: W Y D Z I A Ł Z A R Z Ą D Z A N I A | AK4: =SUM(AK17:AK136) -> 327 | AL4: A+B+C | AR4: =IF(SUM(P21:S21)=0,"",$B21) -> Język obcy4 | AV4: =IF(SUM(T21:W21)=0,"",$B21) -> Język obcy4 | AZ4: =IF(SUM(X21:AA21)=0,"",$B21) -> Język obcy4 | BD4: =IF(SUM(AB21:AE21)=0,"",$B21) | BH4: =IF(SUM(AF21:AI21)=0,"",$B21)
D5: PROFIL KSZTAŁCENIA: | I5: PROFIL OGÓLNOAKADEMICKI | AM5: razem | AN5: brakuje: | AR5: =IF(SUM(P22:S22)=0,"",$B22) -> Arkusz kalkulacyjny w zarządzaniu | AV5: =IF(SUM(T22:W22)=0,"",$B22) | AZ5: =IF(SUM(X22:AA22)=0,"",$B22) | BD5: =IF(SUM(AB22:AE22)=0,"",$B22) | BH5: =IF(SUM(AF22:AI22)=0,"",$B22)
D6: RODZAJ STUDIÓW: | I6: STUDIA PIERWSZEGO STOPNIA (LICENCJACKIE 3-LETNIE) | AK6: =SUM(AK176:AK189) -> 175 | AL6: D1 | AM6: =$AK$4+AK6 -> 502 | AN6: ='nie dot 2'!$H$2-'nie dot 2'!$H$5-'nie dot 1'!AM6 -> -82 | AR6: =IF(SUM(P23:S23)=0,"",$B23) | AV6: =IF(SUM(T23:W23)=0,"",$B23) | AZ6: =IF(SUM(X23:AA23)=0,"",$B23) | BD6: =IF(SUM(AB23:AE23)=0,"",$B23) | BH6: =IF(SUM(AF23:AI23)=0,"",$B23)
D7: FORMA STUDIÓW: | I7: STUDIA STACJONARNE | AK7: =SUM(AK229:AK242) -> 175 | AL7: D2 | AM7: =$AK$4+AK7 -> 502 | AN7: ='nie dot 2'!$H$2-'nie dot 2'!$H$5-'nie dot 1'!AM7 -> -82 | AR7: =IF(SUM(P24:S24)=0,"",$B24) -> Filozofia | AV7: =IF(SUM(T24:W24)=0,"",$B24) | AZ7: =IF(SUM(X24:AA24)=0,"",$B24) | BD7: =IF(SUM(AB24:AE24)=0,"",$B24) | BH7: =IF(SUM(AF24:AI24)=0,"",$B24)
D8: KIERUNEK: | I8: ZARZĄDZANIE | AK8: =SUM(AK282:AK296) -> 210 | AL8: D3 | AM8: =$AK$4+AK8 -> 537 | AN8: ='nie dot 2'!$H$2-'nie dot 2'!$H$5-'nie dot 1'!AM8 -> -117 | AR8: =IF(SUM(P25:S25)=0,"",$B25) | AV8: =IF(SUM(T25:W25)=0,"",$B25) | AZ8: =IF(SUM(X25:AA25)=0,"",$B25) | BD8: =IF(SUM(AB25:AE25)=0,"",$B25) | BH8: =IF(SUM(AF25:AI25)=0,"",$B25)
D9: SPECJALNOŚĆ: | I9: 1. ZARZĄDZANIE W HANDLU i USŁUGACH | X9: ………………….. | AR9: =IF(SUM(P26:S26)=0,"",$B26) | AV9: =IF(SUM(T26:W26)=0,"",$B26) | AZ9: =IF(SUM(X26:AA26)=0,"",$B26) | BD9: =IF(SUM(AB26:AE26)=0,"",$B26) | BH9: =IF(SUM(AF26:AI26)=0,"",$B26)
I10: 2. MARKETING W ORGANIZACJI | X10: pieczątka uczelni | AR10: =IF(SUM(P27:S27)=0,"",$B27) | AV10: =IF(SUM(T27:W27)=0,"",$B27) | AZ10: =IF(SUM(X27:AA27)=0,"",$B27) | BD10: =IF(SUM(AB27:AE27)=0,"",$B27) | BH10: =IF(SUM(AF27:AI27)=0,"",$B27)
I11: 3.ZARZĄDZANIE MAŁĄ I ŚREDNIĄ FIRMĄ | AR11: =IF(SUM(P29:S29)=0,"",$B29) -> Wychowanie fizyczne | AV11: =IF(SUM(T29:W29)=0,"",$B29) | AZ11: =IF(SUM(X29:AA29)=0,"",$B29) | BD11: =IF(SUM(AB29:AE29)=0,"",$B29) | BH11: =IF(SUM(AF29:AI29)=0,"",$B29)
AR12: =IF(SUM(P71:S71)=0,"",$B71) | AV12: =IF(SUM(T71:W71)=0,"",$B71) | AZ12: =IF(SUM(X71:AA71)=0,"",$B71) | BD12: =IF(SUM(AB71:AE71)=0,"",$B71) | BH12: =IF(SUM(AF71:AI71)=0,"",$B71)
AR13: =IF(SUM(P72:S72)=0,"",$B72) -> Nauka o organizacji | AV13: =IF(SUM(T72:W72)=0,"",$B72) | AZ13: =IF(SUM(X72:AA72)=0,"",$B72) | BD13: =IF(SUM(AB72:AE72)=0,"",$B72) | BH13: =IF(SUM(AF72:AI72)=0,"",$B72)
AR14: =IF(SUM(P73:S73)=0,"",$B73) | AV14: =IF(SUM(T73:W73)=0,"",$B73) | AZ14: =IF(SUM(X73:AA73)=0,"",$B73) | BD14: =IF(SUM(AB73:AE73)=0,"",$B73) | BH14: =IF(SUM(AF73:AI73)=0,"",$B73)
A15: Pozycja planu | B15: NAZWA PRZEDMIOTU | D15: Liczba | G15: GODZINY | L15: ROZKŁAD ZAJĘĆ w SEMESTRZE | AR15: =IF(SUM(P74:S74)=0,"",$B74) | AV15: =IF(SUM(T74:W74)=0,"",$B74) -> Finanse | AZ15: =IF(SUM(X74:AA74)=0,"",$B74) | BD15: =IF(SUM(AB74:AE74)=0,"",$B74) | BH15: =IF(SUM(AF74:AI74)=0,"",$B74)
G16: Razem | H16: w tym | L16: sem. I | P16: sem. II | T16: sem. III | X16: sem. IV | AB16: sem. V | AF16: sem. VI | AR16: =IF(SUM(P75:S75)=0,"",$B75) -> Prawo | AV16: =IF(SUM(T75:W75)=0,"",$B75) | AZ16: =IF(SUM(X75:AA75)=0,"",$B75) | BD16: =IF(SUM(AB75:AE75)=0,"",$B75) | BH16: =IF(SUM(AF75:AI75)=0,"",$B75)
D17: egzami-nów | E17: zali-czeń | F17: pkt. ECTS | H17: W | I17: Ć | J17: L | K17: P / S | L17: Liczba godzin w semestrze | AR17: =IF(SUM(P76:S76)=0,"",$B76) | AV17: =IF(SUM(T76:W76)=0,"",$B76) | AZ17: =IF(SUM(X76:AA76)=0,"",$B76) | BD17: =IF(SUM(AB76:AE76)=0,"",$B76) | BH17: =IF(SUM(AF76:AI76)=0,"",$B76)
L18: W | M18: Ć | N18: L | O18: P/S | P18: W | Q18: Ć | R18: L | S18: P/S | T18: W | U18: Ć | V18: L | W18: P/S | X18: W | Y18: Ć | Z18: L | AA18: P/S | AB18: W | AC18: Ć | AD18: L | AE18: P/S | AF18: W | AG18: Ć | AH18: L | AI18: P/S | AR18: =IF(SUM(P77:S77)=0,"",$B77) -> Statystyka opisowa | AV18: =IF(SUM(T77:W77)=0,"",$B77) | AZ18: =IF(SUM(X77:AA77)=0,"",$B77) | BD18: =IF(SUM(AB77:AE77)=0,"",$B77) | BH18: =IF(SUM(AF77:AI77)=0,"",$B77)
AR19: =IF(SUM(P78:S78)=0,"",$B78) | AV19: =IF(SUM(T78:W78)=0,"",$B78) | AZ19: =IF(SUM(X78:AA78)=0,"",$B78) | BD19: =IF(SUM(AB78:AE78)=0,"",$B78) | BH19: =IF(SUM(AF78:AI78)=0,"",$B78)
A20: A. | B20: PRZEDMIOTY OGÓLNE | AR20: =IF(SUM(P120:S120)=0,"",$B120) | AV20: =IF(SUM(T120:W120)=0,"",$B120) -> Rachunkowość finansowa | AZ20: =IF(SUM(X120:AA120)=0,"",$B120) | BD20: =IF(SUM(AB120:AE120)=0,"",$B120) | BH20: =IF(SUM(AF120:AI120)=0,"",$B120)
A21: 1. | B21: Język obcy4 | E21: 4 | F21: 5 | G21: =SUM(H21:K21) -> 120 | H21: =L21+P21+T21+X21+AB21+AF21 -> 0 | I21: =M21+Q21+U21+Y21+AC21+AG21 -> 0 | J21: =N21+R21+V21+Z21+AD21+AH21 -> 120 | K21: =O21+S21+W21+AA21+AE21+AI21 -> 0 | L21: 0 | M21: 0 | N21: 30 | P21: 0 | R21: 30 | V21: 30 | Z21: 30 | AK21: 10 | AR21: =IF(SUM(P121:S121)=0,"",$B121) | AV21: =IF(SUM(T121:W121)=0,"",$B121) | AZ21: =IF(SUM(X121:AA121)=0,"",$B121) -> Zarządzanie finansami przedsiębiorstw | BD21: =IF(SUM(AB121:AE121)=0,"",$B121) | BH21: =IF(SUM(AF121:AI121)=0,"",$B121)
A22: 2. | B22: Arkusz kalkulacyjny w zarządzaniu | E22: 1 | F22: 2 | G22: =SUM(H22:K22) -> 15 | H22: =L22+P22+T22+X22+AB22+AF22 -> 0 | I22: =M22+Q22+U22+Y22+AC22+AG22 -> 0 | J22: =N22+R22+V22+Z22+AD22+AH22 -> 15 | K22: =O22+S22+W22+AA22+AE22+AI22 -> 0 | L22: 0 | M22: 0 | N22: 0 | P22: 0 | R22: 15 | U22: 0 | V22: 0 | Y22: 0 | Z22: 0 | AD22: 0 | AH22: 0 | AK22: 10 | AR22: =IF(SUM(P122:S122)=0,"",$B122) | AV22: =IF(SUM(T122:W122)=0,"",$B122) -> Zarządzanie projektami | AZ22: =IF(SUM(X122:AA122)=0,"",$B122) | BD22: =IF(SUM(AB122:AE122)=0,"",$B122) | BH22: =IF(SUM(AF122:AI122)=0,"",$B122)
A23: 3. | B23: Socjologia | E23: 2 | F23: 2 | G23: =SUM(H23:K23) -> 30 | H23: =L23+P23+T23+X23+AB23+AF23 -> 15 | I23: =M23+Q23+U23+Y23+AC23+AG23 -> 15 | J23: =N23+R23+V23+Z23+AD23+AH23 -> 0 | K23: =O23+S23+W23+AA23+AE23+AI23 -> 0 | L23: 15 | M23: 15 | N23: 0 | AK23: 10 | AR23: =IF(SUM(P123:S123)=0,"",$B123) | AV23: =IF(SUM(T123:W123)=0,"",$B123) -> Zarządzanie zasobami ludzkimi | AZ23: =IF(SUM(X123:AA123)=0,"",$B123) | BD23: =IF(SUM(AB123:AE123)=0,"",$B123) | BH23: =IF(SUM(AF123:AI123)=0,"",$B123)
A24: 4. | B24: Filozofia | E24: 2 | F24: 2 | G24: =SUM(H24:K24) -> 45 | H24: =L24+P24+T24+X24+AB24+AF24 -> 30 | I24: =M24+Q24+U24+Y24+AC24+AG24 -> 15 | J24: =N24+R24+V24+Z24+AD24+AH24 -> 0 | K24: =O24+S24+W24+AA24+AE24+AI24 -> 0 | L24: 0 | M24: 0 | N24: 0 | P24: 30 | Q24: 15 | U24: 0 | V24: 0 | Y24: 0 | Z24: 0 | AD24: 0 | AH24: 0 | AK24: 10 | AR24: =IF(SUM(P124:S124)=0,"",$B124) | AV24: =IF(SUM(T124:W124)=0,"",$B124) | AZ24: =IF(SUM(X124:AA124)=0,"",$B124) -> Zachowania organizacyjne | BD24: =IF(SUM(AB124:AE124)=0,"",$B124) | BH24: =IF(SUM(AF124:AI124)=0,"",$B124)
A25: 5. | B25: Psychologia | D25: 1 | E25: 1 | F25: 3 | G25: =SUM(H25:K25) -> 30 | H25: =L25+P25+T25+X25+AB25+AF25 -> 15 | I25: =M25+Q25+U25+Y25+AC25+AG25 -> 15 | J25: =N25+R25+V25+Z25+AD25+AH25 -> 0 | K25: =O25+S25+W25+AA25+AE25+AI25 -> 0 | L25: 15 | M25: 15 | N25: 0 | AK25: 10 | AR25: =IF(SUM(P125:S125)=0,"",$B125) -> Zarządzanie jakością | AV25: =IF(SUM(T125:W125)=0,"",$B125) | AZ25: =IF(SUM(X125:AA125)=0,"",$B125) | BD25: =IF(SUM(AB125:AE125)=0,"",$B125) | BH25: =IF(SUM(AF125:AI125)=0,"",$B125)
A26: 6. | B26: Ochrona własności intelektualnej | E26: 1 | F26: 3 | G26: =SUM(H26:K26) -> 15 | H26: =L26+P26+T26+X26+AB26+AF26 -> 15 | I26: =M26+Q26+U26+Y26+AC26+AG26 -> 0 | J26: =N26+R26+V26+Z26+AD26+AH26 -> 0 | K26: =O26+S26+W26+AA26+AE26+AI26 -> 0 | L26: 15 | M26: 0 | N26: 0 | P26: 0 | U26: 0 | V26: 0 | Y26: 0 | Z26: 0 | AD26: 0 | AH26: 0 | AK26: 5 | AR26: =IF(SUM(P126:S126)=0,"",$B126) | AV26: =IF(SUM(T126:W126)=0,"",$B126) -> Informatyka w zarządzaniu | AZ26: =IF(SUM(X126:AA126)=0,"",$B126) | BD26: =IF(SUM(AB126:AE126)=0,"",$B126) | BH26: =IF(SUM(AF126:AI126)=0,"",$B126)
A27: 7. | B27: BHP i ergonomia | E27: 1 | F27: 1 | G27: =SUM(H27:K27) -> 15 | H27: =L27+P27+T27+X27+AB27+AF27 -> 15 | I27: =M27+Q27+U27+Y27+AC27+AG27 -> 0 | J27: =N27+R27+V27+Z27+AD27+AH27 -> 0 | K27: =O27+S27+W27+AA27+AE27+AI27 -> 0 | L27: 15 | M27: 0 | N27: 0 | AK27: 5 | AR27: =IF(SUM(P127:S127)=0,"",$B127) -> Społeczeństwo informacyjne | AV27: =IF(SUM(T127:W127)=0,"",$B127) | AZ27: =IF(SUM(X127:AA127)=0,"",$B127) | BD27: =IF(SUM(AB127:AE127)=0,"",$B127) | BH27: =IF(SUM(AF127:AI127)=0,"",$B127)
A28: 8. | B28: Polityka społeczna | E28: 2 | F28: 2 | G28: =SUM(H28:K28) -> 30 | H28: =L28+P28+T28+X28+AB28+AF28 -> 15 | I28: =M28+Q28+U28+Y28+AC28+AG28 -> 15 | J28: =N28+R28+V28+Z28+AD28+AH28 -> 0 | K28: =O28+S28+W28+AA28+AE28+AI28 -> 0 | N28: 0 | P28: 15 | Q28: 15
A29: 9. | B29: Wychowanie fizyczne | E29: 2 | F29: 0 | G29: =SUM(H29:K29) -> 60 | H29: =L29+P29+T29+X29+AB29+AF29 -> 0 | I29: =M29+Q29+U29+Y29+AC29+AG29 -> 60 | J29: =N29+R29+V29+Z29+AD29+AH29 -> 0 | K29: =O29+S29+W29+AA29+AE29+AI29 -> 0 | L29: 0 | M29: 30 | N29: 0 | P29: 0 | Q29: 30 | V29: 0 | Z29: 0 | AD29: 0 | AH29: 0 | AK29: 0 | AR29: =IF(SUM(P128:S128)=0,"",$B128) | AV29: =IF(SUM(T128:W128)=0,"",$B128) -> Marketing | AZ29: =IF(SUM(X128:AA128)=0,"",$B128) | BD29: =IF(SUM(AB128:AE128)=0,"",$B128) | BH29: =IF(SUM(AF128:AI128)=0,"",$B128)
B30: RAZEM | D30: =SUM(D21:D29) -> 1 | E30: =SUM(E21:E29) -> 16 | F30: =SUM(F21:F29) -> 20 | G30: =SUM(G21:G29) -> 360 | H30: =SUM(H21:H29) -> 105 | I30: =SUM(I21:I29) -> 120 | J30: =SUM(J21:J29) -> 135 | K30: =SUM(K21:K29) -> 0 | ... AI30: =SUM(AI21:AI29) -> 0 | AR30: =IF(SUM(P129:S129)=0,"",$B129) | AV30: =IF(SUM(T129:W129)=0,"",$B129) | AZ30: =IF(SUM(X129:AA129)=0,"",$B129) -> Badania marketingowe | BD30: =IF(SUM(AB129:AE129)=0,"",$B129) | BH30: =IF(SUM(AF129:AI129)=0,"",$B129)
L31: =SUM(L30:O30) -> 150 | P31: =SUM(P30:S30) -> 150 | T31: =SUM(T30:W30) -> 30 | X31: =SUM(X30:AA30) -> 30 | AB31: =SUM(AB30:AE30) -> 0 | AF31: =SUM(AF30:AI30) -> 0 | AJ31: =SUM(L31:AI31)=G30 -> TRUE | AR31: =IF(SUM(P130:S130)=0,"",$B130) | AV31: =IF(SUM(T130:W130)=0,"",$B130) -> Innowacja i konkurencyjność przedsiębiorstwa | AZ31: =IF(SUM(X130:AA130)=0,"",$B130) | BD31: =IF(SUM(AB130:AE130)=0,"",$B130) | BH31: =IF(SUM(AF130:AI130)=0,"",$B130)
A32: PODSUMOWANIE ARKUSZA 1 | D32: egzami-nów | E32: zali-czeń | F32: pkt. ECTS | G32: Razem | H32: W | I32: Ć | J32: L | K32: P / S | L32: sem. I | P32: sem. II | T32: sem. III | X32: sem. IV | AB32: sem. V | AF32: sem. VI | AR32: =IF(SUM(P131:S131)=0,"",$B131) | AV32: =IF(SUM(T131:W131)=0,"",$B131) | AZ32: =IF(SUM(X131:AA131)=0,"",$B131) | BD32: =IF(SUM(AB131:AE131)=0,"",$B131) -> Handel elektroniczny i e-business | BH32: =IF(SUM(AF131:AI131)=0,"",$B131)
L33: W | M33: Ć | N33: L | O33: P/S | P33: W | Q33: Ć | R33: L | S33: P/S | T33: W | U33: Ć | V33: L | W33: P/S | X33: W | Y33: Ć | Z33: L | AA33: P/S | AB33: W | AC33: Ć | AD33: L | AE33: P/S | AF33: W | AG33: Ć | AH33: L | AI33: P/S | AR33: =IF(SUM(P132:S132)=0,"",$B132) | AV33: =IF(SUM(T132:W132)=0,"",$B132) | AZ33: =IF(SUM(X132:AA132)=0,"",$B132) -> Informatyczne wspomaganie pracy biurowej | BD33: =IF(SUM(AB132:AE132)=0,"",$B132) | BH33: =IF(SUM(AF132:AI132)=0,"",$B132)
AR34: =IF(SUM(P133:S133)=0,"",$B133) | AV34: =IF(SUM(T133:W133)=0,"",$B133) | AZ34: =IF(SUM(X133:AA133)=0,"",$B133) | BD34: =IF(SUM(AB133:AE133)=0,"",$B133) -> Organizacja pracy kierowniczej | BH34: =IF(SUM(AF133:AI133)=0,"",$B133)
D35: =SUM(D30) -> 1 | E35: =SUM(E30) -> 16 | F35: =SUM(F30) -> 20 | G35: =SUM(G30) -> 360 | H35: =SUM(H30) -> 105 | I35: =SUM(I30) -> 120 | J35: =SUM(J30) -> 135 | K35: =SUM(K30) -> 0 | ... AI35: =SUM(AI30) -> 0 | AK35: =SUMIF(P21:S21,">0",P22:S22) -> 15 | AR35: =IF(SUM(P134:S134)=0,"",$B134) | AV35: =IF(SUM(T134:W134)=0,"",$B134) | AZ35: =IF(SUM(X134:AA134)=0,"",$B134) | BD35: =IF(SUM(AB134:AE134)=0,"",$B134) -> Zarządzanie logistyką | BH35: =IF(SUM(AF134:AI134)=0,"",$B134)
L36: =SUM(L35:O35) -> 150 | P36: =SUM(P35:S35) -> 150 | T36: =SUM(T35:W35) -> 30 | X36: =SUM(X35:AA35) -> 30 | AB36: =SUM(AB35:AE35) -> 0 | AF36: =SUM(AF35:AI35) -> 0 | AJ36: =SUM(L36:AI36)=G35 -> TRUE | AR36: =IF(SUM(P135:S135)=0,"",$B135) | AV36: =IF(SUM(T135:W135)=0,"",$B135) | AZ36: =IF(SUM(X135:AA135)=0,"",$B135) | BD36: =IF(SUM(AB135:AE135)=0,"",$B135) | BH36: =IF(SUM(AF135:AI135)=0,"",$B135) -> Pozyskiwanie środków finansowych
D37: Liczba: | G37: egzaminów | L37: =SUM(IF(SUM(L23:O23)>0,$D23,0),IF(SUM(L22:O22)>0,$D22,0),IF(SUM(L24:O24)>0,$D24,0),IF(SUM(L25:O25)>0,$D25,0),IF(SUM(L26:O26)>0,$D26,0),IF(SUM(L27:O27)>0,$D27,0),IF(SUM(L29:O29)>0,$D29,0),IF(SUM(L21:O21)>0,$D21,0)) -> 1 | P37: =SUM(IF(SUM(P23:S23)>0,$D23,0),IF(SUM(P22:S22)>0,$D22,0),IF(SUM(P24:S24)>0,$D24,0),IF(SUM(P25:S25)>0,$D25,0),IF(SUM(P26:S26)>0,$D26,0),IF(SUM(P27:S27)>0,$D27,0),IF(SUM(P29:S29)>0,$D29,0),IF(SUM(P21:S21)>0,$D21,IF(SUM(P28:S28)>0,$D28,0))) -> 0 | T37: =SUM(IF(SUM(T23:W23)>0,$D23,0),IF(SUM(T22:W22)>0,$D22,0),IF(SUM(T24:W24)>0,$D24,0),IF(SUM(T25:W25)>0,$D25,0),IF(SUM(T26:W26)>0,$D26,0),IF(SUM(T27:W27)>0,$D27,0),IF(SUM(T29:W29)>0,$D29,0),IF(SUM(T21:W21)>0,$D21,IF(SUM(T28:W28)>0,$D28,0))) -> 0 | X37: =SUM(IF(SUM(X23:AA23)>0,$D23,0),IF(SUM(X22:AA22)>0,$D22,0),IF(SUM(X24:AA24)>0,$D24,0),IF(SUM(X25:AA25)>0,$D25,0),IF(SUM(X26:AA26)>0,$D26,0),IF(SUM(X27:AA27)>0,$D27,0),IF(SUM(X29:AA29)>0,$D29,0),IF(SUM(X21:AA21)>0,$D21,IF(SUM(X28:AA28)>0,$D28,0))) -> 0 | AB37: =SUM(IF(SUM(AB23:AE23)>0,$D23,0),IF(SUM(AB22:AE22)>0,$D22,0),IF(SUM(AB24:AE24)>0,$D24,0),IF(SUM(AB25:AE25)>0,$D25,0),IF(SUM(AB26:AE26)>0,$D26,0),IF(SUM(AB27:AE27)>0,$D27,0),IF(SUM(AB29:AE29)>0,$D29,0),IF(SUM(AB21:AE21)>0,$D21,IF(SUM(AB28:AE28)>0,$D28,0))) -> 0 | AF37: =SUM(IF(SUM(AF23:AI23)>0,$D23,0),IF(SUM(AF22:AI22)>0,$D22,0),IF(SUM(AF24:AI24)>0,$D24,0),IF(SUM(AF25:AI25)>0,$D25,0),IF(SUM(AF26:AI26)>0,$D26,0),IF(SUM(AF27:AI27)>0,$D27,0),IF(SUM(AF29:AI29)>0,$D29,0),IF(SUM(AF21:AI21)>0,$D21,IF(SUM(AF28:AI28)>0,$D28,0))) -> 0 | AJ37: =SUM(L37:AI37) -> 1 | AK37: =AJ37=D35 -> TRUE | AR37: =IF(SUM(P177:S177)=0,"",$B177) | AV37: =IF(SUM(T177:W177)=0,"",$B177) | AZ37: =IF(SUM(X177:AA177)=0,"",$B177) | BD37: =IF(SUM(AB177:AE177)=0,"",$B177) -> Nowoczesne techniki zakupu i sprzedaży | BH37: =IF(SUM(AF177:AI177)=0,"",$B177)
G38: zaliczeń | L38: =SUM(IF(SUM(L24:O24)>0,$E24,0),IF(SUM(L23:O23)>0,$E23,0),IF(SUM(L25:O25)>0,$E25,0),IF(SUM(L26:O26)>0,$E26,0),IF(SUM(L27:O27)>0,$E27,0),IF(SUM(L28:O28)>0,$E28,0),IF(SUM(L29:O29)>0,$E29/2,0),IF(SUM(L21:O21)>0,1,0),IF(SUM(L22:O22)>0,$E22,0)) -> 7 | P38: =SUM(IF(SUM(P24:S24)>0,$E24,0),IF(SUM(P23:S23)>0,$E23,0),IF(SUM(P25:S25)>0,$E25,0),IF(SUM(P26:S26)>0,$E26,0),IF(SUM(P27:S27)>0,$E27,0),IF(SUM(P28:S28)>0,$E28,0),IF(SUM(P29:S29)>0,$E29/2,0),IF(SUM(P21:S21)>0,1,0),IF(SUM(P22:S22)>0,$E22,0)) -> 7 | T38: =SUM(IF(SUM(T24:W24)>0,$E24,0),IF(SUM(T23:W23)>0,$E23,0),IF(SUM(T25:W25)>0,$E25,0),IF(SUM(T26:W26)>0,$E26,0),IF(SUM(T27:W27)>0,$E27,0),IF(SUM(T28:W28)>0,$E28,0),IF(SUM(T29:W29)>0,$E29,0),IF(SUM(T21:W21)>0,1,0),IF(SUM(T22:W22)>0,$E22,0)) -> 1 | X38: =SUM(IF(SUM(X24:AA24)>0,$E24,0),IF(SUM(X23:AA23)>0,$E23,0),IF(SUM(X25:AA25)>0,$E25,0),IF(SUM(X26:AA26)>0,$E26,0),IF(SUM(X27:AA27)>0,$E27,0),IF(SUM(X28:AA28)>0,$E28,0),IF(SUM(X29:AA29)>0,$E29,0),IF(SUM(X21:AA21)>0,1,0),IF(SUM(X22:AA22)>0,$E22,0)) -> 1 | AB38: =SUM(IF(SUM(AB24:AE24)>0,$E24,0),IF(SUM(AB23:AE23)>0,$E23,0),IF(SUM(AB25:AE25)>0,$E25,0),IF(SUM(AB26:AE26)>0,$E26,0),IF(SUM(AB27:AE27)>0,$E27,0),IF(SUM(AB28:AE28)>0,$E28,0),IF(SUM(AB29:AE29)>0,$E29,0),IF(SUM(AB21:AE21)>0,1,0),IF(SUM(AB22:AE22)>0,$E22,0)) -> 0 | AF38: =SUM(IF(SUM(AF24:AI24)>0,$E24,0),IF(SUM(AF23:AI23)>0,$E23,0),IF(SUM(AF25:AI25)>0,$E25,0),IF(SUM(AF26:AI26)>0,$E26,0),IF(SUM(AF27:AI27)>0,$E27,0),IF(SUM(AF28:AI28)>0,$E28,0),IF(SUM(AF29:AI29)>0,$E29,0),IF(SUM(AF21:AI21)>0,1,0),IF(SUM(AF22:AI22)>0,$E22,0)) -> 0 | AJ38: =SUM(L38:AI38) -> 16 | AK38: =AJ38=E35 -> TRUE | AR38: =IF(SUM(P179:S179)=0,"",$B179) | AV38: =IF(SUM(T179:W179)=0,"",$B179) | AZ38: =IF(SUM(X179:AA179)=0,"",$B179) -> Współczesny rynek usług | BD38: =IF(SUM(AB179:AE179)=0,"",$B179) | BH38: =IF(SUM(AF179:AI179)=0,"",$B179)
G39: pkt. ECTS | L39: =SUM(IF(SUM(L25:O25)>0,$F25,0),IF(SUM(L24:O24)>0,$F24,0),IF(SUM(L26:O26)>0,$F26,0),IF(SUM(L27:O27)>0,$F27,0),IF(SUM(L28:O28)>0,$F28,0),IF(SUM(L29:O29)>0,$F29/2,0),IF(SUM(L21:O21)>0,1,0),IF(SUM(L22:O22)>0,$F22,0),IF(SUM(L23:O23)>0,$F23,0)) -> 10 | P39: =SUM(IF(SUM(P25:S25)>0,$F25,0),IF(SUM(P24:S24)>0,$F24,0),IF(SUM(P26:S26)>0,$F26,0),IF(SUM(P27:S27)>0,$F27,0),IF(SUM(P28:S28)>0,$F28,0),IF(SUM(P29:S29)>0,$F29/2,0),IF(SUM(P21:S21)>0,1,0),IF(SUM(P22:S22)>0,$F22,0),IF(SUM(P23:S23)>0,$F23,0)) -> 7 | T39: =SUM(IF(SUM(T25:W25)>0,$F25,0),IF(SUM(T24:W24)>0,$F24,0),IF(SUM(T26:W26)>0,$F26,0),IF(SUM(T27:W27)>0,$F27,0),IF(SUM(T28:W28)>0,$F28,0),IF(SUM(T29:W29)>0,$F29/2,0),IF(SUM(T21:W21)>0,1,0),IF(SUM(T22:W22)>0,$F22,0),IF(SUM(T23:W23)>0,$F23,0)) -> 1 | X39: =SUM(IF(SUM(X25:AA25)>0,$F25,0),IF(SUM(X24:AA24)>0,$F24,0),IF(SUM(X26:AA26)>0,$F26,0),IF(SUM(X27:AA27)>0,$F27,0),IF(SUM(X28:AA28)>0,$F28,0),IF(SUM(X29:AA29)>0,$F29/2,0),IF(SUM(X21:AA21)>0,2,0),IF(SUM(X22:AA22)>0,$F22,0),IF(SUM(X23:AA23)>0,$F23,0)) -> 2 | AB39: =SUM(IF(SUM(AB25:AE25)>0,$F25,0),IF(SUM(AB24:AE24)>0,$F24,0),IF(SUM(AB26:AE26)>0,$F26,0),IF(SUM(AB27:AE27)>0,$F27,0),IF(SUM(AB28:AE28)>0,$F28,0),IF(SUM(AB29:AE29)>0,$F29/2,0),IF(SUM(AB21:AE21)>0,1,0),IF(SUM(AB22:AE22)>0,$F22,0),IF(SUM(AB23:AE23)>0,$F23,0)) -> 0 | AF39: =SUM(IF(SUM(AF25:AI25)>0,$F25,0),IF(SUM(AF24:AI24)>0,$F24,0),IF(SUM(AF26:AI26)>0,$F26,0),IF(SUM(AF27:AI27)>0,$F27,0),IF(SUM(AF28:AI28)>0,$F28,0),IF(SUM(AF29:AI29)>0,$F29/2,0),IF(SUM(AF21:AI21)>0,1,0),IF(SUM(AF22:AI22)>0,$F22,0),IF(SUM(AF23:AI23)>0,$F23,0)) -> 0 | AJ39: =SUM(L39:AI39) -> 20 | AK39: =AJ39=F35 -> TRUE | AR39: =IF(SUM(P180:S180)=0,"",$B180) | AV39: =IF(SUM(T180:W180)=0,"",$B180) | AZ39: =IF(SUM(X180:AA180)=0,"",$B180) -> Podstawy prowadzenia działalności gospodarczej | BD39: =IF(SUM(AB180:AE180)=0,"",$B180) | BH39: =IF(SUM(AF180:AI180)=0,"",$B180)
A40: UWAGI: | AR40: =IF(SUM(P181:S181)=0,"",$B181) | AV40: =IF(SUM(T181:W181)=0,"",$B181) | AZ40: =IF(SUM(X181:AA181)=0,"",$B181) | BD40: =IF(SUM(AB181:AE181)=0,"",$B181) | BH40: =IF(SUM(AF181:AI181)=0,"",$B181) -> Marketing usług
B41: 1. Dla studentów I roku studiów stacjonarnych I stopnia wszystkie formy zajęć dydaktycznych przewidziane w planie studiów są obowiązkowe. | Y41: Obowiązuje od roku akademickiego: 2023/2024 | AR41: =IF(SUM(P182:S182)=0,"",$B182) | AV41: =IF(SUM(T182:W182)=0,"",$B182) | AZ41: =IF(SUM(X182:AA182)=0,"",$B182) | BD41: =IF(SUM(AB182:AE182)=0,"",$B182) -> Zarządzanie przedsiębiorstwem handlowym | BH41: =IF(SUM(AF182:AI182)=0,"",$B182)
...

Sheet nie dot 2
B1: Załącznik nr 2 do uchwały nr …/… Senatu PBŚ z dnia 22 lutego 2023 r. | G1: nakład pracy studenta: | H1: 1 ECTS | I1: 25
G2: 0.5 | H2: =I2*I1 -> 2250 | I2: =I5/2 -> 90
H4: godziny | I4: ECTS
A5: Informacje ogólne o programie studiów | G5: łączna liczba z planu studiów | H5: 1830 | I5: 180
G6: Przygotowanie i złożenie pracy | I6: 10
A7: KIERUNEK: | B7: ZARZĄDZANIE | G7: konsultacje: | H7: =MIN('nie dot 1'!AM6:AM9) -> 502
A8: PROFIL: | B8: PROFIL OGÓLNOAKADEMICKI | G8: RAZEM MIN | H8: =H5+H7 -> 2332
A9: POZIOM STUDIÓW: | B9: STUDIA PIERWSZEGO STOPNIA (3-letnie)
A10: FORMA STUDIÓW: | B10: STUDIA STACJONARNE
A13: łączna liczba godzin zajęć dydaktycznych | C13: ='nie dot 1'!G195 -> 1830 | D13: godz.
A14: łączna liczba pkt. ECTS jaką student musi uzyskać w ramach zajęć prowadzonych z bezpośrednim udziałem NA lub innych osób prowadzących zajęcia (w przypadku studiów stacjonarnych ponad 50% z ogólnej liczby pkt. ECTS) | C14: =H8/I1 -> 93.28 | D14: pkt. ECTS | G14: =C14/I5 -> 0.51822222 | H14: %ECTS
A15: liczba pkt. ECTS jaką student musi uzyskać w ramach zajęć z dziedziny nauk humanistycznych lub nauk społecznych (nie mniej niż 5 pkt. ECTS, nie dotyczy kierunków przyporządkowanych do dziedziny nauk humanistycznych lub nauk społecznych) | C15: ='[1]Podział dyscyplin (plan9)'!$C$90 -> 173 | D15: pkt. ECTS | E15: nauki humanistyczne+społeczne
A16: liczba pkt. ECTS za zajęcia do wyboru (nie mniej niż 30% z ogólnej liczby pkt. ECTS) | C16: ='nie dot 1'!F190+'nie dot 1'!F21 -> 70 | D16: pkt. ECTS | E16: specjalność+języki | G16: =C16/$I$5 -> 0.38888889 | H16: %ECTS
A17: zajęcia związane z prowadzoną w uczelni działalnością naukową w dyscyplinie / dyscyplinach, do których przyporządkowano kierunek studiów wskazać wyłącznie dla kierunku o profilu ogólnoakademickim (ponad 50% z ogólnej liczby pkt. ECTS) | C17: ='[1]Podział dyscyplin (plan9)'!$C$93 -> 159 | D17: pkt. ECTS | E17: nauki o zarządzaniu i jakości+ekonomia i finanse | G17: =C17/$I$5 -> 0.88333333 | H17: %ECTS
A18: zajęcia kształtujące umiejętności praktyczne wskazać wyłacznie dla kierunku o profilu praktycznym (ponad 50% z ogólnej liczby pkt. ECTS) | C18: nie dotyczy

Sheet AnalizaSS (2015)
A1: ANALIZA ZGODNOŚCI PLANU STUDIÓW Z WYTYCZNYMI DLA RAD PODSTAWOWYCH JEDNOSTEK ORGANIZACYJNYCH
A2: W SPRAWIE TWORZENIA NOWYCH I WERYFIKACJI ISTNIEJĄCYCH PROGRAMÓW STUDIÓW W UTP
B4: Jednostka prowadząca kierunek studiów | E4: WYDZIAŁ ZARZĄDZANIA
B5: Nazwa kierunku studiów | E5: ZARZĄDZANIE
B6: Rok akademicki, od którego obowiązuje plan studiów | E6: 2015/2016
B7: Numer planu studiów | E7: VII
B8: Forma studiów | E8: STACJONARNE
B9: Poziom studiów | E9: I STOPNIA
B10: OGÓLNA LICZBA GODZIN | E10: ='nie dot 1'!#REF! -> #REF! | F10: OGÓLNA LICZBA PKT. ECTS | J10: ='nie dot 1'!#REF! -> #REF!
B11: B I L A N S G O D Z I N I P U N K T Ó W E C T S 1
B12: Przedmiot/moduł | F12: Godziny | H12: Pozycje planu | I12: Punkty ECTS
F13: Liczba | G13: % | I13: Liczba | J13: %
B14: Zajęcia z obszaru nauk humanistycznych i nauk społecznych łącznie: | F14: program studiów uwzględnia szereg przedmiotów z zakresu nauk humanistycznych i nauk społecznych
B15: 1. | C15: w tym w zakresie ochrony własności intelektualnej i/lub bezpieczeństwa i higieny pracy 2 | F15: ='nie dot 1'!G26+'nie dot 1'!G27 -> 30 | G15: =F15/$E$10 -> #REF! | H15: A.6, A.7 | I15: ='nie dot 1'!F26+'nie dot 1'!F27 -> 4 | J15: =I15/$J$10 -> #REF!
B16: 2. | C16: w tym w zakresie podstaw przedsiębiorczości i uzyskiwania tzw. kompetencji miękkich 2 | F16: program studiów uwzględnia szereg przedmiotów z zakresu przedsiębiorczości i uzyskiwania tzw. kompetencji miękkich
B17: 3. | C17: w tym inne zajęcia z zakresu nauk humanistycznych i nauk społecznych, nieujęte w pkt 1 i 2 | F17: program studiów uwzględnia szereg przedmiotów z zakresu nauk humanistycznych i nauk społecznych
B18: Zajęcia z języków obcych | F18: ='nie dot 1'!G21 -> 120 | G18: =F18/$E$10 -> #REF! | H18: A.1 | I18: ='nie dot 1'!F21 -> 5 | J18: =I18/$J$10 -> #REF!
B19: Zajęcia z wychowania fizycznego | F19: ='nie dot 1'!G29 -> 60 | G19: =F19/$E$10 -> #REF! | H19: A.8 | I19: ='nie dot 1'!F29 -> 0 | J19: =I19/$J$10 -> #REF!
B20: Zajęcia z technologii informacyjnych 2 | F20: ='nie dot 1'!G22 -> 15 | G20: =F20/$E$10 -> #REF! | H20: A.2 | I20: ='nie dot 1'!F22 -> 2 | J20: =I20/$J$10 -> #REF!
B21: Seminarium dyplomowe | F21: ='nie dot 1'!G187 -> 60 | G21: =F21/$E$10 -> #REF! | H21: D.1.11, D.2.11 D.3.11, D.3.12 | I21: ='nie dot 1'!F187 -> 4 | J21: =I21/$J$10 -> #REF!
B22: Praktyka zawodowa 3 | F22: x | G22: x | H22: D.1.12, D.2.12 D.3.12, D.3.13 | I22: ='nie dot 1'!F188 -> 4 | J22: =I22/$J$10 -> #REF!
B23: Przygotowanie i złożenie pracy dyplomowej oraz przygotowanie do egzaminu dyplomowego | F23: x | G23: x | H23: D.1.13, D.2.13 D.3.13, D.3.14 | I23: ='nie dot 1'!F189 -> 10 | J23: =I23/$J$10 -> #REF!
B25: Zajęci ogólnouczelniane niezwiązane z kierunkiem studiów lub zajęcia na innym kierunku | F25: =F18+F19 -> 180 | G25: =F25/$E$10 -> #REF! | I25: =I18+I19 -> 5 | J25: =I25/$J$10 -> #REF!
B27: Zajęcia do wyboru (co najmniej 30% ECTS) | F27: =F33 -> 450 | G27: =F27/$E$10 -> #REF! | I27: =I33-I23 -> 55 | J27: =I27/$J$10 -> #REF!
B29: Przedmioty z zakresu nauk podstawowych | F29: ='nie dot 1'!G79 -> 330 | G29: =F29/$E$10 -> #REF! | I29: ='nie dot 1'!F79 -> 39 | J29: =I29/$J$10 -> #REF!
B31: Przedmioty kierunkowe | F31: ='nie dot 1'!G137 -> 690 | G31: =F31/$E$10 -> #REF! | I31: ='nie dot 1'!F137 -> 56 | J31: =I31/$J$10 -> #REF!
B33: Przedmioty specjalnościowe | F33: ='nie dot 1'!G190 -> 450 | G33: =F33/$E$10 -> #REF! | I33: ='nie dot 1'!F190 -> 65 | J33: =I33/$J$10 -> #REF! | R33: wykłady (min 45%)
B35: Zajęcia o charakterze praktycznym | F35: =N35&"-"&M35 -> #REF! | G35: 54-55% | I35: =P35 -> #REF! | J35: =I35/$J$10 -> #REF! | M35: =$E$10-MIN('nie dot 1'!#REF!,'nie dot 1'!$H$302,'nie dot 1'!$H$248,'nie dot 1'!$H$195) -> #REF! | N35: =$E$10-MAX('nie dot 1'!#REF!,'nie dot 1'!$H$302,'nie dot 1'!$H$248,'nie dot 1'!$H$195) -> #REF! | P35: ='nie dot 1'!#REF!-'nie dot 1'!#REF!-'nie dot 1'!#REF!-'nie dot 1'!#REF!-'nie dot 1'!F27-'nie dot 1'!F26 -> #REF! | Q35: ='nie dot 1'!#REF!-'nie dot 1'!#REF!-'nie dot 1'!#REF!-'nie dot 1'!#REF!-'nie dot 1'!F27-'nie dot 1'!F26 -> #REF! | R35: =MIN('nie dot 1'!#REF!,'nie dot 1'!$H$302,'nie dot 1'!$H$248,'nie dot 1'!$H$195) -> #REF!
B37: Zajęcia wymagające bezpośredniego udziału nauczyciela akademickiego | F37: =E10 -> #REF! | G37: =F37/$E$10 -> #REF! | I37: =J10-I22-I23 -> #REF! | J37: =I37/$J$10 -> #REF! | M37: =M35/$E$10 -> #REF! | N37: =N35/$E$10 -> #REF! | P37: =P35/J10 -> #REF! | R37: =R35/$E$10 -> #REF! | T37: =T35/$E$10 -> #REF! | U37: =U35/$E$10 -> #REF!
B39: Zajęcia powiązane z prowadzonymi badaniami naukowymi w dziedzeninie nauki / sztuki związanej z kierunkiem studiów służące zdobywaniu pogłębionej wiedzy i umiejętności prowadzenia badań naukowych 4 | F39: =F31+F33 -> 1140 | G39: =F39/$E$10 -> #REF! | I39: =I31+I33 -> 121 | J39: =I39/$J$10 -> #REF!
B41: Zajęcia powiązane z praktycznym przygotowaniem zawodowym służące zdobywaniu umiejętności praktycznych i kompetencji społecznych, prowadzone w warunkach właściwych dla danego zakresu działalności zawodowej, w sposób umożliwiający wykonywanie określonych czynności praktycznych i przez osoby, z których większość posiada doświadczenie zawodowe zdobyte poza uczelnią odpowiadające zakresowi tych zajęć5 | F41: nie dotyczy
B43: Procentowy udział liczby punktów ECTS dla obszarów kształcenia w programie studiów dla kierunków przyporządkowanych do więcej niż jednego obszaru kształcenia
B44: 1. obszar kształcenia w zakresie NAUK SPOŁECZNYCH | I44: 1
B45: 2. obszar kształcenia w zakresie …
B46: 3. obszar kształcenia w zakresie …
B47: ŁĄCZNIE: | I47: 100% pkt. ECTS
B48: 1 w ogólnej liczbie godzin i punktów ECTS przewidzianych w planie studiów
B49: 2 niewymagane dla studiów II stopnia | F49: ……………………………………………
B50: 3 niewymagane na studiach II stopnia o profilu ogólnoakademickim | F50: pieczątka i podpis kierownika samodzielnej jednostki
B51: 4dotyczy jedynie studiów o profilu ogólnoakademickim, wymagana realizacja zajęć powiązanych z prowadzonymi badaniami naukowymi w dziedzinie wyszczególnionej w opisie efektów kształcenia w wymiarze ponad 50% ogólnej liczby pkt. ECTS (wymagane dostosowanie programów prowadzonych kierunków studiów zgodnie z terminem określonym w pkt VII.5 wytycznych Senatu)
...
