Workbook

Sheet Stopien1SN
P2: Załącznik nr 2 do uchwały nr 5/478 Senatu PBŚ z dnia 23 lutego 2023 r.
D3: ='nie dot 1'!$D$3 -> PLAN STUDIÓW NR IX | AK3: Konsultacje
A4: W Y D Z I A Ł Z A R Z Ą D Z A N I A | AK4: =SUM(AK17:AK136) -> 121 | AL4: A+B+C
D5: PROFIL KSZTAŁCENIA: | I5: PROFIL OGÓLNOAKADEMICKI | AM5: razem | AN5: brakuje:
D6: RODZAJ STUDIÓW: | I6: STUDIA PIERWSZEGO STOPNIA (LICENCJACKIE 3-LETNIE) | AK6: =SUM(AK172:AK185) -> 85 | AL6: D1 | AM6: =$AK$4+AK6 -> 206 | AN6: =Informacje_SN!$H$2-Informacje_SN!$H$5-AM6 -> 944
D7: FORMA STUDIÓW: | I7: STUDIA NIESTACJONARNE | AK7: =SUM(AK229:AK242) -> 140 | AL7: D2 | AM7: =$AK$4+AK7 -> 261 | AN7: =Informacje_SN!$H$2-Informacje_SN!$H$5-AM7 -> 889
D8: KIERUNEK: | I8: ZARZĄDZANIE | X8: ………………….. | AK8: =SUM(AK279:AK292) -> 210 | AL8: D3 | AM8: =$AK$4+AK8 -> 331 | AN8: =Informacje_SN!$H$2-Informacje_SN!$H$5-AM8 -> 819
D9: SPECJALNOŚĆ: | I9: ='nie dot 1'!I9 -> 1. ZARZĄDZANIE W HANDLU i USŁUGACH | X9: pieczątka uczelni
I10: ='nie dot 1'!I10 -> 2. MARKETING W ORGANIZACJI
I11: ='nie dot 1'!I11 -> 3.ZARZĄDZANIE MAŁĄ I ŚREDNIĄ FIRMĄ
A15: Pozycja planu | B15: NAZWA PRZEDMIOTU | D15: Liczba | G15: GODZINY | L15: ROZKŁAD ZAJĘĆ w SEMESTRZE
G16: Razem | H16: w tym | L16: sem. I | P16: sem. II | T16: sem. III | X16: sem. IV | AB16: sem. V | AF16: sem. VI
D17: egzami-nów | E17: zali-czeń | F17: pkt. ECTS | H17: W | I17: Ć | J17: L | K17: P / S | L17: Liczba godzin w semestrze
L18: W | M18: Ć | N18: L | O18: P/S | P18: W | Q18: Ć | R18: L | S18: P/S | T18: W | U18: Ć | V18: L | W18: P/S | X18: W | Y18: Ć | Z18: L | AA18: P/S | AB18: W | AC18: Ć | AD18: L | AE18: P/S | AF18: W | AG18: Ć | AH18: L | AI18: P/S
A20: A. | B20: PRZEDMIOTY OGÓLNE
A21: 1. | B21: Język obcy4 | E21: 4 | F21: 5 | G21: =SUM(H21:K21) -> 80 | H21: =L21+P21+T21+X21+AB21+AF21 -> 0 | I21: =M21+Q21+U21+Y21+AC21+AG21 -> 0 | J21: =N21+R21+V21+Z21+AD21+AH21 -> 80 | K21: =O21+S21+W21+AA21+AE21+AI21 -> 0 | L21: 0 | M21: 0 | N21: 20 | P21: 0 | R21: 20 | V21: 20 | Z21: 20 | AK21: 10
A22: 2. | B22: Arkusz kalkulacyjny w zarządzaniu | E22: 2 | F22: 2 | G22: =SUM(H22:K22) -> 10 | H22: =L22+P22+T22+X22+AB22+AF22 -> 0 | I22: =M22+Q22+U22+Y22+AC22+AG22 -> 0 | J22: =N22+R22+V22+Z22+AD22+AH22 -> 10 | K22: =O22+S22+W22+AA22+AE22+AI22 -> 0 | L22: 0 | M22: 0 | P22: 0 | R22: 10 | U22: 0 | V22: 0 | Y22: 0 | Z22: 0 | AD22: 0 | AH22: 0 | AK22: 20
A23: 3. | B23: Socjologia | E23: 2 | F23: 2 | G23: =SUM(H23:K23) -> 20 | H23: =L23+P23+T23+X23+AB23+AF23 -> 10 | I23: =M23+Q23+U23+Y23+AC23+AG23 -> 10 | J23: =N23+R23+V23+Z23+AD23+AH23 -> 0 | K23: =O23+S23+W23+AA23+AE23+AI23 -> 0 | L23: 10 | M23: 10 | AK23: 5
A24: 4. | B24: Filozofia | E24: 2 | F24: 2 | G24: =SUM(H24:K24) -> 25 | H24: =L24+P24+T24+X24+AB24+AF24 -> 15 | I24: =M24+Q24+U24+Y24+AC24+AG24 -> 10 | J24: =N24+R24+V24+Z24+AD24+AH24 -> 0 | K24: =O24+S24+W24+AA24+AE24+AI24 -> 0 | L24: 0 | M24: 0 | P24: 15 | Q24: 10 | U24: 0 | V24: 0 | Y24: 0 | Z24: 0 | AD24: 0 | AH24: 0 | AK24: 0
A25: 5. | B25: Psychologia | D25: 1 | E25: 1 | F25: 3 | G25: =SUM(H25:K25) -> 20 | H25: =L25+P25+T25+X25+AB25+AF25 -> 10 | I25: =M25+Q25+U25+Y25+AC25+AG25 -> 10 | J25: =N25+R25+V25+Z25+AD25+AH25 -> 0 | K25: =O25+S25+W25+AA25+AE25+AI25 -> 0 | L25: 10 | M25: 10 | AK25: 0
A26: 6. | B26: Ochrona własności intelektualnej | E26: 1 | F26: 3 | G26: =SUM(H26:K26) -> 10 | H26: =L26+P26+T26+X26+AB26+AF26 -> 10 | I26: =M26+Q26+U26+Y26+AC26+AG26 -> 0 | J26: =N26+R26+V26+Z26+AD26+AH26 -> 0 | K26: =O26+S26+W26+AA26+AE26+AI26 -> 0 | L26: 10 | M26: 0 | P26: 0 | U26: 0 | V26: 0 | Y26: 0 | Z26: 0 | AD26: 0 | AH26: 0 | AK26: 0
A27: 7. | B27: BHP i ergonomia | E27: 1 | F27: 1 | G27: =SUM(H27:K27) -> 10 | H27: =L27+P27+T27+X27+AB27+AF27 -> 10 | I27: =M27+Q27+U27+Y27+AC27+AG27 -> 0 | J27: =N27+R27+V27+Z27+AD27+AH27 -> 0 | K27: =O27+S27+W27+AA27+AE27+AI27 -> 0 | L27: 10 | M27: 0 | AK27: 0
A28: 8. | B28: Polityka społeczna | C28: Skinder | E28: 2 | F28: 2 | G28: =SUM(H28:K28) -> 20 | H28: =L28+P28+T28+X28+AB28+AF28 -> 10 | I28: =M28+Q28+U28+Y28+AC28+AG28 -> 10 | J28: =N28+R28+V28+Z28+AD28+AH28 -> 0 | K28: =O28+S28+W28+AA28+AE28+AI28 -> 0 | P28: 10 | Q28: 10
B30: RAZEM | D30: =SUM(D21:D29) -> 1 | E30: =SUM(E21:E29) -> 15 | F30: =SUM(F21:F29) -> 20 | G30: =SUM(G21:G29) -> 195 | H30: =SUM(H21:H29) -> 65 | I30: =SUM(I21:I29) -> 40 | J30: =SUM(J21:J29) -> 90 | K30: =SUM(K21:K29) -> 0 | ... AI30: =SUM(AI21:AI29) -> 0
L31: =SUM(L30:O30) -> 80 | P31: =SUM(P30:S30) -> 75 | T31: =SUM(T30:W30) -> 20 | X31: =SUM(X30:AA30) -> 20 | AB31: =SUM(AB30:AE30) -> 0 | AF31: =SUM(AF30:AI30) -> 0 | AJ31: =SUM(L31:AI31)=G30 -> TRUE
A32: PODSUMOWANIE ARKUSZA 1 | D32: egzami-nów | E32: zali-czeń | F32: pkt. ECTS | G32: Razem | H32: W | I32: Ć | J32: L | K32: P / S | L32: sem. I | P32: sem. II | T32: sem. III | X32: sem. IV | AB32: sem. V | AF32: sem. VI
L33: W | M33: Ć | N33: L | O33: P/S | P33: W | Q33: Ć | R33: L | S33: P/S | T33: W | U33: Ć | V33: L | W33: P/S | X33: W | Y33: Ć | Z33: L | AA33: P/S | AB33: W | AC33: Ć | AD33: L | AE33: P/S | AF33: W | AG33: Ć | AH33: L | AI33: P/S
D35: =SUM(D30) -> 1 | E35: =SUM(E30) -> 15 | F35: =SUM(F30) -> 20 | G35: =SUM(G30) -> 195 | H35: =SUM(H30) -> 65 | I35: =SUM(I30) -> 40 | J35: =SUM(J30) -> 90 | K35: =SUM(K30) -> 0 | ... AI35: =SUM(AI30) -> 0
L36: =SUM(L35:O35) -> 80 | P36: =SUM(P35:S35) -> 75 | T36: =SUM(T35:W35) -> 20 | X36: =SUM(X35:AA35) -> 20 | AB36: =SUM(AB35:AE35) -> 0 | AF36: =SUM(AF35:AI35) -> 0 | AJ36: =SUM(L36:AI36)=G35 -> TRUE
D37: Liczba: | G37: egzaminów | L37: =SUM(IF(SUM(L23:O23)>0,$D23,0),IF(SUM(L22:O22)>0,$D22,0),IF(SUM(L24:O24)>0,$D24,0),IF(SUM(L25:O25)>0,$D25,0),IF(SUM(L26:O26)>0,$D26,0),IF(SUM(L27:O27)>0,$D27,0),IF(SUM(L29:O29)>0,$D29,0),IF(SUM(L21:O21)>0,$D21,0)) -> 1 | P37: =SUM(IF(SUM(P23:S23)>0,$D23,0),IF(SUM(P22:S22)>0,$D22,0),IF(SUM(P24:S24)>0,$D24,0),IF(SUM(P25:S25)>0,$D25,0),IF(SUM(P26:S26)>0,$D26,0),IF(SUM(P27:S27)>0,$D27,0),IF(SUM(P29:S29)>0,$D29,0),IF(SUM(P21:S21)>0,$D21,IF(SUM(P28:S28)>0,$D28,0))) -> 0 | T37: =SUM(IF(SUM(T23:W23)>0,$D23,0),IF(SUM(T22:W22)>0,$D22,0),IF(SUM(T24:W24)>0,$D24,0),IF(SUM(T25:W25)>0,$D25,0),IF(SUM(T26:W26)>0,$D26,0),IF(SUM(T27:W27)>0,$D27,0),IF(SUM(T29:W29)>0,$D29,0),IF(SUM(T21:W21)>0,$D21,IF(SUM(T28:W28)>0,$D28,0))) -> 0 | X37: =SUM(IF(SUM(X23:AA23)>0,$D23,0),IF(SUM(X22:AA22)>0,$D22,0),IF(SUM(X24:AA24)>0,$D24,0),IF(SUM(X25:AA25)>0,$D25,0),IF(SUM(X26:AA26)>0,$D26,0),IF(SUM(X27:AA27)>0,$D27,0),IF(SUM(X29:AA29)>0,$D29,0),IF(SUM(X21:AA21)>0,$D21,IF(SUM(X28:AA28)>0,$D28,0))) -> 0 | AB37: =SUM(IF(SUM(AB23:AE23)>0,$D23,0),IF(SUM(AB22:AE22)>0,$D22,0),IF(SUM(AB24:AE24)>0,$D24,0),IF(SUM(AB25:AE25)>0,$D25,0),IF(SUM(AB26:AE26)>0,$D26,0),IF(SUM(AB27:AE27)>0,$D27,0),IF(SUM(AB29:AE29)>0,$D29,0),IF(SUM(AB21:AE21)>0,$D21,IF(SUM(AB28:AE28)>0,$D28,0))) -> 0 | AF37: =SUM(IF(SUM(AF23:AI23)>0,$D23,0),IF(SUM(AF22:AI22)>0,$D22,0),IF(SUM(AF24:AI24)>0,$D24,0),IF(SUM(AF25:AI25)>0,$D25,0),IF(SUM(AF26:AI26)>0,$D26,0),IF(SUM(AF27:AI27)>0,$D27,0),IF(SUM(AF29:AI29)>0,$D29,0),IF(SUM(AF21:AI21)>0,$D21,IF(SUM(AF28:AI28)>0,$D28,0))) -> 0 | AJ37: =SUM(L37:AI37) -> 1 | AK37: =AJ37=D35 -> TRUE
G38: zaliczeń | L38: =SUM(IF(SUM(L24:O24)>0,$E24,0),IF(SUM(L23:O23)>0,$E23,0),IF(SUM(L25:O25)>0,$E25,0),IF(SUM(L26:O26)>0,$E26,0),IF(SUM(L27:O27)>0,$E27,0),IF(SUM(L28:O28)>0,$E28,0),IF(SUM(L29:O29)>0,$E29/2,0),IF(SUM(L21:O21)>0,1,0),IF(SUM(L22:O22)>0,$E22,0)) -> 6 | P38: =SUM(IF(SUM(P24:S24)>0,$E24,0),IF(SUM(P23:S23)>0,$E23,0),IF(SUM(P25:S25)>0,$E25,0),IF(SUM(P26:S26)>0,$E26,0),IF(SUM(P27:S27)>0,$E27,0),IF(SUM(P28:S28)>0,$E28,0),IF(SUM(P29:S29)>0,$E29/2,0),IF(SUM(P21:S21)>0,1,0),IF(SUM(P22:S22)>0,$E22,0)) -> 7 | T38: =SUM(IF(SUM(T24:W24)>0,$E24,0),IF(SUM(T23:W23)>0,$E23,0),IF(SUM(T25:W25)>0,$E25,0),IF(SUM(T26:W26)>0,$E26,0),IF(SUM(T27:W27)>0,$E27,0),IF(SUM(T28:W28)>0,$E28,0),IF(SUM(T29:W29)>0,$E29,0),IF(SUM(T21:W21)>0,1,0),IF(SUM(T22:W22)>0,$E22,0)) -> 1 | X38: =SUM(IF(SUM(X24:AA24)>0,$E24,0),IF(SUM(X23:AA23)>0,$E23,0),IF(SUM(X25:AA25)>0,$E25,0),IF(SUM(X26:AA26)>0,$E26,0),IF(SUM(X27:AA27)>0,$E27,0),IF(SUM(X28:AA28)>0,$E28,0),IF(SUM(X29:AA29)>0,$E29,0),IF(SUM(X21:AA21)>0,1,0),IF(SUM(X22:AA22)>0,$E22,0)) -> 1 | AB38: =SUM(IF(SUM(AB24:AE24)>0,$E24,0),IF(SUM(AB23:AE23)>0,$E23,0),IF(SUM(AB25:AE25)>0,$E25,0),IF(SUM(AB26:AE26)>0,$E26,0),IF(SUM(AB27:AE27)>0,$E27,0),IF(SUM(AB28:AE28)>0,$E28,0),IF(SUM(AB29:AE29)>0,$E29,0),IF(SUM(AB21:AE21)>0,1,0),IF(SUM(AB22:AE22)>0,$E22,0)) -> 0 | AF38: =SUM(IF(SUM(AF24:AI24)>0,$E24,0),IF(SUM(AF23:AI23)>0,$E23,0),IF(SUM(AF25:AI25)>0,$E25,0),IF(SUM(AF26:AI26)>0,$E26,0),IF(SUM(AF27:AI27)>0,$E27,0),IF(SUM(AF28:AI28)>0,$E28,0),IF(SUM(AF29:AI29)>0,$E29,0),IF(SUM(AF21:AI21)>0,1,0),IF(SUM(AF22:AI22)>0,$E22,0)) -> 0 | AJ38: =SUM(L38:AI38) -> 15 | AK38: =AJ38=E35 -> TRUE
G39: pkt. ECTS | L39: =SUM(IF(SUM(L25:O25)>0,$F25,0),IF(SUM(L24:O24)>0,$F24,0),IF(SUM(L26:O26)>0,$F26,0),IF(SUM(L27:O27)>0,$F27,0),IF(SUM(L28:O28)>0,$F28,0),IF(SUM(L29:O29)>0,$F29/2,0),IF(SUM(L21:O21)>0,1,0),IF(SUM(L22:O22)>0,$F22,0),IF(SUM(L23:O23)>0,$F23,0)) -> 10 | P39: =SUM(IF(SUM(P25:S25)>0,$F25,0),IF(SUM(P24:S24)>0,$F24,0),IF(SUM(P26:S26)>0,$F26,0),IF(SUM(P27:S27)>0,$F27,0),IF(SUM(P28:S28)>0,$F28,0),IF(SUM(P29:S29)>0,$F29/2,0),IF(SUM(P21:S21)>0,1,0),IF(SUM(P22:S22)>0,$F22,0),IF(SUM(P23:S23)>0,$F23,0)) -> 7 | T39: =SUM(IF(SUM(T25:W25)>0,$F25,0),IF(SUM(T24:W24)>0,$F24,0),IF(SUM(T26:W26)>0,$F26,0),IF(SUM(T27:W27)>0,$F27,0),IF(SUM(T28:W28)>0,$F28,0),IF(SUM(T29:W29)>0,$F29/2,0),IF(SUM(T21:W21)>0,1,0),IF(SUM(T22:W22)>0,$F22,0),IF(SUM(T23:W23)>0,$F23,0)) -> 1 | X39: =SUM(IF(SUM(X25:AA25)>0,$F25,0),IF(SUM(X24:AA24)>0,$F24,0),IF(SUM(X26:AA26)>0,$F26,0),IF(SUM(X27:AA27)>0,$F27,0),IF(SUM(X28:AA28)>0,$F28,0),IF(SUM(X29:AA29)>0,$F29/2,0),IF(SUM(X21:AA21)>0,2,0),IF(SUM(X22:AA22)>0,$F22,0),IF(SUM(X23:AA23)>0,$F23,0)) -> 2 | AB39: =SUM(IF(SUM(AB25:AE25)>0,$F25,0),IF(SUM(AB24:AE24)>0,$F24,0),IF(SUM(AB26:AE26)>0,$F26,0),IF(SUM(AB27:AE27)>0,$F27,0),IF(SUM(AB28:AE28)>0,$F28,0),IF(SUM(AB29:AE29)>0,$F29/2,0),IF(SUM(AB21:AE21)>0,1,0),IF(SUM(AB22:AE22)>0,$F22,0),IF(SUM(AB23:AE23)>0,$F23,0)) -> 0 | AF39: =SUM(IF(SUM(AF25:AI25)>0,$F25,0),IF(SUM(AF24:AI24)>0,$F24,0),IF(SUM(AF26:AI26)>0,$F26,0),IF(SUM(AF27:AI27)>0,$F27,0),IF(SUM(AF28:AI28)>0,$F28,0),IF(SUM(AF29:AI29)>0,$F29/2,0),IF(SUM(AF21:AI21)>0,1,0),IF(SUM(AF22:AI22)>0,$F22,0),IF(SUM(AF23:AI23)>0,$F23,0)) -> 0 | AJ39: =SUM(L39:AI39) -> 20 | AK39: =AJ39=F35 -> TRUE
A40: UWAGI:
B41: ='nie dot 1'!B41 -> 1. Dla studentów I roku studiów stacjonarnych I stopnia wszystkie formy zajęć dydaktycznych przewidziane w planie studiów są obowiązkowe. | Y41: Obowiązuje od roku akademickiego: 2023/2024
B42: ='nie dot 1'!B42 -> Na wyższych latach obowiązkowe są: ćwiczenia audytoryjne, laboratoryjne, lektoraty, zajęcia: sportowe, terenowe, projektowe, plenerowe i seminaria.
B43: ='nie dot 1'!B43 -> 2. Studentów obowiązuje zaliczenie na ocenę wszystkich przedmiotów. | Y43: Legenda:
B44: ='nie dot 1'!B44 -> 3. Studentów obowiązuje zaliczenie na ocenę praktyki zawodowej w wymiarze 4 tygodni (4 pkt. ECTS). | Y44: W | Z44: - wykład
B45: ='nie dot 1'!B45 -> 4. Język obcy do wyboru spośród: 1. Język angielski. 2. Język niemiecki. 3. Język rosyjski. | Y45: Ć | Z45: - ćwiczenia audytoryjne
B46: ='nie dot 1'!B46 -> 5. Język obcy 1-3 semstr 1 ECTS, 4 semestr 2 ECTS. | Y46: L | Z46: - ćwiczenia laboratoryjne, lektorat języków obcych
B47: ='nie dot 1'!B47 -> 6. Warunkiem zaliczenia ostatniego semestru Seminarium dyplomowego jest przygotowanie i złożenie pracy dyplomowej w systemie APD. | Y47: P | Z47: - ćwiczenia projektowe
B48: 7. Możliwość realizacji metodą synchroniczną wykładów, które zostaną zaplanowane do realizacji w piątki | Y48: S | Z48: - seminarium
B49: (zgodnie z harmonogramem zjazdów i rozkładem zajęć). | Y49: T | Z49: - zajęcia terenowe
Z50: - egzamin
Z51: - zajęcia realizowane na odległość met. synchroniczną
X52: ARKUSZ 1
D53: ='nie dot 1'!$D$3 -> PLAN STUDIÓW NR IX
A54: W Y D Z I A Ł Z A R Z Ą D Z A N I A
D55: PROFIL KSZTAŁCENIA: | I55: PROFIL OGÓLNOAKADEMICKI
D56: RODZAJ STUDIÓW: | I56: STUDIA PIERWSZEGO STOPNIA (LICENCJACKIE 3-LETNIE)
D57: FORMA STUDIÓW: | I57: STUDIA NIESTACJONARNE
D58: KIERUNEK: | I58: ZARZĄDZANIE | X58: …………………..
D59: SPECJALNOŚĆ: | I59: =I9 -> 1. ZARZĄDZANIE W HANDLU i USŁUGACH | X59: pieczątka uczelni
I60: =I10 -> 2. MARKETING W ORGANIZACJI
I61: =I11 -> 3.ZARZĄDZANIE MAŁĄ I ŚREDNIĄ FIRMĄ
A65: Pozycja planu | B65: NAZWA PRZEDMIOTU | D65: Liczba | G65: GODZINY | L65: ROZKŁAD ZAJĘĆ w SEMESTRZE
G66: Razem | H66: w tym | L66: sem. I | P66: sem. II | T66: sem. III | X66: sem. IV | AB66: sem. V | AF66: sem. VI
D67: egza-mi-nów | E67: zali-czeń | F67: pkt. ECTS | H67: W | I67: Ć | J67: L | K67: P / S | L67: Liczba godzin w semestrze
L68: W | M68: Ć | N68: L | O68: P/S | P68: W | Q68: Ć | R68: L | S68: P/S | T68: W | U68: Ć | V68: L | W68: P/S | X68: W | Y68: Ć | Z68: L | AA68: P/S | AB68: W | AC68: Ć | AD68: L | AE68: P/S | AF68: W | AG68: Ć | AH68: L | AI68: P/S
A70: B. | B70: PRZEDMIOTY PODSTAWOWE
A71: 1. | B71: Podstawy zarządzania | D71: 1 | E71: 1 | F71: 6 | G71: =SUM(H71:K71) -> 30 | H71: =L71+P71+T71+X71+AB71+AF71 -> 20 | I71: =M71+Q71+U71+Y71+AC71+AG71 -> 10 | J71: =N71+R71+V71+Z71+AD71+AH71 -> 0 | K71: =O71+S71+W71+AA71+AE71+AI71 -> 0 | L71: 20 | M71: 10 | P71: 0 | T71: 0 | U71: 0 | AK71: 0
A72: 2. | B72: Nauka o organizacji | D72: 1 | E72: 1 | F72: 5 | G72: =SUM(H72:K72) -> 20 | H72: =L72+P72+T72+X72+AB72+AF72 -> 10 | I72: =M72+Q72+U72+Y72+AC72+AG72 -> 10 | J72: =N72+R72+V72+Z72+AD72+AH72 -> 0 | K72: =O72+S72+W72+AA72+AE72+AI72 -> 0 | M72: 0 | P72: 10 | Q72: 10 | T72: 0 | U72: 0 | AK72: 0
A73: 3. | B73: Mikroekonomia | D73: 1 | E73: 1 | F73: 7 | G73: =SUM(H73:K73) -> 40 | H73: =L73+P73+T73+X73+AB73+AF73 -> 20 | I73: =M73+Q73+U73+Y73+AC73+AG73 -> 20 | J73: =N73+R73+V73+Z73+AD73+AH73 -> 0 | K73: =O73+S73+W73+AA73+AE73+AI73 -> 0 | L73: 20 | M73: 20 | P73: 0 | T73: 0 | U73: 0 | AK73: 10
A74: 4. | B74: Finanse | E74: 2 | F74: 3 | G74: =SUM(H74:K74) -> 20 | H74: =L74+P74+T74+X74+AB74+AF74 -> 10 | I74: =M74+Q74+U74+Y74+AC74+AG74 -> 10 | J74: =N74+R74+V74+Z74+AD74+AH74 -> 0 | K74: =O74+S74+W74+AA74+AE74+AI74 -> 0 | M74: 0 | T74: 10 | U74: 10 | AK74: 2
A75: 5. | B75: Prawo | D75: 1 | E75: 1 | F75: 5 | G75: =SUM(H75:K75) -> 40 | H75: =L75+P75+T75+X75+AB75+AF75 -> 20 | I75: =M75+Q75+U75+Y75+AC75+AG75 -> 20 | J75: =N75+R75+V75+Z75+AD75+AH75 -> 0 | K75: =O75+S75+W75+AA75+AE75+AI75 -> 0 | M75: 0 | P75: 20 | Q75: 20 | T75: 0 | U75: 0 | AK75: 10
A76: 6. | B76: Matematyka | D76: 1 | E76: 1 | F76: 7 | G76: =SUM(H76:K76) -> 40 | H76: =L76+P76+T76+X76+AB76+AF76 -> 20 | I76: =M76+Q76+U76+Y76+AC76+AG76 -> 20 | J76: =N76+R76+V76+Z76+AD76+AH76 -> 0 | K76: =O76+S76+W76+AA76+AE76+AI76 -> 0 | L76: 20 | M76: 20 | P76: 0 | T76: 0 | U76: 0 | AK76: 0
A77: 7. | B77: Statystyka opisowa | D77: 1 | E77: 1 | F77: 6 | G77: =SUM(H77:K77) -> 30 | H77: =L77+P77+T77+X77+AB77+AF77 -> 10 | I77: =M77+Q77+U77+Y77+AC77+AG77 -> 20 | J77: =N77+R77+V77+Z77+AD77+AH77 -> 0 | K77: =O77+S77+W77+AA77+AE77+AI77 -> 0 | M77: 0 | P77: 10 | Q77: 20 | T77: 0 | U77: 0 | AK77: 0
T78: 0
B79: RAZEM | D79: =SUM(D71:D78) -> 6 | E79: =SUM(E71:E78) -> 8 | F79: =SUM(F71:F78) -> 39 | G79: =SUM(G71:G78) -> 220 | H79: =SUM(H71:H78) -> 110 | I79: =SUM(I71:I78) -> 110 | J79: =SUM(J71:J78) -> 0 | K79: =SUM(K71:K78) -> 0 | ... AI79: =SUM(AI71:AI78) -> 0
L80: =SUM(L79:O79) -> 110 | P80: =SUM(P79:S79) -> 90 | T80: =SUM(T79:W79) -> 20 | X80: =SUM(X79:AA79) -> 0 | AB80: =SUM(AB79:AE79) -> 0 | AF80: =SUM(AF79:AI79) -> 0 | AJ80: =SUM(L80:AI80)=G79 -> TRUE
A81: PODSUMOWANIE ARKUSZA 1+2 | D81: egza-mi-nów | E81: zali-czeń | F81: pkt. ECTS | G81: Razem | H81: W | I81: Ć | J81: L | K81: P / S | L81: sem. I | P81: sem. II | T81: sem. III | X81: sem. IV | AB81: sem. V | AF81: sem. VI
L82: W | M82: Ć | N82: L | O82: P/S | P82: W | Q82: Ć | R82: L | S82: P/S | T82: W | U82: Ć | V82: L | W82: P/S | X82: W | Y82: Ć | Z82: L | AA82: P/S | AB82: W | AC82: Ć | AD82: L | AE82: P/S | AF82: W | AG82: Ć | AH82: L | AI82: P/S
D84: =SUM(D30+D79) -> 7 | E84: =SUM(E30+E79) -> 23 | F84: =SUM(F30+F79) -> 59 | G84: =SUM(G30+G79) -> 415 | H84: =SUM(H30+H79) -> 175 | I84: =SUM(I30+I79) -> 150 | J84: =SUM(J30+J79) -> 90 | K84: =SUM(K30+K79) -> 0 | ... AI84: =SUM(AI30+AI79) -> 0
L85: =SUM(L84:O84) -> 190 | P85: =SUM(P84:S84) -> 165 | T85: =SUM(T84:W84) -> 40 | X85: =SUM(X84:AA84) -> 20 | AB85: =SUM(AB84:AE84) -> 0 | AF85: =SUM(AF84:AI84) -> 0 | AJ85: =SUM(L85:AI85)=G84 -> TRUE
D86: Liczba: | G86: egzaminów | L86: =SUM(L37,IF(SUM(L73:O73)>0,$D73,0),IF(SUM(L72:O72)>0,$D72,0),IF(SUM(L74:O74)>0,$D74,0),IF(SUM(L75:O75)>0,$D75,0),IF(SUM(L76:O76)>0,$D76,0),IF(SUM(L77:O77)>0,$D77,0),IF(SUM(L78:O78)>0,$D78,0),IF(SUM(L71:O71)>0,$D71,0)) -> 4 | P86: =SUM(P37,IF(SUM(P73:S73)>0,$D73,0),IF(SUM(P72:S72)>0,$D72,0),IF(SUM(P74:S74)>0,$D74,0),IF(SUM(P75:S75)>0,$D75,0),IF(SUM(P76:S76)>0,$D76,0),IF(SUM(P77:S77)>0,$D77,0),IF(SUM(P78:S78)>0,$D78,0),IF(SUM(P71:S71)>0,$D71,0)) -> 3 | T86: =SUM(T37,IF(SUM(T73:W73)>0,$D73,0),IF(SUM(T72:W72)>0,$D72,0),IF(SUM(T74:W74)>0,$D74,0),IF(SUM(T75:W75)>0,$D75,0),IF(SUM(T76:W76)>0,$D76,0),IF(SUM(T77:W77)>0,$D77,0),IF(SUM(T78:W78)>0,$D78,0),IF(SUM(T71:W71)>0,$D71,0)) -> 0 | X86: =SUM(X37,IF(SUM(X73:AA73)>0,$D73,0),IF(SUM(X72:AA72)>0,$D72,0),IF(SUM(X74:AA74)>0,$D74,0),IF(SUM(X75:AA75)>0,$D75,0),IF(SUM(X76:AA76)>0,$D76,0),IF(SUM(X77:AA77)>0,$D77,0),IF(SUM(X78:AA78)>0,$D78,0),IF(SUM(X71:AA71)>0,$D71,0)) -> 0 | AB86: =SUM(AB37,IF(SUM(AB73:AE73)>0,$D73,0),IF(SUM(AB72:AE72)>0,$D72,0),IF(SUM(AB74:AE74)>0,$D74,0),IF(SUM(AB75:AE75)>0,$D75,0),IF(SUM(AB76:AE76)>0,$D76,0),IF(SUM(AB77:AE77)>0,$D77,0),IF(SUM(AB78:AE78)>0,$D78,0),IF(SUM(AB71:AE71)>0,$D71,0)) -> 0 | AF86: =SUM(AF37,IF(SUM(AF73:AI73)>0,$D73,0),IF(SUM(AF72:AI72)>0,$D72,0),IF(SUM(AF74:AI74)>0,$D74,0),IF(SUM(AF75:AI75)>0,$D75,0),IF(SUM(AF76:AI76)>0,$D76,0),IF(SUM(AF77:AI77)>0,$D77,0),IF(SUM(AF78:AI78)>0,$D78,0),IF(SUM(AF71:AI71)>0,$D71,0)) -> 0 | AJ86: =SUM(L86:AI86) -> 7
G87: zaliczeń | L87: =SUM(L38,IF(SUM(L74:O74)>0,$E74,0),IF(SUM(L73:O73)>0,$E73,0),IF(SUM(L75:O75)>0,$E75,0),IF(SUM(L76:O76)>0,$E76,0),IF(SUM(L77:O77)>0,$E77,0),IF(SUM(L78:O78)>0,$E78,0),IF(SUM(L71:O71)>0,$E71,0),IF(SUM(L72:O72)>0,$E72,0)) -> 9 | P87: =SUM(P38,IF(SUM(P74:S74)>0,$E74,0),IF(SUM(P73:S73)>0,$E73,0),IF(SUM(P75:S75)>0,$E75,0),IF(SUM(P76:S76)>0,$E76,0),IF(SUM(P77:S77)>0,$E77,0),IF(SUM(P78:S78)>0,$E78,0),IF(SUM(P71:S71)>0,$E71,0),IF(SUM(P72:S72)>0,$E72,0)) -> 10 | T87: =SUM(T38,IF(SUM(T74:W74)>0,$E74,0),IF(SUM(T73:W73)>0,$E73,0),IF(SUM(T75:W75)>0,$E75,0),IF(SUM(T76:W76)>0,$E76,0),IF(SUM(T77:W77)>0,$E77,0),IF(SUM(T78:W78)>0,$E78,0),IF(SUM(T71:W71)>0,$E71,0),IF(SUM(T72:W72)>0,$E72,0)) -> 3 | X87: =SUM(X38,IF(SUM(X74:AA74)>0,$E74,0),IF(SUM(X73:AA73)>0,$E73,0),IF(SUM(X75:AA75)>0,$E75,0),IF(SUM(X76:AA76)>0,$E76,0),IF(SUM(X77:AA77)>0,$E77,0),IF(SUM(X78:AA78)>0,$E78,0),IF(SUM(X71:AA71)>0,$E71,0),IF(SUM(X72:AA72)>0,$E72,0)) -> 1 | AB87: =SUM(AB38,IF(SUM(AB74:AE74)>0,$E74,0),IF(SUM(AB73:AE73)>0,$E73,0),IF(SUM(AB75:AE75)>0,$E75,0),IF(SUM(AB76:AE76)>0,$E76,0),IF(SUM(AB77:AE77)>0,$E77,0),IF(SUM(AB78:AE78)>0,$E78,0),IF(SUM(AB71:AE71)>0,$E71,0),IF(SUM(AB72:AE72)>0,$E72,0)) -> 0 | AF87: =SUM(AF38,IF(SUM(AF74:AI74)>0,$E74,0),IF(SUM(AF73:AI73)>0,$E73,0),IF(SUM(AF75:AI75)>0,$E75,0),IF(SUM(AF76:AI76)>0,$E76,0),IF(SUM(AF77:AI77)>0,$E77,0),IF(SUM(AF78:AI78)>0,$E78,0),IF(SUM(AF71:AI71)>0,$E71,0),IF(SUM(AF72:AI72)>0,$E72,0)) -> 0 | AJ87: =SUM(L87:AI87) -> 23
G88: pkt. ECTS | L88: =SUM(L39,IF(SUM(L75:O75)>0,$F75,0),IF(SUM(L74:O74)>0,$F74,0),IF(SUM(L76:O76)>0,$F76,0),IF(SUM(L77:O77)>0,$F77,0),IF(SUM(L78:O78)>0,$F78,0),IF(SUM(L72:O72)>0,$F72,0),IF(SUM(L71:O71)>0,$F71,0),IF(SUM(L73:O73)>0,$F73,0)) -> 30 | P88: =SUM(P39,IF(SUM(P75:S75)>0,$F75,0),IF(SUM(P74:S74)>0,$F74,0),IF(SUM(P76:S76)>0,$F76,0),IF(SUM(P77:S77)>0,$F77,0),IF(SUM(P78:S78)>0,$F78,0),IF(SUM(P72:S72)>0,$F72,0),IF(SUM(P71:S71)>0,$F71,0),IF(SUM(P73:S73)>0,$F73,0)) -> 23 | T88: =SUM(T39,IF(SUM(T75:W75)>0,$F75,0),IF(SUM(T74:W74)>0,$F74,0),IF(SUM(T76:W76)>0,$F76,0),IF(SUM(T77:W77)>0,$F77,0),IF(SUM(T78:W78)>0,$F78,0),IF(SUM(T72:W72)>0,$F72,0),IF(SUM(T71:W71)>0,$F71,0),IF(SUM(T73:W73)>0,$F73,0)) -> 4 | X88: =SUM(X39,IF(SUM(X75:AA75)>0,$F75,0),IF(SUM(X74:AA74)>0,$F74,0),IF(SUM(X76:AA76)>0,$F76,0),IF(SUM(X77:AA77)>0,$F77,0),IF(SUM(X78:AA78)>0,$F78,0),IF(SUM(X72:AA72)>0,$F72,0),IF(SUM(X71:AA71)>0,$F71,0),IF(SUM(X73:AA73)>0,$F73,0)) -> 2 | AB88: =SUM(AB39,IF(SUM(AB75:AE75)>0,$F75,0),IF(SUM(AB74:AE74)>0,$F74,0),IF(SUM(AB76:AE76)>0,$F76,0),IF(SUM(AB77:AE77)>0,$F77,0),IF(SUM(AB78:AE78)>0,$F78,0),IF(SUM(AB72:AE72)>0,$F72,0),IF(SUM(AB71:AE71)>0,$F71,0),IF(SUM(AB73:AE73)>0,$F73,0)) -> 0 | AF88: =SUM(AF39,IF(SUM(AF75:AI75)>0,$F75,0),IF(SUM(AF74:AI74)>0,$F74,0),IF(SUM(AF76:AI76)>0,$F76,0),IF(SUM(AF77:AI77)>0,$F77,0),IF(SUM(AF78:AI78)>0,$F78,0),IF(SUM(AF72:AI72)>0,$F72,0),IF(SUM(AF71:AI71)>0,$F71,0),IF(SUM(AF73:AI73)>0,$F73,0)) -> 0 | AJ88: =SUM(L88:AI88) -> 59
A89: UWAGI:
B90: =$B$41 -> 1. Dla studentów I roku studiów stacjonarnych I stopnia wszystkie formy zajęć dydaktycznych przewidziane w planie studiów są obowiązkowe. | Y90: =$Y$41 -> Obowiązuje od roku akademickiego: 2023/2024
B91: =$B$42 -> Na wyższych latach obowiązkowe są: ćwiczenia audytoryjne, laboratoryjne, lektoraty, zajęcia: sportowe, terenowe, projektowe, plenerowe i seminaria.
B92: =$B$43 -> 2. Studentów obowiązuje zaliczenie na ocenę wszystkich przedmiotów. | Y92: Legenda:
B93: =$B$44 -> 3. Studentów obowiązuje zaliczenie na ocenę praktyki zawodowej w wymiarze 4 tygodni (4 pkt. ECTS). | Y93: W | Z93: - wykład
B94: =$B$45 -> 4. Język obcy do wyboru spośród: 1. Język angielski. 2. Język niemiecki. 3. Język rosyjski. | Y94: Ć | Z94: - ćwiczenia audytoryjne
B95: =$B$46 -> 5. Język obcy 1-3 semstr 1 ECTS, 4 semestr 2 ECTS. | Y95: L | Z95: - ćwiczenia laboratoryjne, lektorat języków obcych
B96: =$B$47 -> 6. Warunkiem zaliczenia ostatniego semestru Seminarium dyplomowego jest przygotowanie i złożenie pracy dyplomowej w systemie APD. | Y96: P | Z96: - ćwiczenia projektowe
B97: =$B$48 -> 7. Możliwość realizacji metodą synchroniczną wykładów, które zostaną zaplanowane do realizacji w piątki | Y97: S | Z97: - seminarium
B98: =$B$49 -> (zgodnie z harmonogramem zjazdów i rozkładem zajęć). | Y98: T | Z98: - zajęcia terenowe
Z99: - egzamin
Z100: - zajęcia realizowane na odległość met. synchroniczną
X101: ARKUSZ 2
D102: ='nie dot 1'!$D$3 -> PLAN STUDIÓW NR IX
A103: W Y D Z I A Ł Z A R Z Ą D Z A N I A
D104: PROFIL KSZTAŁCENIA: | I104: PROFIL OGÓLNOAKADEMICKI
D105: RODZAJ STUDIÓW: | I105: STUDIA PIERWSZEGO STOPNIA (LICENCJACKIE 3-LETNIE)
D106: FORMA STUDIÓW: | I106: STUDIA NIESTACJONARNE
D107: KIERUNEK: | I107: ZARZĄDZANIE | X107: …………………..
D108: SPECJALNOŚĆ: | I108: =I59 -> 1. ZARZĄDZANIE W HANDLU i USŁUGACH | X108: pieczątka uczelni
I109: =I60 -> 2. MARKETING W ORGANIZACJI
I110: =I61 -> 3.ZARZĄDZANIE MAŁĄ I ŚREDNIĄ FIRMĄ
A114: Pozycja planu | B114: NAZWA PRZEDMIOTU | D114: Liczba | G114: GODZINY | L114: ROZKŁAD ZAJĘĆ w SEMESTRZE
G115: Razem | H115: w tym | L115: sem. I | P115: sem. II | T115: sem. III | X115: sem. IV | AB115: sem. V | AF115: sem. VI
...

Sheet Informacje_SN
B1: Załącznik nr 2 do uchwały nr 5/476 Senatu PBŚ z dnia 23 lutego 2023 r. | G1: nakład pracy studenta: | H1: 1 ECTS | I1: 25
G2: 0.5 | H2: =I2*I1 -> 2250 | I2: =I5/2 -> 90
H4: godziny | I4: ECTS
A5: Informacje ogólne o programie studiów | G5: łączna liczba z planu studiów | H5: =C13 -> 1100 | I5: 180 | J5: 1100
G6: Przygotowanie i złożenie pracy | I6: 10
A7: KIERUNEK: | B7: ZARZĄDZANIE | G7: konsultacje: | H7: =MIN(Stopien1SN!AM6:AM9) -> 206
A8: PROFIL: | B8: PROFIL OGÓLNOAKADEMICKI | G8: RAZEM MIN | H8: =H5+H7 -> 1306
A9: POZIOM STUDIÓW: | B9: STUDIA PIERWSZEGO STOPNIA (3-letnie)
A10: FORMA STUDIÓW: | B10: STUDIA NIESTACJONARNE
A13: łączna liczba godzin zajęć dydaktycznych | C13: =Stopien1SN!G244 -> 1100 | D13: godz. | G13: =Informacje_SN!C13/'nie dot 2'!C13 -> 0.6010929
A14: łączna liczba pkt. ECTS jaką student musi uzyskać w ramach zajęć prowadzonych z bezpośrednim udziałem NA lub innych osób prowadzących zajęcia (w przypadku studiów stacjonarnych ponad 50% z ogólnej liczby pkt. ECTS) | C14: =H8/I1 -> 52.24 | D14: pkt. ECTS | G14: =C14/I5 -> 0.29022222 | H14: %ECTS
A15: liczba pkt. ECTS jaką student musi uzyskać w ramach zajęć z dziedziny nauk humanistycznych lub nauk społecznych (nie mniej niż 5 pkt. ECTS, nie dotyczy kierunków przyporządkowanych do dziedziny nauk humanistycznych lub nauk społecznych) | C15: ='[1]Podział dyscyplin (plan9)'!$C$90 -> 173 | D15: pkt. ECTS | E15: nauki humanistyczne+społeczne
A16: liczba pkt. ECTS za zajęcia do wyboru (nie mniej niż 30% z ogólnej liczby pkt. ECTS) | C16: =Stopien1SN!F186+Stopien1SN!F21 -> 70 | D16: pkt. ECTS | E16: specjalność+języki | G16: =C16/$I$5 -> 0.38888889 | H16: %ECTS
A17: zajęcia związane z prowadzoną w uczelni działalnością naukową w dyscyplinie / dyscyplinach, do których przyporządkowano kierunek studiów wskazać wyłącznie dla kierunku o profilu ogólnoakademickim (ponad 50% z ogólnej liczby pkt. ECTS) | C17: ='[1]Podział dyscyplin (plan9)'!$C$93 -> 159 | D17: pkt. ECTS | E17: nauki o zarządzaniu i jakości+ekonomia i finanse | G17: =C17/$I$5 -> 0.88333333 | H17: %ECTS
A18: zajęcia kształtujące umiejętności praktyczne wskazać wyłacznie dla kierunku o profilu praktycznym (ponad 50% z ogólnej liczby pkt. ECTS) | C18: nie dotyczy

Sheet AnalizaSN (2015)
A1: ANALIZA ZGODNOŚCI PLANU STUDIÓW Z WYTYCZNYMI DLA RAD PODSTAWOWYCH JEDNOSTEK ORGANIZACYJNYCH
A2: W SPRAWIE TWORZENIA NOWYCH I WERYFIKACJI ISTNIEJĄCYCH PROGRAMÓW STUDIÓW W UTP
B4: Jednostka prowadząca kierunek studiów | E4: WYDZIAŁ ZARZĄDZANIA
B5: Nazwa kierunku studiów | E5: ZARZĄDZANIE
B6: Rok akademicki, od którego obowiązuje plan studiów | E6: 2015/2016
B7: Numer planu studiów | E7: VII
B8: Forma studiów | E8: NIESTACJONARNE
B9: Poziom studiów | E9: I STOPNIA
B10: OGÓLNA LICZBA GODZIN | E10: =Stopien1SN!G244 -> 1100 | F10: OGÓLNA LICZBA PKT. ECTS | J10: =Stopien1SN!F244 -> 180 | M10: =E10/'AnalizaSS (2015)'!E10 -> #REF!
B11: B I L A N S G O D Z I N I P U N K T Ó W E C T S 1
B12: Przedmiot/moduł | F12: Godziny | H12: Pozycje planu | I12: Punkty ECTS
F13: Liczba | G13: % | I13: Liczba | J13: %
B14: Zajęcia z obszaru nauk humanistycznych i nauk społecznych łącznie: | F14: program studiów uwzględnia szereg przedmiotów z zakresu nauk humanistycznych i nauk społecznych
B15: 1. | C15: w tym w zakresie ochrony własności intelektualnej i/lub bezpieczeństwa i higieny pracy 2 | F15: =Stopien1SN!G26+Stopien1SN!G27 -> 20 | G15: =F15/$E$10 -> 0.018181818 | H15: A.6, A.7 | I15: =Stopien1SN!F26+Stopien1SN!F27 -> 4 | J15: =I15/$J$10 -> 0.022222222
B16: 2. | C16: w tym w zakresie podstaw przedsiębiorczości i uzyskiwania tzw. kompetencji miękkich 2 | F16: program studiów uwzględnia szereg przedmiotów z zakresu przedsiębiorczości i uzyskiwania tzw. kompetencji miękkich
B17: 3. | C17: w tym inne zajęcia z zakresu nauk humanistycznych i nauk społecznych, nieujęte w pkt 1 i 2 | F17: program studiów uwzględnia szereg przedmiotów z zakresu nauk humanistycznych i nauk społecznych
B18: Zajęcia z języków obcych | F18: =Stopien1SN!G21 -> 80 | G18: =F18/$E$10 -> 0.072727273 | H18: A.1 | I18: =Stopien1SN!F21 -> 5 | J18: =I18/$J$10 -> 0.027777778
B19: Zajęcia z wychowania fizycznego | F19: =Stopien1SN!G28 -> 20 | G19: =F19/$E$10 -> 0.018181818 | H19: A.8 | I19: =Stopien1SN!F28+Stopien1SN!F29 -> 2 | J19: =I19/$J$10 -> 0.011111111
B20: Zajęcia z technologii informacyjnych 2 | F20: =Stopien1SN!G22 -> 10 | G20: =F20/$E$10 -> 0.0090909091 | H20: A.2 | I20: =Stopien1SN!F22 -> 2 | J20: =I20/$J$10 -> 0.011111111
B21: Seminarium dyplomowe | F21: =Stopien1SN!G183 -> 30 | G21: =F21/$E$10 -> 0.027272727 | H21: D.1.11, D.2.11 D.3.11, D.3.12 | I21: =Stopien1SN!F183 -> 4 | J21: =I21/$J$10 -> 0.022222222
B22: Praktyka zawodowa 3 | F22: x | G22: x | H22: D.1.12, D.2.12 D.3.12, D.3.13 | I22: =Stopien1SN!F184 -> 4 | J22: =I22/$J$10 -> 0.022222222
B23: Przygotowanie i złożenie pracy dyplomowej oraz przygotowanie do egzaminu dyplomowego | F23: x | G23: x | H23: D.1.13, D.2.13 D.3.13, D.3.14 | I23: =Stopien1SN!F185 -> 10 | J23: =I23/$J$10 -> 0.055555556
B25: Zajęci ogólnouczelniane niezwiązane z kierunkiem studiów lub zajęcia na innym kierunku | F25: =F18+F19 -> 100 | G25: =F25/$E$10 -> 0.090909091 | I25: =I18+I19 -> 7 | J25: =I25/$J$10 -> 0.038888889
B27: Zajęcia do wyboru (co najmniej 30% ECTS) | F27: =F33 -> 285 | G27: =F27/$E$10 -> 0.25909091 | I27: =I33-I23 -> 55 | J27: =I27/$J$10 -> 0.30555556
B29: Przedmioty z zakresu nauk podstawowych | F29: =Stopien1SN!G79 -> 220 | G29: =F29/$E$10 -> 0.2 | I29: =Stopien1SN!F79 -> 39 | J29: =I29/$J$10 -> 0.21666667
B31: Przedmioty kierunkowe | F31: =Stopien1SN!G136 -> 400 | G31: =F31/$E$10 -> 0.36363636 | I31: =Stopien1SN!F136 -> 56 | J31: =I31/$J$10 -> 0.31111111
B33: Przedmioty specjalnościowe | F33: =Stopien1SN!G186 -> 285 | G33: =F33/$E$10 -> 0.25909091 | I33: =Stopien1SN!F186 -> 65 | J33: =I33/$J$10 -> 0.36111111 | S33: wykłady (min 45%)
B35: Zajęcia o charakterze praktycznym | F35: =N35&"-"&M35 -> 595-595 | G35: 0.51 | I35: =P35 -> 177 | J35: =I35/$J$10 -> 0.98333333 | M35: =$E$10-MIN(Stopien1SN!H191,Stopien1SN!H244) -> 595 | N35: =$E$10-MAX(Stopien1SN!H191,Stopien1SN!H244) -> 595 | P35: =Stopien1SN!F141-Stopien1SN!F28-Stopien1SN!F27+Stopien1SN!F239 -> 177 | Q35: =P35 -> 177 | S35: =MIN(Stopien1SN!H191,Stopien1SN!H244) -> 505
B37: Zajęcia wymagające bezpośredniego udziału nauczyciela akademickiego | F37: =E10 -> 1100 | G37: =F37/$E$10 -> 1 | I37: =J10-I22-I23 -> 166 | J37: =I37/$J$10 -> 0.92222222 | M37: =M35/$E$10 -> 0.54090909 | N37: =N35/$E$10 -> 0.54090909 | P37: =P35/$J$10 -> 0.98333333 | S37: =S35/$E$10 -> 0.45909091
B39: Zajęcia powiązane z prowadzonymi badaniami naukowymi w dziedzeninie nauki / sztuki związanej z kierunkiem studiów służące zdobywaniu pogłębionej wiedzy i umiejętności prowadzenia badań naukowych 4 | F39: =F31+F33 -> 685 | G39: =F39/$E$10 -> 0.62272727 | I39: =I31+I33 -> 121 | J39: =I39/$J$10 -> 0.67222222
B41: Zajęcia powiązane z praktycznym przygotowaniem zawodowym służące zdobywaniu umiejętności praktycznych i kompetencji społecznych, prowadzone w warunkach właściwych dla danego zakresu działalności zawodowej, w sposób umożliwiający wykonywanie określonych czynności praktycznych i przez osoby, z których większość posiada doświadczenie zawodowe zdobyte poza uczelnią odpowiadające zakresowi tych zajęć5 | F41: nie dotyczy
B43: Procentowy udział liczby punktów ECTS dla obszarów kształcenia w programie studiów dla kierunków przyporządkowanych do więcej niż jednego obszaru kształcenia
B44: 1. obszar kształcenia w zakresie NAUK SPOŁECZNYCH | I44: 1
B45: 2. obszar kształcenia w zakresie …
B46: 3. obszar kształcenia w zakresie …
B47: ŁĄCZNIE: | I47: 100% pkt. ECTS
B48: 1 w ogólnej liczbie godzin i punktów ECTS przewidzianych w planie studiów
B49: 2 niewymagane dla studiów II stopnia | F49: ……………………………………………
B50: 3 niewymagane na studiach II stopnia o profilu ogólnoakademickim | F50: pieczątka i podpis kierownika samodzielnej jednostki
B51: 4dotyczy jedynie studiów o profilu ogólnoakademickim, wymagana realizacja zajęć powiązanych z prowadzonymi badaniami naukowymi w dziedzinie wyszczególnionej w opisie efektów kształcenia w wymiarze ponad 50% ogólnej liczby pkt. ECTS (wymagane dostosowanie programów prowadzonych kierunków studiów zgodnie z terminem określonym w pkt VII.5 wytycznych Senatu)
B52: 5dotyczy jedynie studiów o profilu praktycznym, wymagana realizacja zajęć powiązanych z praktycznym przygotowaniem zawodowym w wymiarze ponad 50% ogólnej liczby pkt. ECTS (wymagane dostosowanie programów prowadzonych kierunków studiów zgodnie z terminem określonym w pkt VII.5 wytycznych Senatu) | F52: ZATWIERDZAM
F53: ………………………………………………………
F54: Prorektor ds. Dydaktycznych i Studenckich

Sheet nie dot 1
Q2: Załącznik nr 2 do uchwały nr …/… Senatu PBŚ z dnia 22 lutego 2023 r.
D3: PLAN STUDIÓW NR IX | AK3: Konsultacje | AR3: sem. II | AV3: sem. III | AZ3: sem. IV | BD3: sem. V | BH3: sem. VI
A4: W Y D Z I A Ł Z A R Z Ą D Z A N I A | AK4: =SUM(AK17:AK136) -> 327 | AL4: A+B+C | AR4: =IF(SUM(P21:S21)=0,"",$B21) -> Język obcy4 | AV4: =IF(SUM(T21:W21)=0,"",$B21) -> Język obcy4 | AZ4: =IF(SUM(X21:AA21)=0,"",$B21) -> Język obcy4 | BD4: =IF(SUM(AB21:AE21)=0,"",$B21) | BH4: =IF(SUM(AF21:AI21)=0,"",$B21)
D5: PROFIL KSZTAŁCENIA: | I5: PROFIL OGÓLNOAKADEMICKI | AM5: razem | AN5: brakuje: | AR5: =IF(SUM(P22:S22)=0,"",$B22) -> Arkusz kalkulacyjny w zarządzaniu | AV5: =IF(SUM(T22:W22)=0,"",$B22) | AZ5: =IF(SUM(X22:AA22)=0,"",$B22) | BD5: =IF(SUM(AB22:AE22)=0,"",$B22) | BH5: =IF(SUM(AF22:AI22)=0,"",$B22)
D6: RODZAJ STUDIÓW: | I6: STUDIA PIERWSZEGO STOPNIA (LICENCJACKIE 3-LETNIE) | AK6: =SUM(AK176:AK189) -> 175 | AL6: D1 | AM6: =$AK$4+AK6 -> 502 | AN6: ='nie dot 2'!$H$2-'nie dot 2'!$H$5-'nie dot 1'!AM6 -> -82 | AR6: =IF(SUM(P23:S23)=0,"",$B23) | AV6: =IF(SUM(T23:W23)=0,"",$B23) | AZ6: =IF(SUM(X23:AA23)=0,"",$B23) | BD6: =IF(SUM(AB23:AE23)=0,"",$B23) | BH6: =IF(SUM(AF23:AI23)=0,"",$B23)
D7: FORMA STUDIÓW: | I7: STUDIA STACJONARNE | AK7: =SUM(AK229:AK242) -> 175 | AL7: D2 | AM7: =$AK$4+AK7 -> 502 | AN7: ='nie dot 2'!$H$2-'nie dot 2'!$H$5-'nie dot 1'!AM7 -> -82 | AR7: =IF(SUM(P24:S24)=0,"",$B24) -> Filozofia | AV7: =IF(SUM(T24:W24)=0,"",$B24) | AZ7: =IF(SUM(X24:AA24)=0,"",$B24) | BD7: =IF(SUM(AB24:AE24)=0,"",$B24) | BH7: =IF(SUM(AF24:AI24)=0,"",$B24)
D8: KIERUNEK: | I8: ZARZĄDZANIE | AK8: =SUM(AK282:AK296) -> 210 | AL8: D3 | AM8: =$AK$4+AK8 -> 537 | AN8: ='nie dot 2'!$H$2-'nie dot 2'!$H$5-'nie dot 1'!AM8 -> -117 | AR8: =IF(SUM(P25:S25)=0,"",$B25) | AV8: =IF(SUM(T25:W25)=0,"",$B25) | AZ8: =IF(SUM(X25:AA25)=0,"",$B25) | BD8: =IF(SUM(AB25:AE25)=0,"",$B25) | BH8: =IF(SUM(AF25:AI25)=0,"",$B25)
D9: SPECJALNOŚĆ: | I9: 1. ZARZĄDZANIE W HANDLU i USŁUGACH | X9: ………………….. | AR9: =IF(SUM(P26:S26)=0,"",$B26) | AV9: =IF(SUM(T26:W26)=0,"",$B26) | AZ9: =IF(SUM(X26:AA26)=0,"",$B26) | BD9: =IF(SUM(AB26:AE26)=0,"",$B26) | BH9: =IF(SUM(AF26:AI26)=0,"",$B26)
I10: 2. MARKETING W ORGANIZACJI | X10: pieczątka uczelni | AR10: =IF(SUM(P27:S27)=0,"",$B27) | AV10: =IF(SUM(T27:W27)=0,"",$B27) | AZ10: =IF(SUM(X27:AA27)=0,"",$B27) | BD10: =IF(SUM(AB27:AE27)=0,"",$B27) | BH10: =IF(SUM(AF27:AI27)=0,"",$B27)
I11: 3.ZARZĄDZANIE MAŁĄ I ŚREDNIĄ FIRMĄ | AR11: =IF(SUM(P29:S29)=0,"",$B29) -> Wychowanie fizyczne | AV11: =IF(SUM(T29:W29)=0,"",$B29) | AZ11: =IF(SUM(X29:AA29)=0,"",$B29) | BD11: =IF(SUM(AB29:AE29)=0,"",$B29) | BH11: =IF(SUM(AF29:AI29)=0,"",$B29)
AR12: =IF(SUM(P71:S71)=0,"",$B71) | AV12: =IF(SUM(T71:W71)=0,"",$B71) | AZ12: =IF(SUM(X71:AA71)=0,"",$B71) | BD12: =IF(SUM(AB71:AE71)=0,"",$B71) | BH12: =IF(SUM(AF71:AI71)=0,"",$B71)
AR13: =IF(SUM(P72:S72)=0,"",$B72) -> Nauka o organizacji | AV13: =IF(SUM(T72:W72)=0,"",$B72) | AZ13: =IF(SUM(X72:AA72)=0,"",$B72) | BD13: =IF(SUM(AB72:AE72)=0,"",$B72) | BH13: =IF(SUM(AF72:AI72)=0,"",$B72)
AR14: =IF(SUM(P73:S73)=0,"",$B73) | AV14: =IF(SUM(T73:W73)=0,"",$B73) | AZ14: =IF(SUM(X73:AA73)=0,"",$B73) | BD14: =IF(SUM(AB73:AE73)=0,"",$B73) | BH14: =IF(SUM(AF73:AI73)=0,"",$B73)
A15: Pozycja planu | B15: NAZWA PRZEDMIOTU | D15: Liczba | G15: GODZINY | L15: ROZKŁAD ZAJĘĆ w SEMESTRZE | AR15: =IF(SUM(P74:S74)=0,"",$B74) | AV15: =IF(SUM(T74:W74)=0,"",$B74) -> Finanse | AZ15: =IF(SUM(X74:AA74)=0,"",$B74) | BD15: =IF(SUM(AB74:AE74)=0,"",$B74) | BH15: =IF(SUM(AF74:AI74)=0,"",$B74)
G16: Razem | H16: w tym | L16: sem. I | P16: sem. II | T16: sem. III | X16: sem. IV | AB16: sem. V | AF16: sem. VI | AR16: =IF(SUM(P75:S75)=0,"",$B75) -> Prawo | AV16: =IF(SUM(T75:W75)=0,"",$B75) | AZ16: =IF(SUM(X75:AA75)=0,"",$B75) | BD16: =IF(SUM(AB75:AE75)=0,"",$B75) | BH16: =IF(SUM(AF75:AI75)=0,"",$B75)
D17: egzami-nów | E17: zali-czeń | F17: pkt. ECTS | H17: W | I17: Ć | J17: L | K17: P / S | L17: Liczba godzin w semestrze | AR17: =IF(SUM(P76:S76)=0,"",$B76) | AV17: =IF(SUM(T76:W76)=0,"",$B76) | AZ17: =IF(SUM(X76:AA76)=0,"",$B76) | BD17: =IF(SUM(AB76:AE76)=0,"",$B76) | BH17: =IF(SUM(AF76:AI76)=0,"",$B76)
L18: W | M18: Ć | N18: L | O18: P/S | P18: W | Q18: Ć | R18: L | S18: P/S | T18: W | U18: Ć | V18: L | W18: P/S | X18: W | Y18: Ć | Z18: L | AA18: P/S | AB18: W | AC18: Ć | AD18: L | AE18: P/S | AF18: W | AG18: Ć | AH18: L | AI18: P/S | AR18: =IF(SUM(P77:S77)=0,"",$B77) -> Statystyka opisowa | AV18: =IF(SUM(T77:W77)=0,"",$B77) | AZ18: =IF(SUM(X77:AA77)=0,"",$B77) | BD18: =IF(SUM(AB77:AE77)=0,"",$B77) | BH18: =IF(SUM(AF77:AI77)=0,"",$B77)
AR19: =IF(SUM(P78:S78)=0,"",$B78) | AV19: =IF(SUM(T78:W78)=0,"",$B78) | AZ19: =IF(SUM(X78:AA78)=0,"",$B78) | BD19: =IF(SUM(AB78:AE78)=0,"",$B78) | BH19: =IF(SUM(AF78:AI78)=0,"",$B78)
A20: A. | B20: PRZEDMIOTY OGÓLNE | AR20: =IF(SUM(P120:S120)=0,"",$B120) | AV20: =IF(SUM(T120:W120)=0,"",$B120) -> Rachunkowość finansowa | AZ20: =IF(SUM(X120:AA120)=0,"",$B120) | BD20: =IF(SUM(AB120:AE120)=0,"",$B120) | BH20: =IF(SUM(AF120:AI120)=0,"",$B120)
A21: 1. | B21: Język obcy4 | E21: 4 | F21: 5 | G21: =SUM(H21:K21) -> 120 | H21: =L21+P21+T21+X21+AB21+AF21 -> 0 | I21: =M21+Q21+U21+Y21+AC21+AG21 -> 0 | J21: =N21+R21+V21+Z21+AD21+AH21 -> 120 | K21: =O21+S21+W21+AA21+AE21+AI21 -> 0 | L21: 0 | M21: 0 | N21: 30 | P21: 0 | R21: 30 | V21: 30 | Z21: 30 | AK21: 10 | AR21: =IF(SUM(P121:S121)=0,"",$B121) | AV21: =IF(SUM(T121:W121)=0,"",$B121) | AZ21: =IF(SUM(X121:AA121)=0,"",$B121) -> Zarządzanie finansami przedsiębiorstw | BD21: =IF(SUM(AB121:AE121)=0,"",$B121) | BH21: =IF(SUM(AF121:AI121)=0,"",$B121)
A22: 2. | B22: Arkusz kalkulacyjny w zarządzaniu | E22: 1 | F22: 2 | G22: =SUM(H22:K22) -> 15 | H22: =L22+P22+T22+X22+AB22+AF22 -> 0 | I22: =M22+Q22+U22+Y22+AC22+AG22 -> 0 | J22: =N22+R22+V22+Z22+AD22+AH22 -> 15 | K22: =O22+S22+W22+AA22+AE22+AI22 -> 0 | L22: 0 | M22: 0 | N22: 0 | P22: 0 | R22: 15 | U22: 0 | V22: 0 | Y22: 0 | Z22: 0 | AD22: 0 | AH22: 0 | AK22: 10 | AR22: =IF(SUM(P122:S122)=0,"",$B122) | AV22: =IF(SUM(T122:W122)=0,"",$B122) -> Zarządzanie projektami | AZ22: =IF(SUM(X122:AA122)=0,"",$B122) | BD22: =IF(SUM(AB122:AE122)=0,"",$B122) | BH22: =IF(SUM(AF122:AI122)=0,"",$B122)
A23: 3. | B23: Socjologia | E23: 2 | F23: 2 | G23: =SUM(H23:K23) -> 30 | H23: =L23+P23+T23+X23+AB23+AF23 -> 15 | I23: =M23+Q23+U23+Y23+AC23+AG23 -> 15 | J23: =N23+R23+V23+Z23+AD23+AH23 -> 0 | K23: =O23+S23+W23+AA23+AE23+AI23 -> 0 | L23: 15 | M23: 15 | N23: 0 | AK23: 10 | AR23: =IF(SUM(P123:S123)=0,"",$B123) | AV23: =IF(SUM(T123:W123)=0,"",$B123) -> Zarządzanie zasobami ludzkimi | AZ23: =IF(SUM(X123:AA123)=0,"",$B123) | BD23: =IF(SUM(AB123:AE123)=0,"",$B123) | BH23: =IF(SUM(AF123:AI123)=0,"",$B123)
A24: 4. | B24: Filozofia | E24: 2 | F24: 2 | G24: =SUM(H24:K24) -> 45 | H24: =L24+P24+T24+X24+AB24+AF24 -> 30 | I24: =M24+Q24+U24+Y24+AC24+AG24 -> 15 | J24: =N24+R24+V24+Z24+AD24+AH24 -> 0 | K24: =O24+S24+W24+AA24+AE24+AI24 -> 0 | L24: 0 | M24: 0 | N24: 0 | P24: 30 | Q24: 15 | U24: 0 | V24: 0 | Y24: 0 | Z24: 0 | AD24: 0 | AH24: 0 | AK24: 10 | AR24: =IF(SUM(P124:S124)=0,"",$B124) | AV24: =IF(SUM(T124:W124)=0,"",$B124) | AZ24: =IF(SUM(X124:AA124)=0,"",$B124) -> Zachowania organizacyjne | BD24: =IF(SUM(AB124:AE124)=0,"",$B124) | BH24: =IF(SUM(AF124:AI124)=0,"",$B124)
A25: 5. | B25: Psychologia | D25: 1 | E25: 1 | F25: 3 | G25: =SUM(H25:K25) -> 30 | H25: =L25+P25+T25+X25+AB25+AF25 -> 15 | I25: =M25+Q25+U25+Y25+AC25+AG25 -> 15 | J25: =N25+R25+V25+Z25+AD25+AH25 -> 0 | K25: =O25+S25+W25+AA25+AE25+AI25 -> 0 | L25: 15 | M25: 15 | N25: 0 | AK25: 10 | AR25: =IF(SUM(P125:S125)=0,"",$B125) -> Zarządzanie jakością | AV25: =IF(SUM(T125:W125)=0,"",$B125) | AZ25: =IF(SUM(X125:AA125)=0,"",$B125) | BD25: =IF(SUM(AB125:AE125)=0,"",$B125) | BH25: =IF(SUM(AF125:AI125)=0,"",$B125)
A26: 6. | B26: Ochrona własności intelektualnej | E26: 1 | F26: 3 | G26: =SUM(H26:K26) -> 15 | H26: =L26+P26+T26+X26+AB26+AF26 -> 15 | I26: =M26+Q26+U26+Y26+AC26+AG26 -> 0 | J26: =N26+R26+V26+Z26+AD26+AH26 -> 0 | K26: =O26+S26+W26+AA26+AE26+AI26 -> 0 | L26: 15 | M26: 0 | N26: 0 | P26: 0 | U26: 0 | V26: 0 | Y26: 0 | Z26: 0 | AD26: 0 | AH26: 0 | AK26: 5 | AR26: =IF(SUM(P126:S126)=0,"",$B126) | AV26: =IF(SUM(T126:W126)=0,"",$B126) -> Informatyka w zarządzaniu | AZ26: =IF(SUM(X126:AA126)=0,"",$B126) | BD26: =IF(SUM(AB126:AE126)=0,"",$B126) | BH26: =IF(SUM(AF126:AI126)=0,"",$B126)
A27: 7. | B27: BHP i ergonomia | E27: 1 | F27: 1 | G27: =SUM(H27:K27) -> 15 | H27: =L27+P27+T27+X27+AB27+AF27 -> 15 | I27: =M27+Q27+U27+Y27+AC27+AG27 -> 0 | J27: =N27+R27+V27+Z27+AD27+AH27 -> 0 | K27: =O27+S27+W27+AA27+AE27+AI27 -> 0 | L27: 15 | M27: 0 | N27: 0 | AK27: 5 | AR27: =IF(SUM(P127:S127)=0,"",$B127) -> Społeczeństwo informacyjne | AV27: =IF(SUM(T127:W127)=0,"",$B127) | AZ27: =IF(SUM(X127:AA127)=0,"",$B127) | BD27: =IF(SUM(AB127:AE127)=0,"",$B127) | BH27: =IF(SUM(AF127:AI127)=0,"",$B127)
A28: 8. | B28: Polityka społeczna | E28: 2 | F28: 2 | G28: =SUM(H28:K28) -> 30 | H28: =L28+P28+T28+X28+AB28+AF28 -> 15 | I28: =M28+Q28+U28+Y28+AC28+AG28 -> 15 | J28: =N28+R28+V28+Z28+AD28+AH28 -> 0 | K28: =O28+S28+W28+AA28+AE28+AI28 -> 0 | N28: 0 | P28: 15 | Q28: 15
A29: 9. | B29: Wychowanie fizyczne | E29: 2 | F29: 0 | G29: =SUM(H29:K29) -> 60 | H29: =L29+P29+T29+X29+AB29+AF29 -> 0 | I29: =M29+Q29+U29+Y29+AC29+AG29 -> 60 | J29: =N29+R29+V29+Z29+AD29+AH29 -> 0 | K29: =O29+S29+W29+AA29+AE29+AI29 -> 0 | L29: 0 | M29: 30 | N29: 0 | P29: 0 | Q29: 30 | V29: 0 | Z29: 0 | AD29: 0 | AH29: 0 | AK29: 0 | AR29: =IF(SUM(P128:S128)=0,"",$B128) | AV29: =IF(SUM(T128:W128)=0,"",$B128) -> Marketing | AZ29: =IF(SUM(X128:AA128)=0,"",$B128) | BD29: =IF(SUM(AB128:AE128)=0,"",$B128) | BH29: =IF(SUM(AF128:AI128)=0,"",$B128)
B30: RAZEM | D30: =SUM(D21:D29) -> 1 | E30: =SUM(E21:E29) -> 16 | F30: =SUM(F21:F29) -> 20 | G30: =SUM(G21:G29) -> 360 | H30: =SUM(H21:H29) -> 105 | I30: =SUM(I21:I29) -> 120 | J30: =SUM(J21:J29) -> 135 | K30: =SUM(K21:K29) -> 0 | ... AI30: =SUM(AI21:AI29) -> 0 | AR30: =IF(SUM(P129:S129)=0,"",$B129) | AV30: =IF(SUM(T129:W129)=0,"",$B129) | AZ30: =IF(SUM(X129:AA129)=0,"",$B129) -> Badania marketingowe | BD30: =IF(SUM(AB129:AE129)=0,"",$B129) | BH30: =IF(SUM(AF129:AI129)=0,"",$B129)
L31: =SUM(L30:O30) -> 150 | P31: =SUM(P30:S30) -> 150 | T31: =SUM(T30:W30) -> 30 | X31: =SUM(X30:AA30) -> 30 | AB31: =SUM(AB30:AE30) -> 0 | AF31: =SUM(AF30:AI30) -> 0 | AJ31: =SUM(L31:AI31)=G30 -> TRUE | AR31: =IF(SUM(P130:S130)=0,"",$B130) | AV31: =IF(SUM(T130:W130)=0,"",$B130) -> Innowacja i konkurencyjność przedsiębiorstwa | AZ31: =IF(SUM(X130:AA130)=0,"",$B130) | BD31: =IF(SUM(AB130:AE130)=0,"",$B130) | BH31: =IF(SUM(AF130:AI130)=0,"",$B130)
A32: PODSUMOWANIE ARKUSZA 1 | D32: egzami-nów | E32: zali-czeń | F32: pkt. ECTS | G32: Razem | H32: W | I32: Ć | J32: L | K32: P / S | L32: sem. I | P32: sem. II | T32: sem. III | X32: sem. IV | AB32: sem. V | AF32: sem. VI | AR32: =IF(SUM(P131:S131)=0,"",$B131) | AV32: =IF(SUM(T131:W131)=0,"",$B131) | AZ32: =IF(SUM(X131:AA131)=0,"",$B131) | BD32: =IF(SUM(AB131:AE131)=0,"",$B131) -> Handel elektroniczny i e-business | BH32: =IF(SUM(AF131:AI131)=0,"",$B131)
L33: W | M33: Ć | N33: L | O33: P/S | P33: W | Q33: Ć | R33: L | S33: P/S | T33: W | U33: Ć | V33: L | W33: P/S | X33: W | Y33: Ć | Z33: L | AA33: P/S | AB33: W | AC33: Ć | AD33: L | AE33: P/S | AF33: W | AG33: Ć | AH33: L | AI33: P/S | AR33: =IF(SUM(P132:S132)=0,"",$B132) | AV33: =IF(SUM(T132:W132)=0,"",$B132) | AZ33: =IF(SUM(X132:AA132)=0,"",$B132) -> Informatyczne wspomaganie pracy biurowej | BD33: =IF(SUM(AB132:AE132)=0,"",$B132) | BH33: =IF(SUM(AF132:AI132)=0,"",$B132)
AR34: =IF(SUM(P133:S133)=0,"",$B133) | AV34: =IF(SUM(T133:W133)=0,"",$B133) | AZ34: =IF(SUM(X133:AA133)=0,"",$B133) | BD34: =IF(SUM(AB133:AE133)=0,"",$B133) -> Organizacja pracy kierowniczej | BH34: =IF(SUM(AF133:AI133)=0,"",$B133)
D35: =SUM(D30) -> 1 | E35: =SUM(E30) -> 16 | F35: =SUM(F30) -> 20 | G35: =SUM(G30) -> 360 | H35: =SUM(H30) -> 105 | I35: =SUM(I30) -> 120 | J35: =SUM(J30) -> 135 | K35: =SUM(K30) -> 0 | ... AI35: =SUM(AI30) -> 0 | AK35: =SUMIF(P21:S21,">0",P22:S22) -> 15 | AR35: =IF(SUM(P134:S134)=0,"",$B134) | AV35: =IF(SUM(T134:W134)=0,"",$B134) | AZ35: =IF(SUM(X134:AA134)=0,"",$B134) | BD35: =IF(SUM(AB134:AE134)=0,"",$B134) -> Zarządzanie logistyką | BH35: =IF(SUM(AF134:AI134)=0,"",$B134)
L36: =SUM(L35:O35) -> 150 | P36: =SUM(P35:S35) -> 150 | T36: =SUM(T35:W35) -> 30 | X36: =SUM(X35:AA35) -> 30 | AB36: =SUM(AB35:AE35) -> 0 | AF36: =SUM(AF35:AI35) -> 0 | AJ36: =SUM(L36:AI36)=G35 -> TRUE | AR36: =IF(SUM(P135:S135)=0,"",$B135) | AV36: =IF(SUM(T135:W135)=0,"",$B135) | AZ36: =IF(SUM(X135:AA135)=0,"",$B135) | BD36: =IF(SUM(AB135:AE135)=0,"",$B135) | BH36: =IF(SUM(AF135:AI135)=0,"",$B135) -> Pozyskiwanie środków finansowych
D37: Liczba: | G37: egzaminów | L37: =SUM(IF(SUM(L23:O23)>0,$D23,0),IF(SUM(L22:O22)>0,$D22,0),IF(SUM(L24:O24)>0,$D24,0),IF(SUM(L25:O25)>0,$D25,0),IF(SUM(L26:O26)>0,$D26,0),IF(SUM(L27:O27)>0,$D27,0),IF(SUM(L29:O29)>0,$D29,0),IF(SUM(L21:O21)>0,$D21,0)) -> 1 | P37: =SUM(IF(SUM(P23:S23)>0,$D23,0),IF(SUM(P22:S22)>0,$D22,0),IF(SUM(P24:S24)>0,$D24,0),IF(SUM(P25:S25)>0,$D25,0),IF(SUM(P26:S26)>0,$D26,0),IF(SUM(P27:S27)>0,$D27,0),IF(SUM(P29:S29)>0,$D29,0),IF(SUM(P21:S21)>0,$D21,IF(SUM(P28:S28)>0,$D28,0))) -> 0 | T37: =SUM(IF(SUM(T23:W23)>0,$D23,0),IF(SUM(T22:W22)>0,$D22,0),IF(SUM(T24:W24)>0,$D24,0),IF(SUM(T25:W25)>0,$D25,0),IF(SUM(T26:W26)>0,$D26,0),IF(SUM(T27:W27)>0,$D27,0),IF(SUM(T29:W29)>0,$D29,0),IF(SUM(T21:W21)>0,$D21,IF(SUM(T28:W28)>0,$D28,0))) -> 0 | X37: =SUM(IF(SUM(X23:AA23)>0,$D23,0),IF(SUM(X22:AA22)>0,$D22,0),IF(SUM(X24:AA24)>0,$D24,0),IF(SUM(X25:AA25)>0,$D25,0),IF(SUM(X26:AA26)>0,$D26,0),IF(SUM(X27:AA27)>0,$D27,0),IF(SUM(X29:AA29)>0,$D29,0),IF(SUM(X21:AA21)>0,$D21,IF(SUM(X28:AA28)>0,$D28,0))) -> 0 | AB37: =SUM(IF(SUM(AB23:AE23)>0,$D23,0),IF(SUM(AB22:AE22)>0,$D22,0),IF(SUM(AB24:AE24)>0,$D24,0),IF(SUM(AB25:AE25)>0,$D25,0),IF(SUM(AB26:AE26)>0,$D26,0),IF(SUM(AB27:AE27)>0,$D27,0),IF(SUM(AB29:AE29)>0,$D29,0),IF(SUM(AB21:AE21)>0,$D21,IF(SUM(AB28:AE28)>0,$D28,0))) -> 0 | AF37: =SUM(IF(SUM(AF23:AI23)>0,$D23,0),IF(SUM(AF22:AI22)>0,$D22,0),IF(SUM(AF24:AI24)>0,$D24,0),IF(SUM(AF25:AI25)>0,$D25,0),IF(SUM(AF26:AI26)>0,$D26,0),IF(SUM(AF27:AI27)>0,$D27,0),IF(SUM(AF29:AI29)>0,$D29,0),IF(SUM(AF21:AI21)>0,$D21,IF(SUM(AF28:AI28)>0,$D28,0))) -> 0 | AJ37: =SUM(L37:AI37) -> 1 | AK37: =AJ37=D35 -> TRUE | AR37: =IF(SUM(P177:S177)=0,"",$B177) | AV37: =IF(SUM(T177:W177)=0,"",$B177) | AZ37: =IF(SUM(X177:AA177)=0,"",$B177) | BD37: =IF(SUM(AB177:AE177)=0,"",$B177) -> Nowoczesne techniki zakupu i sprzedaży | BH37: =IF(SUM(AF177:AI177)=0,"",$B177)
G38: zaliczeń | L38: =SUM(IF(SUM(L24:O24)>0,$E24,0),IF(SUM(L23:O23)>0,$E23,0),IF(SUM(L25:O25)>0,$E25,0),IF(SUM(L26:O26)>0,$E26,0),IF(SUM(L27:O27)>0,$E27,0),IF(SUM(L28:O28)>0,$E28,0),IF(SUM(L29:O29)>0,$E29/2,0),IF(SUM(L21:O21)>0,1,0),IF(SUM(L22:O22)>0,$E22,0)) -> 7 | P38: =SUM(IF(SUM(P24:S24)>0,$E24,0),IF(SUM(P23:S23)>0,$E23,0),IF(SUM(P25:S25)>0,$E25,0),IF(SUM(P26:S26)>0,$E26,0),IF(SUM(P27:S27)>0,$E27,0),IF(SUM(P28:S28)>0,$E28,0),IF(SUM(P29:S29)>0,$E29/2,0),IF(SUM(P21:S21)>0,1,0),IF(SUM(P22:S22)>0,$E22,0)) -> 7 | T38: =SUM(IF(SUM(T24:W24)>0,$E24,0),IF(SUM(T23:W23)>0,$E23,0),IF(SUM(T25:W25)>0,$E25,0),IF(SUM(T26:W26)>0,$E26,0),IF(SUM(T27:W27)>0,$E27,0),IF(SUM(T28:W28)>0,$E28,0),IF(SUM(T29:W29)>0,$E29,0),IF(SUM(T21:W21)>0,1,0),IF(SUM(T22:W22)>0,$E22,0)) -> 1 | X38: =SUM(IF(SUM(X24:AA24)>0,$E24,0),IF(SUM(X23:AA23)>0,$E23,0),IF(SUM(X25:AA25)>0,$E25,0),IF(SUM(X26:AA26)>0,$E26,0),IF(SUM(X27:AA27)>0,$E27,0),IF(SUM(X28:AA28)>0,$E28,0),IF(SUM(X29:AA29)>0,$E29,0),IF(SUM(X21:AA21)>0,1,0),IF(SUM(X22:AA22)>0,$E22,0)) -> 1 | AB38: =SUM(IF(SUM(AB24:AE24)>0,$E24,0),IF(SUM(AB23:AE23)>0,$E23,0),IF(SUM(AB25:AE25)>0,$E25,0),IF(SUM(AB26:AE26)>0,$E26,0),IF(SUM(AB27:AE27)>0,$E27,0),IF(SUM(AB28:AE28)>0,$E28,0),IF(SUM(AB29:AE29)>0,$E29,0),IF(SUM(AB21:AE21)>0,1,0),IF(SUM(AB22:AE22)>0,$E22,0)) -> 0 | AF38: =SUM(IF(SUM(AF24:AI24)>0,$E24,0),IF(SUM(AF23:AI23)>0,$E23,0),IF(SUM(AF25:AI25)>0,$E25,0),IF(SUM(AF26:AI26)>0,$E26,0),IF(SUM(AF27:AI27)>0,$E27,0),IF(SUM(AF28:AI28)>0,$E28,0),IF(SUM(AF29:AI29)>0,$E29,0),IF(SUM(AF21:AI21)>0,1,0),IF(SUM(AF22:AI22)>0,$E22,0)) -> 0 | AJ38: =SUM(L38:AI38) -> 16 | AK38: =AJ38=E35 -> TRUE | AR38: =IF(SUM(P179:S179)=0,"",$B179) | AV38: =IF(SUM(T179:W179)=0,"",$B179) | AZ38: =IF(SUM(X179:AA179)=0,"",$B179) -> Współczesny rynek usług | BD38: =IF(SUM(AB179:AE179)=0,"",$B179) | BH38: =IF(SUM(AF179:AI179)=0,"",$B179)
G39: pkt. ECTS | L39: =SUM(IF(SUM(L25:O25)>0,$F25,0),IF(SUM(L24:O24)>0,$F24,0),IF(SUM(L26:O26)>0,$F26,0),IF(SUM(L27:O27)>0,$F27,0),IF(SUM(L28:O28)>0,$F28,0),IF(SUM(L29:O29)>0,$F29/2,0),IF(SUM(L21:O21)>0,1,0),IF(SUM(L22:O22)>0,$F22,0),IF(SUM(L23:O23)>0,$F23,0)) -> 10 | P39: =SUM(IF(SUM(P25:S25)>0,$F25,0),IF(SUM(P24:S24)>0,$F24,0),IF(SUM(P26:S26)>0,$F26,0),IF(SUM(P27:S27)>0,$F27,0),IF(SUM(P28:S28)>0,$F28,0),IF(SUM(P29:S29)>0,$F29/2,0),IF(SUM(P21:S21)>0,1,0),IF(SUM(P22:S22)>0,$F22,0),IF(SUM(P23:S23)>0,$F23,0)) -> 7 | T39: =SUM(IF(SUM(T25:W25)>0,$F25,0),IF(SUM(T24:W24)>0,$F24,0),IF(SUM(T26:W26)>0,$F26,0),IF(SUM(T27:W27)>0,$F27,0),IF(SUM(T28:W28)>0,$F28,0),IF(SUM(T29:W29)>0,$F29/2,0),IF(SUM(T21:W21)>0,1,0),IF(SUM(T22:W22)>0,$F22,0),IF(SUM(T23:W23)>0,$F23,0)) -> 1 | X39: =SUM(IF(SUM(X25:AA25)>0,$F25,0),IF(SUM(X24:AA24)>0,$F24,0),IF(SUM(X26:AA26)>0,$F26,0),IF(SUM(X27:AA27)>0,$F27,0),IF(SUM(X28:AA28)>0,$F28,0),IF(SUM(X29:AA29)>0,$F29/2,0),IF(SUM(X21:AA21)>0,2,0),IF(SUM(X22:AA22)>0,$F22,0),IF(SUM(X23:AA23)>0,$F23,0)) -> 2 | AB39: =SUM(IF(SUM(AB25:AE25)>0,$F25,0),IF(SUM(AB24:AE24)>0,$F24,0),IF(SUM(AB26:AE26)>0,$F26,0),IF(SUM(AB27:AE27)>0,$F27,0),IF(SUM(AB28:AE28)>0,$F28,0),IF(SUM(AB29:AE29)>0,$F29/2,0),IF(SUM(AB21:AE21)>0,1,0),IF(SUM(AB22:AE22)>0,$F22,0),IF(SUM(AB23:AE23)>0,$F23,0)) -> 0 | AF39: =SUM(IF(SUM(AF25:AI25)>0,$F25,0),IF(SUM(AF24:AI24)>0,$F24,0),IF(SUM(AF26:AI26)>0,$F26,0),IF(SUM(AF27:AI27)>0,$F27,0),IF(SUM(AF28:AI28)>0,$F28,0),IF(SUM(AF29:AI29)>0,$F29/2,0),IF(SUM(AF21:AI21)>0,1,0),IF(SUM(AF22:AI22)>0,$F22,0),IF(SUM(AF23:AI23)>0,$F23,0)) -> 0 | AJ39: =SUM(L39:AI39) -> 20 | AK39: =AJ39=F35 -> TRUE | AR39: =IF(SUM(P180:S180)=0,"",$B180) | AV39: =IF(SUM(T180:W180)=0,"",$B180) | AZ39: =IF(SUM(X180:AA180)=0,"",$B180) -> Podstawy prowadzenia działalności gospodarczej | BD39: =IF(SUM(AB180:AE180)=0,"",$B180) | BH39: =IF(SUM(AF180:AI180)=0,"",$B180)
A40: UWAGI: | AR40: =IF(SUM(P181:S181)=0,"",$B181) | AV40: =IF(SUM(T181:W181)=0,"",$B181) | AZ40: =IF(SUM(X181:AA181)=0,"",$B181) | BD40: =IF(SUM(AB181:AE181)=0,"",$B181) | BH40: =IF(SUM(AF181:AI181)=0,"",$B181) -> Marketing usług
B41: 1. Dla studentów I roku studiów stacjonarnych I stopnia wszystkie formy zajęć dydaktycznych przewidziane w planie studiów są obowiązkowe. | Y41: Obowiązuje od roku akademickiego: 2023/2024 | AR41: =IF(SUM(P182:S182)=0,"",$B182) | AV41: =IF(SUM(T182:W182)=0,"",$B182) | AZ41: =IF(SUM(X182:AA182)=0,"",$B182) | BD41: =IF(SUM(AB182:AE182)=0,"",$B182) -> Zarządzanie przedsiębiorstwem handlowym | BH41: =IF(SUM(AF182:AI182)=0,"",$B182)
B42: Na wyższych latach obowiązkowe są: ćwiczenia audytoryjne, laboratoryjne, lektoraty, zajęcia: sportowe, terenowe, projektowe, plenerowe i seminaria. | AR42: =IF(SUM(P183:S183)=0,"",$B183) | AV42: =IF(SUM(T183:W183)=0,"",$B183) | AZ42: =IF(SUM(X183:AA183)=0,"",$B183) | BD42: =IF(SUM(AB183:AE183)=0,"",$B183) -> Zastosowania informatyki w handlu i usługach | BH42: =IF(SUM(AF183:AI183)=0,"",$B183)
B43: 2. Studentów obowiązuje zaliczenie na ocenę wszystkich przedmiotów. | Y43: Legenda: | AR43: =IF(SUM(P184:S184)=0,"",$B184) | AV43: =IF(SUM(T184:W184)=0,"",$B184) | AZ43: =IF(SUM(X184:AA184)=0,"",$B184) | BD43: =IF(SUM(AB184:AE184)=0,"",$B184) | BH43: =IF(SUM(AF184:AI184)=0,"",$B184) -> Analiza otoczenia organizacji
B44: 3. Studentów obowiązuje zaliczenie na ocenę praktyki zawodowej w wymiarze 4 tygodni (4 pkt. ECTS). | Y44: W | Z44: - wykład | AR44: =IF(SUM(P185:S185)=0,"",$B185) | AV44: =IF(SUM(T185:W185)=0,"",$B185) | AZ44: =IF(SUM(X185:AA185)=0,"",$B185) | BD44: =IF(SUM(AB185:AE185)=0,"",$B185) -> Techniki organizatorskie i decyzyjne | BH44: =IF(SUM(AF185:AI185)=0,"",$B185)
B45: 4. Język obcy do wyboru spośród: 1. Język angielski. 2. Język niemiecki. 3. Język rosyjski. | Y45: Ć | Z45: - ćwiczenia audytoryjne | AR45: =IF(SUM(P186:S186)=0,"",$B186) | AV45: =IF(SUM(T186:W186)=0,"",$B186) | AZ45: =IF(SUM(X186:AA186)=0,"",$B186) | BD45: =IF(SUM(AB186:AE186)=0,"",$B186) | BH45: =IF(SUM(AF186:AI186)=0,"",$B186) -> Nowoczesne systemy motywacyjne
B46: 5. Język obcy 1-3 semstr 1 ECTS, 4 semestr 2 ECTS. | Y46: L | Z46: - ćwiczenia laboratoryjne, lektorat języków obcych | AR46: =IF(SUM(P187:S187)=0,"",$B187) | AV46: =IF(SUM(T187:W187)=0,"",$B187) | AZ46: =IF(SUM(X187:AA187)=0,"",$B187) | BD46: =IF(SUM(AB187:AE187)=0,"",$B187) -> Seminarium dyplomowe | BH46: =IF(SUM(AF187:AI187)=0,"",$B187) -> Seminarium dyplomowe
B47: 6. Warunkiem zaliczenia ostatniego semestru Seminarium dyplomowego jest przygotowanie i złożenie pracy dyplomowej w systemie APD. | Y47: P | Z47: - ćwiczenia projektowe | AR47: =IF(SUM(P230:S230)=0,"",$B230) | AV47: =IF(SUM(T230:W230)=0,"",$B230) | AZ47: =IF(SUM(X230:AA230)=0,"",$B230) | BD47: =IF(SUM(AB230:AE230)=0,"",$B230) -> Elementy komunikacji interpersonalnej | BH47: =IF(SUM(AF230:AI230)=0,"",$B230)
Y48: S | Z48: - seminarium | AR48: =IF(SUM(P232:S232)=0,"",$B232) | AV48: =IF(SUM(T232:W232)=0,"",$B232) | AZ48: =IF(SUM(X232:AA232)=0,"",$B232) -> Podstawy marketingowego zarządzania przedsiębiorstwem | BD48: =IF(SUM(AB232:AE232)=0,"",$B232) | BH48: =IF(SUM(AF232:AI232)=0,"",$B232)
Y49: T | Z49: - zajęcia terenowe | AR49: =IF(SUM(P233:S233)=0,"",$B233) | AV49: =IF(SUM(T233:W233)=0,"",$B233) | AZ49: =IF(SUM(X233:AA233)=0,"",$B233) -> Podstawy prowadzenia działalności gospodarczej | BD49: =IF(SUM(AB233:AE233)=0,"",$B233) | BH49: =IF(SUM(AF233:AI233)=0,"",$B233)
Z50: - egzamin | AR50: =IF(SUM(P234:S234)=0,"",$B234) | AV50: =IF(SUM(T234:W234)=0,"",$B234) | AZ50: =IF(SUM(X234:AA234)=0,"",$B234) | BD50: =IF(SUM(AB234:AE234)=0,"",$B234) | BH50: =IF(SUM(AF234:AI234)=0,"",$B234) -> Marketing usług
Z51: - zajęcia realizowane na odległość met. synchroniczną | AR51: =IF(SUM(P235:S235)=0,"",$B235) | AV51: =IF(SUM(T235:W235)=0,"",$B235) | AZ51: =IF(SUM(X235:AA235)=0,"",$B235) | BD51: =IF(SUM(AB235:AE235)=0,"",$B235) -> Planowanie marketingowe | BH51: =IF(SUM(AF235:AI235)=0,"",$B235)
X52: ARKUSZ 1 | AR52: =IF(SUM(P236:S236)=0,"",$B236) | AV52: =IF(SUM(T236:W236)=0,"",$B236) | AZ52: =IF(SUM(X236:AA236)=0,"",$B236) | BD52: =IF(SUM(AB236:AE236)=0,"",$B236) | BH52: =IF(SUM(AF236:AI236)=0,"",$B236) -> Jakościowe badania marketingowe
D53: =D3 -> PLAN STUDIÓW NR IX | AR53: =IF(SUM(P237:S237)=0,"",$B237) | AV53: =IF(SUM(T237:W237)=0,"",$B237) | AZ53: =IF(SUM(X237:AA237)=0,"",$B237) | BD53: =IF(SUM(AB237:AE237)=0,"",$B237) -> Strategia promocji | BH53: =IF(SUM(AF237:AI237)=0,"",$B237)
A54: W Y D Z I A Ł Z A R Z Ą D Z A N I A | AR54: =IF(SUM(P238:S238)=0,"",$B238) | AV54: =IF(SUM(T238:W238)=0,"",$B238) | AZ54: =IF(SUM(X238:AA238)=0,"",$B238) | BD54: =IF(SUM(AB238:AE238)=0,"",$B238) | BH54: =IF(SUM(AF238:AI238)=0,"",$B238) -> Analiza otoczenia organizacji
D55: PROFIL KSZTAŁCENIA: | I55: PROFIL OGÓLNOAKADEMICKI | AR55: =IF(SUM(P239:S239)=0,"",$B239) | AV55: =IF(SUM(T239:W239)=0,"",$B239) | AZ55: =IF(SUM(X239:AA239)=0,"",$B239) | BD55: =IF(SUM(AB239:AE239)=0,"",$B239) -> Kształtowanie nowych produktów | BH55: =IF(SUM(AF239:AI239)=0,"",$B239)
D56: RODZAJ STUDIÓW: | I56: STUDIA PIERWSZEGO STOPNIA (LICENCJACKIE 3-LETNIE) | AR56: =IF(SUM(P240:S240)=0,"",$B240) | AV56: =IF(SUM(T240:W240)=0,"",$B240) | AZ56: =IF(SUM(X240:AA240)=0,"",$B240) | BD56: =IF(SUM(AB240:AE240)=0,"",$B240) -> Seminarium dyplomowe | BH56: =IF(SUM(AF240:AI240)=0,"",$B240) -> Seminarium dyplomowe
D57: FORMA STUDIÓW: | I57: STUDIA STACJONARNE | AR57: =IF(SUM(P241:S241)=0,"",$B241) | AV57: =IF(SUM(T241:W241)=0,"",$B241) | AZ57: =IF(SUM(X241:AA241)=0,"",$B241) | BD57: =IF(SUM(AB241:AE241)=0,"",$B241) | BH57: =IF(SUM(AF241:AI241)=0,"",$B241)
D58: KIERUNEK: | I58: ZARZĄDZANIE | AR58: =IF(SUM(P283:S283)=0,"",$B284) | AV58: =IF(SUM(T283:W283)=0,"",$B284) | AZ58: =IF(SUM(X283:AA283)=0,"",$B284) | BD58: =IF(SUM(AB283:AE283)=0,"",$B284) -> Podejmowanie decyzji w przedsiębiorstwie | BH58: =IF(SUM(AF283:AI283)=0,"",$B284)
D59: SPECJALNOŚĆ: | I59: =I9 -> 1. ZARZĄDZANIE W HANDLU i USŁUGACH | X59: ………………….. | AR59: =IF(SUM(P284:S284)=0,"",$B285) | AV59: =IF(SUM(T284:W284)=0,"",$B285) | AZ59: =IF(SUM(X284:AA284)=0,"",$B285) -> Organizacja pracy w małym i średnim przedsiębiorstwie | BD59: =IF(SUM(AB284:AE284)=0,"",$B285) | BH59: =IF(SUM(AF284:AI284)=0,"",$B285)
I60: =I10 -> 2. MARKETING W ORGANIZACJI | X60: pieczątka uczelni | AR60: =IF(SUM(P285:S285)=0,"",$B286) | AV60: =IF(SUM(T285:W285)=0,"",$B286) | AZ60: =IF(SUM(X285:AA285)=0,"",$B286) | BD60: =IF(SUM(AB285:AE285)=0,"",$B286) | BH60: =IF(SUM(AF285:AI285)=0,"",$B286) -> E- narzędzia wspomagania zarządzania
I61: =I11 -> 3.ZARZĄDZANIE MAŁĄ I ŚREDNIĄ FIRMĄ | AR61: =IF(SUM(P286:S286)=0,"",$B287) | AV61: =IF(SUM(T286:W286)=0,"",$B287) | AZ61: =IF(SUM(X286:AA286)=0,"",$B287) | BD61: =IF(SUM(AB286:AE286)=0,"",$B287) | BH61: =IF(SUM(AF286:AI286)=0,"",$B287) -> Prowadzenie działalności gospodarczej
AR62: =IF(SUM(P287:S287)=0,"",$B289) | AV62: =IF(SUM(T287:W287)=0,"",$B289) | AZ62: =IF(SUM(X287:AA287)=0,"",$B289) -> Planowanie w przedsiębiorstwie | BD62: =IF(SUM(AB287:AE287)=0,"",$B289) | BH62: =IF(SUM(AF287:AI287)=0,"",$B289)
AR63: =IF(SUM(P288:S288)=0,"",#REF!) | AV63: =IF(SUM(T288:W288)=0,"",#REF!) | AZ63: =IF(SUM(X288:AA288)=0,"",#REF!) | BD63: =IF(SUM(AB288:AE288)=0,"",#REF!) | BH63: =IF(SUM(AF288:AI288)=0,"",#REF!) -> #REF!
AR64: =IF(SUM(P289:S289)=0,"",$B290) | AV64: =IF(SUM(T289:W289)=0,"",$B290) | AZ64: =IF(SUM(X289:AA289)=0,"",$B290) | BD64: =IF(SUM(AB289:AE289)=0,"",$B290) -> Analiza danych w przedsiębiorstwie | BH64: =IF(SUM(AF289:AI289)=0,"",$B290)
A65: Pozycja planu | B65: NAZWA PRZEDMIOTU | D65: Liczba | G65: GODZINY | L65: ROZKŁAD ZAJĘĆ w SEMESTRZE | AR65: =IF(SUM(P290:S290)=0,"",#REF!) | AV65: =IF(SUM(T290:W290)=0,"",#REF!) | AZ65: =IF(SUM(X290:AA290)=0,"",#REF!) | BD65: =IF(SUM(AB290:AE290)=0,"",#REF!) -> #REF! | BH65: =IF(SUM(AF290:AI290)=0,"",#REF!)
G66: Razem | H66: w tym | L66: sem. I | P66: sem. II | T66: sem. III | X66: sem. IV | AB66: sem. V | AF66: sem. VI | AR66: =IF(SUM(P292:S292)=0,"",$B292) | AV66: =IF(SUM(T292:W292)=0,"",$B292) | AZ66: =IF(SUM(X292:AA292)=0,"",$B292) | BD66: =IF(SUM(AB292:AE292)=0,"",$B292) -> Analiza rynku | BH66: =IF(SUM(AF292:AI292)=0,"",$B292)
D67: egza-mi-nów | E67: zali-czeń | F67: pkt. ECTS | H67: W | I67: Ć | J67: L | K67: P / S | L67: Liczba godzin w semestrze | AR67: =IF(SUM(P293:S293)=0,"",$B293) | AV67: =IF(SUM(T293:W293)=0,"",$B293) | AZ67: =IF(SUM(X293:AA293)=0,"",$B293) | BD67: =IF(SUM(AB293:AE293)=0,"",$B293) -> Marketing w małej i średniej firmie | BH67: =IF(SUM(AF293:AI293)=0,"",$B293)
L68: W | M68: Ć | N68: L | O68: P/S | P68: W | Q68: Ć | R68: L | S68: P/S | T68: W | U68: Ć | V68: L | W68: P/S | X68: W | Y68: Ć | Z68: L | AA68: P/S | AB68: W | AC68: Ć | AD68: L | AE68: P/S | AF68: W | AG68: Ć | AH68: L | AI68: P/S | AR68: =IF(SUM(P294:S294)=0,"",$B294) | AV68: =IF(SUM(T294:W294)=0,"",$B294) | AZ68: =IF(SUM(X294:AA294)=0,"",$B294) | BD68: =IF(SUM(AB294:AE294)=0,"",$B294) -> Seminarium dyplomowe | BH68: =IF(SUM(AF294:AI294)=0,"",$B294) -> Seminarium dyplomowe
AR69: =IF(SUM(#REF!)=0,"",#REF!) -> #REF! | AV69: =IF(SUM(#REF!)=0,"",#REF!) -> #REF! | AZ69: =IF(SUM(#REF!)=0,"",#REF!) -> #REF! | BD69: =IF(SUM(#REF!)=0,"",#REF!) -> #REF! | BH69: =IF(SUM(#REF!)=0,"",#REF!) -> #REF!
A70: B. | B70: PRZEDMIOTY PODSTAWOWE | AR70: =IF(SUM(#REF!)=0,"",#REF!) -> #REF! | AV70: =IF(SUM(#REF!)=0,"",#REF!) -> #REF! | AZ70: =IF(SUM(#REF!)=0,"",#REF!) -> #REF! | BD70: =IF(SUM(#REF!)=0,"",#REF!) -> #REF! | BH70: =IF(SUM(#REF!)=0,"",#REF!) -> #REF!
A71: 1. | B71: Podstawy zarządzania | D71: 1 | E71: 1 | F71: 6 | G71: =SUM(H71:K71) -> 45 | H71: =L71+P71+T71+X71+AB71+AF71 -> 30 | I71: =M71+Q71+U71+Y71+AC71+AG71 -> 15 | J71: =N71+R71+V71+Z71+AD71+AH71 -> 0 | K71: =O71+S71+W71+AA71+AE71+AI71 -> 0 | L71: 30 | M71: 15 | P71: 0 | T71: 0 | U71: 0 | AK71: 10 | AR71: =IF(SUM(#REF!)=0,"",#REF!) -> #REF! | AV71: =IF(SUM(#REF!)=0,"",#REF!) -> #REF! | AZ71: =IF(SUM(#REF!)=0,"",#REF!) -> #REF! | BD71: =IF(SUM(#REF!)=0,"",#REF!) -> #REF! | BH71: =IF(SUM(#REF!)=0,"",#REF!) -> #REF!
A72: 2. | B72: Nauka o organizacji | D72: 1 | E72: 1 | F72: 5 | G72: =SUM(H72:K72) -> 30 | H72: =L72+P72+T72+X72+AB72+AF72 -> 15 | I72: =M72+Q72+U72+Y72+AC72+AG72 -> 15 | J72: =N72+R72+V72+Z72+AD72+AH72 -> 0 | K72: =O72+S72+W72+AA72+AE72+AI72 -> 0 | M72: 0 | P72: 15 | Q72: 15 | T72: 0 | U72: 0 | AK72: 10 | AR72: =IF(SUM(#REF!)=0,"",#REF!) -> #REF! | AV72: =IF(SUM(#REF!)=0,"",#REF!) -> #REF! | AZ72: =IF(SUM(#REF!)=0,"",#REF!) -> #REF! | BD72: =IF(SUM(#REF!)=0,"",#REF!) -> #REF! | BH72: =IF(SUM(#REF!)=0,"",#REF!) -> #REF!
A73: 3. | B73: Mikroekonomia | D73: 1 | E73: 1 | F73: 7 | G73: =SUM(H73:K73) -> 60 | H73: =L73+P73+T73+X73+AB73+AF73 -> 30 | I73: =M73+Q73+U73+Y73+AC73+AG73 -> 30 | J73: =N73+R73+V73+Z73+AD73+AH73 -> 0 | K73: =O73+S73+W73+AA73+AE73+AI73 -> 0 | L73: 30 | M73: 30 | P73: 0 | T73: 0 | U73: 0 | AK73: 15 | AR73: =IF(SUM(#REF!)=0,"",#REF!) -> #REF! | AV73: =IF(SUM(#REF!)=0,"",#REF!) -> #REF! | AZ73: =IF(SUM(#REF!)=0,"",#REF!) -> #REF! | BD73: =IF(SUM(#REF!)=0,"",#REF!) -> #REF! | BH73: =IF(SUM(#REF!)=0,"",#REF!) -> #REF!
A74: 4. | B74: Finanse | E74: 2 | F74: 3 | G74: =SUM(H74:K74) -> 30 | H74: =L74+P74+T74+X74+AB74+AF74 -> 15 | I74: =M74+Q74+U74+Y74+AC74+AG74 -> 15 | J74: =N74+R74+V74+Z74+AD74+AH74 -> 0 | K74: =O74+S74+W74+AA74+AE74+AI74 -> 0 | M74: 0 | T74: 15 | U74: 15 | AK74: 10 | AR74: =IF(SUM(#REF!)=0,"",#REF!) -> #REF! | AV74: =IF(SUM(#REF!)=0,"",#REF!) -> #REF! | AZ74: =IF(SUM(#REF!)=0,"",#REF!) -> #REF! | BD74: =IF(SUM(#REF!)=0,"",#REF!) -> #REF! | BH74: =IF(SUM(#REF!)=0,"",#REF!) -> #REF!
A75: 5. | B75: Prawo | D75: 1 | E75: 1 | F75: 5 | G75: =SUM(H75:K75) -> 60 | H75: =L75+P75+T75+X75+AB75+AF75 -> 30 | I75: =M75+Q75+U75+Y75+AC75+AG75 -> 30 | J75: =N75+R75+V75+Z75+AD75+AH75 -> 0 | K75: =O75+S75+W75+AA75+AE75+AI75 -> 0 | M75: 0 | P75: 30 | Q75: 30 | T75: 0 | U75: 0 | AK75: 10 | AR75: =IF(SUM(#REF!)=0,"",#REF!) -> #REF! | AV75: =IF(SUM(#REF!)=0,"",#REF!) -> #REF! | AZ75: =IF(SUM(#REF!)=0,"",#REF!) -> #REF! | BD75: =IF(SUM(#REF!)=0,"",#REF!) -> #REF! | BH75: =IF(SUM(#REF!)=0,"",#REF!) -> #REF!
A76: 6. | B76: Matematyka | D76: 1 | E76: 1 | F76: 7 | G76: =SUM(H76:K76) -> 60 | H76: =L76+P76+T76+X76+AB76+AF76 -> 30 | I76: =M76+Q76+U76+Y76+AC76+AG76 -> 30 | J76: =N76+R76+V76+Z76+AD76+AH76 -> 0 | K76: =O76+S76+W76+AA76+AE76+AI76 -> 0 | L76: 30 | M76: 30 | P76: 0 | T76: 0 | U76: 0 | AK76: 20 | AR76: =IF(SUM(#REF!)=0,"",#REF!) -> #REF! | AV76: =IF(SUM(#REF!)=0,"",#REF!) -> #REF! | AZ76: =IF(SUM(#REF!)=0,"",#REF!) -> #REF! | BD76: =IF(SUM(#REF!)=0,"",#REF!) -> #REF! | BH76: =IF(SUM(#REF!)=0,"",#REF!) -> #REF!
A77: 7. | B77: Statystyka opisowa | D77: 1 | E77: 1 | F77: 6 | G77: =SUM(H77:K77) -> 45 | H77: =L77+P77+T77+X77+AB77+AF77 -> 15 | I77: =M77+Q77+U77+Y77+AC77+AG77 -> 30 | J77: =N77+R77+V77+Z77+AD77+AH77 -> 0 | K77: =O77+S77+W77+AA77+AE77+AI77 -> 0 | M77: 0 | P77: 15 | Q77: 30 | T77: 0 | U77: 0 | AK77: 30 | AR77: =IF(SUM(#REF!)=0,"",#REF!) -> #REF! | AV77: =IF(SUM(#REF!)=0,"",#REF!) -> #REF! | AZ77: =IF(SUM(#REF!)=0,"",#REF!) -> #REF! | BD77: =IF(SUM(#REF!)=0,"",#REF!) -> #REF! | BH77: =IF(SUM(#REF!)=0,"",#REF!) -> #REF!
G78: =SUM(H78:K78) -> 0 | H78: =L78+P78+T78+X78+AB78+AF78 -> 0 | I78: =M78+Q78+U78+Y78+AC78+AG78 -> 0 | J78: =N78+R78+V78+Z78+AD78+AH78 -> 0 | K78: =O78+S78+W78+AA78+AE78+AI78 -> 0 | T78: 0 | AR78: =IF(SUM(#REF!)=0,"",#REF!) -> #REF! | AV78: =IF(SUM(#REF!)=0,"",#REF!) -> #REF! | AZ78: =IF(SUM(#REF!)=0,"",#REF!) -> #REF! | BD78: =IF(SUM(#REF!)=0,"",#REF!) -> #REF! | BH78: =IF(SUM(#REF!)=0,"",#REF!) -> #REF!
B79: RAZEM | D79: =SUM(D71:D78) -> 6 | E79: =SUM(E71:E78) -> 8 | F79: =SUM(F71:F78) -> 39 | G79: =SUM(G71:G78) -> 330 | H79: =SUM(H71:H78) -> 165 | I79: =SUM(I71:I78) -> 165 | J79: =SUM(J71:J78) -> 0 | K79: =SUM(K71:K78) -> 0 | ... AI79: =SUM(AI71:AI78) -> 0 | AR79: =IF(SUM(#REF!)=0,"",#REF!) -> #REF! | AV79: =IF(SUM(#REF!)=0,"",#REF!) -> #REF! | AZ79: =IF(SUM(#REF!)=0,"",#REF!) -> #REF! | BD79: =IF(SUM(#REF!)=0,"",#REF!) -> #REF! | BH79: =IF(SUM(#REF!)=0,"",#REF!) -> #REF!
L80: =SUM(L79:O79) -> 165 | P80: =SUM(P79:S79) -> 135 | T80: =SUM(T79:W79) -> 30 | X80: =SUM(X79:AA79) -> 0 | AB80: =SUM(AB79:AE79) -> 0 | AF80: =SUM(AF79:AI79) -> 0 | AJ80: =SUM(L80:AI80)=G79 -> TRUE | AR80: =IF(SUM(#REF!)=0,"",#REF!) -> #REF! | AV80: =IF(SUM(#REF!)=0,"",#REF!) -> #REF! | AZ80: =IF(SUM(#REF!)=0,"",#REF!) -> #REF! | BD80: =IF(SUM(#REF!)=0,"",#REF!) -> #REF! | BH80: =IF(SUM(#REF!)=0,"",#REF!) -> #REF!
A81: PODSUMOWANIE ARKUSZA 1+2 | D81: egza-mi-nów | E81: zali-czeń | F81: pkt. ECTS | G81: Razem | H81: W | I81: Ć | J81: L | K81: P / S | L81: sem. I | P81: sem. II | T81: sem. III | X81: sem. IV | AB81: sem. V | AF81: sem. VI
L82: W | M82: Ć | N82: L | O82: P/S | P82: W | Q82: Ć | R82: L | S82: P/S | T82: W | U82: Ć | V82: L | W82: P/S | X82: W | Y82: Ć | Z82: L | AA82: P/S | AB82: W | AC82: Ć | AD82: L | AE82: P/S | AF82: W | AG82: Ć | AH82: L | AI82: P/S | AR82: =COUNTA(AR4:AR80)-COUNTIF(AR4:AR80,"") -> 20 | AV82: =COUNTA(AV4:AV80)-COUNTIF(AV4:AV80,"") -> 19 | AZ82: =COUNTA(AZ4:AZ36)-COUNTIF(AZ4:AZ36,"") -> 4 | BD82: =COUNTA(BD4:BD36)-COUNTIF(BD4:BD36,"") -> 2 | BH82: =COUNTA(BH4:BH36)-COUNTIF(BH4:BH36,"") -> 0
AZ83: D1 | BA83: =$AZ$82+COUNTA(AZ37:AZ46)-COUNTIF(AZ37:AZ46,"") -> 6 | BD83: D1 | BE83: =$BD$82+COUNTA(BD37:BD46)-COUNTIF(BD37:BD46,"") -> 7 | BH83: D1 | BI83: =$BH$82+COUNTA(BH37:BH46)-COUNTIF(BH37:BH46,"") -> 4
D84: =SUM(D30+D79) -> 7 | E84: =SUM(E30+E79) -> 24 | F84: =SUM(F30+F79) -> 59 | G84: =SUM(G30+G79) -> 690 | H84: =SUM(H30+H79) -> 270 | I84: =SUM(I30+I79) -> 285 | J84: =SUM(J30+J79) -> 135 | K84: =SUM(K30+K79) -> 0 | ... AI84: =SUM(AI30+AI79) -> 0 | AZ84: D2 | BA84: =$AZ$82+COUNTA(AZ47:AZ58)-COUNTIF(AZ47:AZ58,"") -> 6 | BD84: D2 | BE84: =$BD$82+COUNTA(BD47:BD58)-COUNTIF(BD47:BD58,"") -> 8 | BH84: D2 | BI84: =$BH$82+COUNTA(BH47:BH58)-COUNTIF(BH47:BH58,"") -> 4
L85: =SUM(L84:O84) -> 315 | P85: =SUM(P84:S84) -> 285 | T85: =SUM(T84:W84) -> 60 | X85: =SUM(X84:AA84) -> 30 | AB85: =SUM(AB84:AE84) -> 0 | AF85: =SUM(AF84:AI84) -> 0 | AJ85: =SUM(L85:AI85)=G84 -> TRUE | AZ85: D3 | BA85: =$AZ$82+COUNTA(AZ57:AZ68)-COUNTIF(AZ57:AZ68,"") -> 6 | BD85: D3 | BE85: =$BD$82+COUNTA(BD57:BD68)-COUNTIF(BD57:BD68,"") -> 8 | BH85: D3 | BI85: =$BH$82+COUNTA(BH57:BH68)-COUNTIF(BH57:BH68,"") -> 4
D86: Liczba: | G86: egzaminów | L86: =SUM(L37,IF(SUM(L73:O73)>0,$D73,0),IF(SUM(L72:O72)>0,$D72,0),IF(SUM(L74:O74)>0,$D74,0),IF(SUM(L75:O75)>0,$D75,0),IF(SUM(L76:O76)>0,$D76,0),IF(SUM(L77:O77)>0,$D77,0),IF(SUM(L78:O78)>0,$D78,0),IF(SUM(L71:O71)>0,$D71,0)) -> 4 | P86: =SUM(P37,IF(SUM(P73:S73)>0,$D73,0),IF(SUM(P72:S72)>0,$D72,0),IF(SUM(P74:S74)>0,$D74,0),IF(SUM(P75:S75)>0,$D75,0),IF(SUM(P76:S76)>0,$D76,0),IF(SUM(P77:S77)>0,$D77,0),IF(SUM(P78:S78)>0,$D78,0),IF(SUM(P71:S71)>0,$D71,0)) -> 3 | T86: =SUM(T37,IF(SUM(T73:W73)>0,$D73,0),IF(SUM(T72:W72)>0,$D72,0),IF(SUM(T74:W74)>0,$D74,0),IF(SUM(T75:W75)>0,$D75,0),IF(SUM(T76:W76)>0,$D76,0),IF(SUM(T77:W77)>0,$D77,0),IF(SUM(T78:W78)>0,$D78,0),IF(SUM(T71:W71)>0,$D71,0)) -> 0 | X86: =SUM(X37,IF(SUM(X73:AA73)>0,$D73,0),IF(SUM(X72:AA72)>0,$D72,0),IF(SUM(X74:AA74)>0,$D74,0),IF(SUM(X75:AA75)>0,$D75,0),IF(SUM(X76:AA76)>0,$D76,0),IF(SUM(X77:AA77)>0,$D77,0),IF(SUM(X78:AA78)>0,$D78,0),IF(SUM(X71:AA71)>0,$D71,0)) -> 0 | AB86: =SUM(AB37,IF(SUM(AB73:AE73)>0,$D73,0),IF(SUM(AB72:AE72)>0,$D72,0),IF(SUM(AB74:AE74)>0,$D74,0),IF(SUM(AB75:AE75)>0,$D75,0),IF(SUM(AB76:AE76)>0,$D76,0),IF(SUM(AB77:AE77)>0,$D77,0),IF(SUM(AB78:AE78)>0,$D78,0),IF(SUM(AB71:AE71)>0,$D71,0)) -> 0 | AF86: =SUM(AF37,IF(SUM(AF73:AI73)>0,$D73,0),IF(SUM(AF72:AI72)>0,$D72,0),IF(SUM(AF74:AI74)>0,$D74,0),IF(SUM(AF75:AI75)>0,$D75,0),IF(SUM(AF76:AI76)>0,$D76,0),IF(SUM(AF77:AI77)>0,$D77,0),IF(SUM(AF78:AI78)>0,$D78,0),IF(SUM(AF71:AI71)>0,$D71,0)) -> 0 | AJ86: =SUM(L86:AI86) -> 7 | AK86: =AJ86=D84 -> TRUE | AZ86: D4 | BA86: =$AZ$82+COUNTA(AZ69:AZ80)-COUNTIF(AZ69:AZ80,"") -> 16 | BD86: D4 | BE86: =$BD$82+COUNTA(BD69:BD80)-COUNTIF(BD69:BD80,"") -> 14 | BH86: D4 | BI86: =$BH$82+COUNTA(BH69:BH80)-COUNTIF(BH69:BH80,"") -> 12
G87: zaliczeń | L87: =SUM(L38,IF(SUM(L74:O74)>0,$E74,0),IF(SUM(L73:O73)>0,$E73,0),IF(SUM(L75:O75)>0,$E75,0),IF(SUM(L76:O76)>0,$E76,0),IF(SUM(L77:O77)>0,$E77,0),IF(SUM(L78:O78)>0,$E78,0),IF(SUM(L71:O71)>0,$E71,0),IF(SUM(L72:O72)>0,$E72,0)) -> 10 | P87: =SUM(P38,IF(SUM(P74:S74)>0,$E74,0),IF(SUM(P73:S73)>0,$E73,0),IF(SUM(P75:S75)>0,$E75,0),IF(SUM(P76:S76)>0,$E76,0),IF(SUM(P77:S77)>0,$E77,0),IF(SUM(P78:S78)>0,$E78,0),IF(SUM(P71:S71)>0,$E71,0),IF(SUM(P72:S72)>0,$E72,0)) -> 10 | T87: =SUM(T38,IF(SUM(T74:W74)>0,$E74,0),IF(SUM(T73:W73)>0,$E73,0),IF(SUM(T75:W75)>0,$E75,0),IF(SUM(T76:W76)>0,$E76,0),IF(SUM(T77:W77)>0,$E77,0),IF(SUM(T78:W78)>0,$E78,0),IF(SUM(T71:W71)>0,$E71,0),IF(SUM(T72:W72)>0,$E72,0)) -> 3 | X87: =SUM(X38,IF(SUM(X74:AA74)>0,$E74,0),IF(SUM(X73:AA73)>0,$E73,0),IF(SUM(X75:AA75)>0,$E75,0),IF(SUM(X76:AA76)>0,$E76,0),IF(SUM(X77:AA77)>0,$E77,0),IF(SUM(X78:AA78)>0,$E78,0),IF(SUM(X71:AA71)>0,$E71,0),IF(SUM(X72:AA72)>0,$E72,0)) -> 1 | AB87: =SUM(AB38,IF(SUM(AB74:AE74)>0,$E74,0),IF(SUM(AB73:AE73)>0,$E73,0),IF(SUM(AB75:AE75)>0,$E75,0),IF(SUM(AB76:AE76)>0,$E76,0),IF(SUM(AB77:AE77)>0,$E77,0),IF(SUM(AB78:AE78)>0,$E78,0),IF(SUM(AB71:AE71)>0,$E71,0),IF(SUM(AB72:AE72)>0,$E72,0)) -> 0 | AF87: =SUM(AF38,IF(SUM(AF74:AI74)>0,$E74,0),IF(SUM(AF73:AI73)>0,$E73,0),IF(SUM(AF75:AI75)>0,$E75,0),IF(SUM(AF76:AI76)>0,$E76,0),IF(SUM(AF77:AI77)>0,$E77,0),IF(SUM(AF78:AI78)>0,$E78,0),IF(SUM(AF71:AI71)>0,$E71,0),IF(SUM(AF72:AI72)>0,$E72,0)) -> 0 | AJ87: =SUM(L87:AI87) -> 24 | AK87: =AJ87=E84 -> TRUE
G88: pkt. ECTS | L88: =SUM(L39,IF(SUM(L75:O75)>0,$F75,0),IF(SUM(L74:O74)>0,$F74,0),IF(SUM(L76:O76)>0,$F76,0),IF(SUM(L77:O77)>0,$F77,0),IF(SUM(L78:O78)>0,$F78,0),IF(SUM(L72:O72)>0,$F72,0),IF(SUM(L71:O71)>0,$F71,0),IF(SUM(L73:O73)>0,$F73,0)) -> 30 | P88: =SUM(P39,IF(SUM(P75:S75)>0,$F75,0),IF(SUM(P74:S74)>0,$F74,0),IF(SUM(P76:S76)>0,$F76,0),IF(SUM(P77:S77)>0,$F77,0),IF(SUM(P78:S78)>0,$F78,0),IF(SUM(P72:S72)>0,$F72,0),IF(SUM(P71:S71)>0,$F71,0),IF(SUM(P73:S73)>0,$F73,0)) -> 23 | T88: =SUM(T39,IF(SUM(T75:W75)>0,$F75,0),IF(SUM(T74:W74)>0,$F74,0),IF(SUM(T76:W76)>0,$F76,0),IF(SUM(T77:W77)>0,$F77,0),IF(SUM(T78:W78)>0,$F78,0),IF(SUM(T72:W72)>0,$F72,0),IF(SUM(T71:W71)>0,$F71,0),IF(SUM(T73:W73)>0,$F73,0)) -> 4 | X88: =SUM(X39,IF(SUM(X75:AA75)>0,$F75,0),IF(SUM(X74:AA74)>0,$F74,0),IF(SUM(X76:AA76)>0,$F76,0),IF(SUM(X77:AA77)>0,$F77,0),IF(SUM(X78:AA78)>0,$F78,0),IF(SUM(X72:AA72)>0,$F72,0),IF(SUM(X71:AA71)>0,$F71,0),IF(SUM(X73:AA73)>0,$F73,0)) -> 2 | AB88: =SUM(AB39,IF(SUM(AB75:AE75)>0,$F75,0),IF(SUM(AB74:AE74)>0,$F74,0),IF(SUM(AB76:AE76)>0,$F76,0),IF(SUM(AB77:AE77)>0,$F77,0),IF(SUM(AB78:AE78)>0,$F78,0),IF(SUM(AB72:AE72)>0,$F72,0),IF(SUM(AB71:AE71)>0,$F71,0),IF(SUM(AB73:AE73)>0,$F73,0)) -> 0 | AF88: =SUM(AF39,IF(SUM(AF75:AI75)>0,$F75,0),IF(SUM(AF74:AI74)>0,$F74,0),IF(SUM(AF76:AI76)>0,$F76,0),IF(SUM(AF77:AI77)>0,$F77,0),IF(SUM(AF78:AI78)>0,$F78,0),IF(SUM(AF72:AI72)>0,$F72,0),IF(SUM(AF71:AI71)>0,$F71,0),IF(SUM(AF73:AI73)>0,$F73,0)) -> 0 | AJ88: =SUM(L88:AI88) -> 59 | AK88: =AJ88=F84 -> TRUE | AR88: =P196 -> 360 | AS88: =Q196 -> 0 | AT88: =R196 -> 0 | AU88: =S196 -> 0 | AV88: =T196 -> 345 | AW88: =U196 -> 0 | AX88: =V196 -> 0 | AY88: =W196 -> 0 | ... BK88: =AI196 -> 0
A89: UWAGI: | AR89: =P249 -> 360 | AV89: =T249 -> 345 | AZ89: =X249 -> 315 | BD89: =AB249 -> 330 | BH89: =AF249 -> 165
B90: =$B$41 -> 1. Dla studentów I roku studiów stacjonarnych I stopnia wszystkie formy zajęć dydaktycznych przewidziane w planie studiów są obowiązkowe. | Y90: =Y41 -> Obowiązuje od roku akademickiego: 2023/2024 | AR90: =P303 -> 360 | AV90: =T303 -> 345 | AZ90: =X303 -> 285 | BD90: =AB303 -> 345 | BH90: =AF303 -> 180
B91: =$B$42 -> Na wyższych latach obowiązkowe są: ćwiczenia audytoryjne, laboratoryjne, lektoraty, zajęcia: sportowe, terenowe, projektowe, plenerowe i seminaria. | AR91: =#REF! -> #REF! | AV91: =#REF! -> #REF! | AZ91: =#REF! -> #REF! | BD91: =#REF! -> #REF! | BH91: =#REF! -> #REF!
B92: =$B$43 -> 2. Studentów obowiązuje zaliczenie na ocenę wszystkich przedmiotów. | Y92: Legenda:
B93: =$B$44 -> 3. Studentów obowiązuje zaliczenie na ocenę praktyki zawodowej w wymiarze 4 tygodni (4 pkt. ECTS). | Y93: W | Z93: - wykład
B94: =$B$45 -> 4. Język obcy do wyboru spośród: 1. Język angielski. 2. Język niemiecki. 3. Język rosyjski. | Y94: Ć | Z94: - ćwiczenia audytoryjne
B95: =$B$46 -> 5. Język obcy 1-3 semstr 1 ECTS, 4 semestr 2 ECTS. | Y95: L | Z95: - ćwiczenia laboratoryjne, lektorat języków obcych
B96: =$B$47 -> 6. Warunkiem zaliczenia ostatniego semestru Seminarium dyplomowego jest przygotowanie i złożenie pracy dyplomowej w systemie APD. | Y96: P | Z96: - ćwiczenia projektowe
Y97: S | Z97: - seminarium
Y98: T | Z98: - zajęcia terenowe
Z99: - egzamin
Z100: - zajęcia realizowane na odległość met. synchroniczną
X101: ARKUSZ 2
...

Sheet nie dot 2
B1: Załącznik nr 2 do uchwały nr …/… Senatu PBŚ z dnia 22 lutego 2023 r. | G1: nakład pracy studenta: | H1: 1 ECTS | I1: 25
G2: 0.5 | H2: =I2*I1 -> 2250 | I2: =I5/2 -> 90
H4: godziny | I4: ECTS
A5: Informacje ogólne o programie studiów | G5: łączna liczba z planu studiów | H5: 1830 | I5: 180
G6: Przygotowanie i złożenie pracy | I6: 10
A7: KIERUNEK: | B7: ZARZĄDZANIE | G7: konsultacje: | H7: =MIN('nie dot 1'!AM6:AM9) -> 502
A8: PROFIL: | B8: PROFIL OGÓLNOAKADEMICKI | G8: RAZEM MIN | H8: =H5+H7 -> 2332
A9: POZIOM STUDIÓW: | B9: STUDIA PIERWSZEGO STOPNIA (3-letnie)
A10: FORMA STUDIÓW: | B10: STUDIA STACJONARNE
A13: łączna liczba godzin zajęć dydaktycznych | C13: ='nie dot 1'!G195 -> 1830 | D13: godz.
A14: łączna liczba pkt. ECTS jaką student musi uzyskać w ramach zajęć prowadzonych z bezpośrednim udziałem NA lub innych osób prowadzących zajęcia (w przypadku studiów stacjonarnych ponad 50% z ogólnej liczby pkt. ECTS) | C14: =H8/I1 -> 93.28 | D14: pkt. ECTS | G14: =C14/I5 -> 0.51822222 | H14: %ECTS
A15: liczba pkt. ECTS jaką student musi uzyskać w ramach zajęć z dziedziny nauk humanistycznych lub nauk społecznych (nie mniej niż 5 pkt. ECTS, nie dotyczy kierunków przyporządkowanych do dziedziny nauk humanistycznych lub nauk społecznych) | C15: ='[1]Podział dyscyplin (plan9)'!$C$90 -> 173 | D15: pkt. ECTS | E15: nauki humanistyczne+społeczne
A16: liczba pkt. ECTS za zajęcia do wyboru (nie mniej niż 30% z ogólnej liczby pkt. ECTS) | C16: ='nie dot 1'!F190+'nie dot 1'!F21 -> 70 | D16: pkt. ECTS | E16: specjalność+języki | G16: =C16/$I$5 -> 0.38888889 | H16: %ECTS
A17: zajęcia związane z prowadzoną w uczelni działalnością naukową w dyscyplinie / dyscyplinach, do których przyporządkowano kierunek studiów wskazać wyłącznie dla kierunku o profilu ogólnoakademickim (ponad 50% z ogólnej liczby pkt. ECTS) | C17: ='[1]Podział dyscyplin (plan9)'!$C$93 -> 159 | D17: pkt. ECTS | E17: nauki o zarządzaniu i jakości+ekonomia i finanse | G17: =C17/$I$5 -> 0.88333333 | H17: %ECTS
A18: zajęcia kształtujące umiejętności praktyczne wskazać wyłacznie dla kierunku o profilu praktycznym (ponad 50% z ogólnej liczby pkt. ECTS) | C18: nie dotyczy

Sheet AnalizaSS (2015)
A1: ANALIZA ZGODNOŚCI PLANU STUDIÓW Z WYTYCZNYMI DLA RAD PODSTAWOWYCH JEDNOSTEK ORGANIZACYJNYCH
A2: W SPRAWIE TWORZENIA NOWYCH I WERYFIKACJI ISTNIEJĄCYCH PROGRAMÓW STUDIÓW W UTP
B4: Jednostka prowadząca kierunek studiów | E4: WYDZIAŁ ZARZĄDZANIA
B5: Nazwa kierunku studiów | E5: ZARZĄDZANIE
B6: Rok akademicki, od którego obowiązuje plan studiów | E6: 2015/2016
B7: Numer planu studiów | E7: VII
B8: Forma studiów | E8: STACJONARNE
B9: Poziom studiów | E9: I STOPNIA
B10: OGÓLNA LICZBA GODZIN | E10: ='nie dot 1'!#REF! -> #REF! | F10: OGÓLNA LICZBA PKT. ECTS | J10: ='nie dot 1'!#REF! -> #REF!
B11: B I L A N S G O D Z I N I P U N K T Ó W E C T S 1
B12: Przedmiot/moduł | F12: Godziny | H12: Pozycje planu | I12: Punkty ECTS
F13: Liczba | G13: % | I13: Liczba | J13: %
B14: Zajęcia z obszaru nauk humanistycznych i nauk społecznych łącznie: | F14: program studiów uwzględnia szereg przedmiotów z zakresu nauk humanistycznych i nauk społecznych
B15: 1. | C15: w tym w zakresie ochrony własności intelektualnej i/lub bezpieczeństwa i higieny pracy 2 | F15: ='nie dot 1'!G26+'nie dot 1'!G27 -> 30 | G15: =F15/$E$10 -> #REF! | H15: A.6, A.7 | I15: ='nie dot 1'!F26+'nie dot 1'!F27 -> 4 | J15: =I15/$J$10 -> #REF!
B16: 2. | C16: w tym w zakresie podstaw przedsiębiorczości i uzyskiwania tzw. kompetencji miękkich 2 | F16: program studiów uwzględnia szereg przedmiotów z zakresu przedsiębiorczości i uzyskiwania tzw. kompetencji miękkich
B17: 3. | C17: w tym inne zajęcia z zakresu nauk humanistycznych i nauk społecznych, nieujęte w pkt 1 i 2 | F17: program studiów uwzględnia szereg przedmiotów z zakresu nauk humanistycznych i nauk społecznych
B18: Zajęcia z języków obcych | F18: ='nie dot 1'!G21 -> 120 | G18: =F18/$E$10 -> #REF! | H18: A.1 | I18: ='nie dot 1'!F21 -> 5 | J18: =I18/$J$10 -> #REF!
B19: Zajęcia z wychowania fizycznego | F19: ='nie dot 1'!G29 -> 60 | G19: =F19/$E$10 -> #REF! | H19: A.8 | I19: ='nie dot 1'!F29 -> 0 | J19: =I19/$J$10 -> #REF!
B20: Zajęcia z technologii informacyjnych 2 | F20: ='nie dot 1'!G22 -> 15 | G20: =F20/$E$10 -> #REF! | H20: A.2 | I20: ='nie dot 1'!F22 -> 2 | J20: =I20/$J$10 -> #REF!
B21: Seminarium dyplomowe | F21: ='nie dot 1'!G187 -> 60 | G21: =F21/$E$10 -> #REF! | H21: D.1.11, D.2.11 D.3.11, D.3.12 | I21: ='nie dot 1'!F187 -> 4 | J21: =I21/$J$10 -> #REF!
B22: Praktyka zawodowa 3 | F22: x | G22: x | H22: D.1.12, D.2.12 D.3.12, D.3.13 | I22: ='nie dot 1'!F188 -> 4 | J22: =I22/$J$10 -> #REF!
B23: Przygotowanie i złożenie pracy dyplomowej oraz przygotowanie do egzaminu dyplomowego | F23: x | G23: x | H23: D.1.13, D.2.13 D.3.13, D.3.14 | I23: ='nie dot 1'!F189 -> 10 | J23: =I23/$J$10 -> #REF!
B25: Zajęci ogólnouczelniane niezwiązane z kierunkiem studiów lub zajęcia na innym kierunku | F25: =F18+F19 -> 180 | G25: =F25/$E$10 -> #REF! | I25: =I18+I19 -> 5 | J25: =I25/$J$10 -> #REF!
B27: Zajęcia do wyboru (co najmniej 30% ECTS) | F27: =F33 -> 450 | G27: =F27/$E$10 -> #REF! | I27: =I33-I23 -> 55 | J27: =I27/$J$10 -> #REF!
B29: Przedmioty z zakresu nauk podstawowych | F29: ='nie dot 1'!G79 -> 330 | G29: =F29/$E$10 -> #REF! | I29: ='nie dot 1'!F79 -> 39 | J29: =I29/$J$10 -> #REF!
B31: Przedmioty kierunkowe | F31: ='nie dot 1'!G137 -> 690 | G31: =F31/$E$10 -> #REF! | I31: ='nie dot 1'!F137 -> 56 | J31: =I31/$J$10 -> #REF!
B33: Przedmioty specjalnościowe | F33: ='nie dot 1'!G190 -> 450 | G33: =F33/$E$10 -> #REF! | I33: ='nie dot 1'!F190 -> 65 | J33: =I33/$J$10 -> #REF! | R33: wykłady (min 45%)
B35: Zajęcia o charakterze praktycznym | F35: =N35&"-"&M35 -> #REF! | G35: 54-55% | I35: =P35 -> #REF! | J35: =I35/$J$10 -> #REF! | M35: =$E$10-MIN('nie dot 1'!#REF!,'nie dot 1'!$H$302,'nie dot 1'!$H$248,'nie dot 1'!$H$195) -> #REF! | N35: =$E$10-MAX('nie dot 1'!#REF!,'nie dot 1'!$H$302,'nie dot 1'!$H$248,'nie dot 1'!$H$195) -> #REF! | P35: ='nie dot 1'!#REF!-'nie dot 1'!#REF!-'nie dot 1'!#REF!-'nie dot 1'!#REF!-'nie dot 1'!F27-'nie dot 1'!F26 -> #REF! | Q35: ='nie dot 1'!#REF!-'nie dot 1'!#REF!-'nie dot 1'!#REF!-'nie dot 1'!#REF!-'nie dot 1'!F27-'nie dot 1'!F26 -> #REF! | R35: =MIN('nie dot 1'!#REF!,'nie dot 1'!$H$302,'nie dot 1'!$H$248,'nie dot 1'!$H$195) -> #REF!
B37: Zajęcia wymagające bezpośredniego udziału nauczyciela akademickiego | F37: =E10 -> #REF! | G37: =F37/$E$10 -> #REF! | I37: =J10-I22-I23 -> #REF! | J37: =I37/$J$10 -> #REF! | M37: =M35/$E$10 -> #REF! | N37: =N35/$E$10 -> #REF! | P37: =P35/J10 -> #REF! | R37: =R35/$E$10 -> #REF! | T37: =T35/$E$10 -> #REF! | U37: =U35/$E$10 -> #REF!
B39: Zajęcia powiązane z prowadzonymi badaniami naukowymi w dziedzeninie nauki / sztuki związanej z kierunkiem studiów służące zdobywaniu pogłębionej wiedzy i umiejętności prowadzenia badań naukowych 4 | F39: =F31+F33 -> 1140 | G39: =F39/$E$10 -> #REF! | I39: =I31+I33 -> 121 | J39: =I39/$J$10 -> #REF!
B41: Zajęcia powiązane z praktycznym przygotowaniem zawodowym służące zdobywaniu umiejętności praktycznych i kompetencji społecznych, prowadzone w warunkach właściwych dla danego zakresu działalności zawodowej, w sposób umożliwiający wykonywanie określonych czynności praktycznych i przez osoby, z których większość posiada doświadczenie zawodowe zdobyte poza uczelnią odpowiadające zakresowi tych zajęć5 | F41: nie dotyczy
B43: Procentowy udział liczby punktów ECTS dla obszarów kształcenia w programie studiów dla kierunków przyporządkowanych do więcej niż jednego obszaru kształcenia
B44: 1. obszar kształcenia w zakresie NAUK SPOŁECZNYCH | I44: 1
B45: 2. obszar kształcenia w zakresie …
B46: 3. obszar kształcenia w zakresie …
B47: ŁĄCZNIE: | I47: 100% pkt. ECTS
B48: 1 w ogólnej liczbie godzin i punktów ECTS przewidzianych w planie studiów
B49: 2 niewymagane dla studiów II stopnia | F49: ……………………………………………
B50: 3 niewymagane na studiach II stopnia o profilu ogólnoakademickim | F50: pieczątka i podpis kierownika samodzielnej jednostki
B51: 4dotyczy jedynie studiów o profilu ogólnoakademickim, wymagana realizacja zajęć powiązanych z prowadzonymi badaniami naukowymi w dziedzinie wyszczególnionej w opisie efektów kształcenia w wymiarze ponad 50% ogólnej liczby pkt. ECTS (wymagane dostosowanie programów prowadzonych kierunków studiów zgodnie z terminem określonym w pkt VII.5 wytycznych Senatu)
B52: 5dotyczy jedynie studiów o profilu praktycznym, wymagana realizacja zajęć powiązanych z praktycznym przygotowaniem zawodowym w wymiarze ponad 50% ogólnej liczby pkt. ECTS (wymagane dostosowanie programów prowadzonych kierunków studiów zgodnie z terminem określonym w pkt VII.5 wytycznych Senatu) | F52: ZATWIERDZAM
F53: ………………………………………………………
F54: Prorektor ds. Dydaktycznych i Studenckich
